Workbook

Sheet Introduction
A1: What I did: I created a spreadsheet containing data of nearly 50 so-called "adventure bikes", starting from the legendary Yamaha XT 500 up to current premium bikes as the BMW R 1250 GS (currently the most sold bike in Germany) and the exotic race bike KTM 450 Rally. For my comparison I had do define criterias and to create kind of a metrics. What qualities does a ADV bike require? - reliability and robustness - all the bikes in the list are supposed to be reliable and robust - sufficient engine power - low weight - sufficient load capacity - sufficient suspension travel - low fuel consumption (values were taken from www.spritmonitor.de, if available) - high fuel mileage - a good price-performance-ratio
A2: How I did it: I gave 0 to 100 points, depending on performance in each quality. 100 points for the bike with - highest power, load capacity, suspension travel, fuel mileage - lowest weight and fuel consumption 0 points for - 0 horse powers, 0 load capacity, 0 suspension travel and fuel mileage - highest weight and fuel consumption Then I calculated a linear relation for each quality, excerpt the engine power. As twice the power does not mean twice the performance, I used a quadratic ratio, means four times the power would give twice the points. Finally, I had to come to a result: As a chain is a strong as its weakest link, I think the performance of a bike can't better than its poorest quality. So I did not simply add the points, as most of the know comparisons do. I multiplied the points of each quality of the respective bike and calculated the root from the products. As engine power is more important on road, but less important off-road, I calculated with and without taking account of the engine power. And then I divided the original price (in Germany) by the points to get the price-performance-ratio.

Sheet Data
A1: Model | B1: Datasheet | C1: Engine displacement [ccm] | D1: Engine power [bhp] | E1: Engine Power [kW] | F1: at rpm | G1: Max. Torque [Nm] | H1: at rpm | I1: Specif. Power [kW/litre] | J1: Specif. Torque [Nm/litre] | K1: Torque Elasticity | L1: RPM Elasticity | M1: Engine Elasticity | N1: Avg. working pressure [bar] | O1: Seat Height, unloaded [mm] | P1: Seat Height, loaded [mm] | Q1: Dry weight [kg] | R1: Curb weight [kg] | S1: Load capacity [kg] | T1: Suspension travel front [mm] | U1: Suspension travel rear [mm] | V1: Avg. suspension travel [mm] | W1: Ground Clearance [mm] | X1: Tank capacity [liters] | Y1: Economy - Fuel consumption [l/100 km] | Z1: Mileage [km/tank] | AA1: Price in Germany [Euros] | AC1: Model
A2: AJP PR7 Adventure 650 | B2: https://www.motorradonline.de/enduro/ajp-pr7-2018-exotische-allround-enduro-mit-swm-motor | C2: 600 | D2: 28 | E2: =D2/1.36 -> 20.588235 | F2: 7000 | G2: 29 | H2: 6000 | I2: =E2/C2*1000 -> 34.313725 | J2: =G2/C2*1000 -> 48.333333 | K2: =(G2/(E2/F2*9550)) -> 1.0324607 | L2: =F2/H2 -> 1.1666667 | M2: =K2*L2 -> 1.2045375 | N2: =125.7*G2/C2 -> 6.0755 | O2: 920 | P2: =O2-U2/3 -> 826.66667 | Q2: 148 | R2: 165 | S2: 165 | T2: 300 | U2: 280 | V2: =(T2+U2)/2 -> 290 | W2: 310 | X2: 17 | Y2: 4.5 | Z2: =X2/Y2*100 -> 377.77778 | AA2: 10790 | AC2: =A2 -> AJP PR7 Adventure 650
A3: AKT TT 250 Adventour / CSC RX3 Adventure / Zongshen RX3 | B3: https://www.zongshenmotos.cl/wp-content/uploads/2019/03/rx3-2.pdf | C3: 250 | D3: 24.8 | E3: =D3/1.36 -> 18.235294 | F3: 9000 | G3: 22.5 | H3: 7000 | I3: =E3/C3*1000 -> 72.941176 | J3: =G3/C3*1000 -> 90 | K3: =(G3/(E3/F3*9550)) -> 1.1628103 | L3: =F3/H3 -> 1.2857143 | M3: =K3*L3 -> 1.4950419 | N3: =125.7*G3/C3 -> 11.313 | O3: 800 | P3: =O3-U3/3 -> 752.66667 | Q3: 150 | R3: 175 | S3: 165 | T3: 130 | U3: 142 | V3: =(T3+U3)/2 -> 136 | W3: 205 | X3: 16 | Y3: 4 | Z3: =X3/Y3*100 -> 400 | AA3: 2880 | AB3: (10590000 COP in 2020) | AC3: =A3 -> AKT TT 250 Adventour / CSC RX3 Adventure / Zongshen RX3
A4: Beta Alp 4.0 | B4: https://www.betamotor.com/de/moto/alp-4-0 | C4: 349 | D4: 27 | E4: =D4/1.36 -> 19.852941 | F4: 7000 | G4: 28 | H4: 6250 | I4: =E4/C4*1000 -> 56.885218 | J4: =G4/C4*1000 -> 80.229226 | K4: =(G4/(E4/F4*9550)) -> 1.0337793 | L4: =F4/H4 -> 1.12 | M4: =K4*L4 -> 1.1578328 | N4: =125.7*G4/C4 -> 10.084814 | O4: 863 | P4: =O4-U4/3 -> 789.66667 | Q4: 133 | R4: 145 | S4: 165 | T4: 220 | U4: 220 | V4: =(T4+U4)/2 -> 220 | W4: 275 | X4: 10.5 | Y4: 4.7 | Z4: =X4/Y4*100 -> 223.40426 | AA4: 5900 | AC4: =A4 -> Beta Alp 4.0
A5: BMW G 310 GS | B5: =HYPERLINK("https://www.bmw-motorrad.de/de/models/adventure/g310gs.html","https://www.bmw-motorrad.de/de/models/adventure/g310gs.html") -> https://www.bmw-motorrad.de/de/models/adventure/g310gs.html | C5: 313 | D5: 34 | E5: =D5/1.36 -> 25 | F5: 9500 | G5: 28 | H5: 7500 | I5: =E5/C5*1000 -> 79.872204 | J5: =G5/C5*1000 -> 89.456869 | K5: =(G5/(E5/F5*9550)) -> 1.1141361 | L5: =F5/H5 -> 1.2666667 | M5: =K5*L5 -> 1.4112391 | N5: =125.7*G5/C5 -> 11.244728 | O5: 835 | P5: =O5-U5/3 -> 775 | Q5: =R5-0.9*0.75*X5 -> 162.075 | R5: 169.5 | S5: 175.5 | T5: 180 | U5: 180 | V5: =(T5+U5)/2 -> 180 | X5: 11 | Y5: 3.5 | Z5: =X5/Y5*100 -> 314.28571 | AA5: 6050 | AC5: =A5 -> BMW G 310 GS
A6: BMW G 650 GS | B6: https://de.wikipedia.org/wiki/BMW_G_650_GS | C6: 652 | D6: 48 | E6: =D6/1.36 -> 35.294118 | F6: 6500 | G6: 60 | H6: 5000 | I6: =E6/C6*1000 -> 54.132082 | J6: =G6/C6*1000 -> 92.02454 | K6: =(G6/(E6/F6*9550)) -> 1.1570681 | L6: =F6/H6 -> 1.3 | M6: =K6*L6 -> 1.5041885 | N6: =125.7*G6/C6 -> 11.567485 | O6: 780 | P6: =O6-U6/3 -> 725 | Q6: 176 | R6: 192 | S6: 188 | T6: 170 | U6: 165 | V6: =(T6+U6)/2 -> 167.5 | X6: 14 | Y6: 3.8 | Z6: =X6/Y6*100 -> 368.42105 | AA6: 7400 | AB6: (price in 2016) | AC6: =A6 -> BMW G 650 GS
A7: BMW G 650 GS Sertao | B7: https://www.motorradonline.de/enduro/vergleichstest-einzylinder-reiseenduros-bmw-g-650-gs-und-yamaha-xt-660-z-tenere | C7: 652 | D7: 48 | E7: =D7/1.36 -> 35.294118 | F7: 6500 | G7: 60 | H7: 5000 | I7: =E7/C7*1000 -> 54.132082 | J7: =G7/C7*1000 -> 92.02454 | K7: =(G7/(E7/F7*9550)) -> 1.1570681 | L7: =F7/H7 -> 1.3 | M7: =K7*L7 -> 1.5041885 | N7: =125.7*G7/C7 -> 11.567485 | O7: 860 | P7: =O7-U7/3 -> 790 | Q7: 182 | R7: 198 | S7: 182 | T7: 210 | U7: 210 | V7: =(T7+U7)/2 -> 210 | X7: 14 | Y7: 3.8 | Z7: =X7/Y7*100 -> 368.42105 | AA7: 8050 | AB7: (price in 2014) | AC7: =A7 -> BMW G 650 GS Sertao
A8: BMW G 650 XCountry (2006) | B8: https://de.wikipedia.org/wiki/BMW_G_650_X | C8: 652 | D8: 53 | E8: =D8/1.36 -> 38.970588 | F8: 7000 | G8: 60 | H8: 5250 | I8: =E8/C8*1000 -> 59.770841 | J8: =G8/C8*1000 -> 92.02454 | K8: =(G8/(E8/F8*9550)) -> 1.1285192 | L8: =F8/H8 -> 1.3333333 | M8: =K8*L8 -> 1.5046923 | N8: =125.7*G8/C8 -> 11.567485 | O8: 865 | P8: =O8-U8/3 -> 795 | Q8: 149.5 | R8: 160 | S8: 175 | T8: 240 | U8: 210 | V8: =(T8+U8)/2 -> 225 | X8: 9.5 | Y8: 4.1 | Z8: =X8/Y8*100 -> 231.70732 | AA8: 6900 | AB8: (price in 2006) | AC8: =A8 -> BMW G 650 XCountry (2006)
A9: BMW G 650 XCountry (2009) | B9: https://de.wikipedia.org/wiki/BMW_G_650_X | C9: 652 | D9: 53 | E9: =D9/1.36 -> 38.970588 | F9: 7000 | G9: 60 | H9: 5250 | I9: =E9/C9*1000 -> 59.770841 | J9: =G9/C9*1000 -> 92.02454 | K9: =(G9/(E9/F9*9550)) -> 1.1285192 | L9: =F9/H9 -> 1.3333333 | M9: =K9*L9 -> 1.5046923 | N9: =125.7*G9/C9 -> 11.567485 | O9: 810 | P9: =O9-U9/3 -> 755 | Q9: 149.5 | R9: 160 | S9: 175 | T9: 210 | U9: 165 | V9: =(T9+U9)/2 -> 187.5 | X9: 9.5 | Y9: 4.1 | Z9: =X9/Y9*100 -> 231.70732 | AA9: 6900 | AB9: (price in 2008) | AC9: =A9 -> BMW G 650 XCountry (2009)
A10: BMW G 650 XChallenge | B10: https://de.wikipedia.org/wiki/BMW_G_650_X | C10: 652 | D10: 53 | E10: =D10/1.36 -> 38.970588 | F10: 7000 | G10: 60 | H10: 5250 | I10: =E10/C10*1000 -> 59.770841 | J10: =G10/C10*1000 -> 92.02454 | K10: =(G10/(E10/F10*9550)) -> 1.1285192 | L10: =F10/H10 -> 1.3333333 | M10: =K10*L10 -> 1.5046923 | N10: =125.7*G10/C10 -> 11.567485 | O10: 930 | P10: =O10-U10/3 -> 840 | Q10: 144 | R10: 156 | S10: 179 | T10: 270 | U10: 270 | V10: =(T10+U10)/2 -> 270 | W10: 290 | X10: 9.5 | Y10: 4.2 | Z10: =X10/Y10*100 -> 226.19048 | AA10: 8200 | AB10: (price in 2008) | AC10: =A10 -> BMW G 650 XChallenge
A11: BMW R 1200 GS Rallye (2012) | B11: =HYPERLINK("http://www.unterwegens.de/2012-bmw-r-1200-gs-rallye-bayer-im-dakar-look_9221.html","http://www.unterwegens.de/2012-bmw-r-1200-gs-rallye-bayer-im-dakar-look_9221.html") -> http://www.unterwegens.de/2012-bmw-r-1200-gs-rallye-bayer-im-dakar-look_9221.html | C11: 1170 | D11: 110 | E11: =D11/1.36 -> 80.882353 | F11: 7750 | G11: 120 | H11: 6000 | I11: =E11/C11*1000 -> 69.130216 | J11: =G11/C11*1000 -> 102.5641 | K11: =(G11/(E11/F11*9550)) -> 1.2039981 | L11: =F11/H11 -> 1.2916667 | M11: =K11*L11 -> 1.5551642 | N11: =125.7*G11/C11 -> 12.892308 | O11: 850 | P11: =O11-U11/3 -> 783.33333 | Q11: 203 | R11: 229 | S11: 211 | T11: 190 | U11: 200 | V11: =(T11+U11)/2 -> 195 | X11: 20 | Y11: 5.3 | Z11: =X11/Y11*100 -> 377.35849 | AA11: 14950 | AB11: (price in 2012) | AC11: =A11 -> BMW R 1200 GS Rallye (2012)
A12: BMW R 1250 GS | B12: https://www.bmw-motorrad.de/de/models/adventure/r1250gs.html | C12: 1254 | D12: 136 | E12: =D12/1.36 -> 100 | F12: 7750 | G12: 143 | H12: 6250 | I12: =E12/C12*1000 -> 79.744817 | J12: =G12/C12*1000 -> 114.03509 | K12: =(G12/(E12/F12*9550)) -> 1.1604712 | L12: =F12/H12 -> 1.24 | M12: =K12*L12 -> 1.4389843 | N12: =125.7*G12/C12 -> 14.334211 | O12: 850 | P12: =O12-U12/3 -> 783.33333 | Q12: =R12-0.9*0.75*X12 -> 235.5 | R12: 249 | S12: 216 | T12: 190 | U12: 200 | V12: =(T12+U12)/2 -> 195 | X12: 20 | Y12: 5.5 | Z12: =X12/Y12*100 -> 363.63636 | AA12: 16450 | AC12: =A12 -> BMW R 1250 GS
A13: BMW R 1250 GS Adventure | B13: https://www.bmw-motorrad.de/de/models/adventure/r1250gsadventure.html | C13: 1254 | D13: 136 | E13: =D13/1.36 -> 100 | F13: 7750 | G13: 143 | H13: 6250 | I13: =E13/C13*1000 -> 79.744817 | J13: =G13/C13*1000 -> 114.03509 | K13: =(G13/(E13/F13*9550)) -> 1.1604712 | L13: =F13/H13 -> 1.24 | M13: =K13*L13 -> 1.4389843 | N13: =125.7*G13/C13 -> 14.334211 | O13: 890 | P13: =O13-U13/3 -> 816.66667 | Q13: =R13-0.9*0.75*X13 -> 247.75 | R13: 268 | S13: 217 | T13: 210 | U13: 220 | V13: =(T13+U13)/2 -> 215 | X13: 30 | Y13: 5.5 | Z13: =X13/Y13*100 -> 545.45455 | AA13: 18000 | AC13: =A13 -> BMW R 1250 GS Adventure
A14: CCM GP 450 Adventure | B14: https://www.ccm-motorcycles.com/bikes/gp450-adventure | C14: 450 | D14: 40.23 | E14: =D14/1.36 -> 29.580882 | F14: 7500 | G14: 42.8 | H14: 6500 | I14: =E14/C14*1000 -> 65.735294 | J14: =G14/C14*1000 -> 95.111111 | K14: =(G14/(E14/F14*9550)) -> 1.1362935 | L14: =F14/H14 -> 1.1538462 | M14: =K14*L14 -> 1.3111079 | N14: =125.7*G14/C14 -> 11.955467 | O14: 890 | P14: =O14-U14/3 -> 801.66667 | Q14: 125 | R14: 145 | S14: 155 | T14: 265 | U14: 265 | V14: =(T14+U14)/2 -> 265 | W14: 360 | X14: 20 | Y14: 4.5 | Z14: =X14/Y14*100 -> 444.44444 | AA14: 9900 | AB14: (price in 2016) | AC14: =A14 -> CCM GP 450 Adventure
A15: Ducati Desert Sled | B15: https://scramblerducati.com/de/bike/desertsled | C15: 803 | D15: 73 | E15: =D15/1.36 -> 53.676471 | F15: 8250 | G15: 67 | H15: 5750 | I15: =E15/C15*1000 -> 66.84492 | J15: =G15/C15*1000 -> 83.437111 | K15: =(G15/(E15/F15*9550)) -> 1.0783045 | L15: =F15/H15 -> 1.4347826 | M15: =K15*L15 -> 1.5471326 | N15: =125.7*G15/C15 -> 10.488045 | O15: 860 | P15: =O15-U15/3 -> 793.33333 | Q15: 193 | R15: 209 | S15: 160 | T15: 200 | U15: 200 | V15: =(T15+U15)/2 -> 200 | X15: 13.5 | Y15: 4.7 | Z15: =X15/Y15*100 -> 287.23404 | AA15: 12095 | AC15: =A15 -> Ducati Desert Sled
A16: Fantic Caballero Rally 500 | B16: http://www.caballerofantic.com/en/rally/rally-500 | C16: 449 | D16: 40 | E16: =D16/1.36 -> 29.411765 | F16: 7500 | G16: 43 | H16: 6000 | I16: =E16/C16*1000 -> 65.505044 | J16: =G16/C16*1000 -> 95.768374 | K16: =(G16/(E16/F16*9550)) -> 1.1481675 | L16: =F16/H16 -> 1.25 | M16: =K16*L16 -> 1.4352094 | N16: =125.7*G16/C16 -> 12.038085 | O16: 860 | P16: =O16-U16/3 -> 793.33333 | Q16: 150 | R16: 160 | S16: 160 | T16: 200 | U16: 200 | V16: =(T16+U16)/2 -> 200 | W16: 290 | X16: 12 | Y16: 3.5 | Z16: =X16/Y16*100 -> 342.85714 | AA16: 7190 | AC16: =A16 -> Fantic Caballero Rally 500
A17: Honda CRF 250 L | B17: https://www.honda.de/motorcycles/range/adventure/crf250l/specifications-and-price.html | C17: 250 | D17: 25 | E17: =D17/1.36 -> 18.382353 | F17: 8500 | G17: 22.6 | H17: 6750 | I17: =E17/C17*1000 -> 73.529412 | J17: =G17/C17*1000 -> 90.4 | K17: =(G17/(E17/F17*9550)) -> 1.094266 | L17: =F17/H17 -> 1.2592593 | M17: =K17*L17 -> 1.3779646 | N17: =125.7*G17/C17 -> 11.36328 | O17: 875 | P17: =O17-U17/3 -> 795 | Q17: =R17-0.9*0.75*X17 -> 140.8025 | R17: 146 | S17: 159 | T17: 250 | U17: 240 | V17: =(T17+U17)/2 -> 245 | X17: 7.7 | Y17: 3.25 | Z17: =X17/Y17*100 -> 236.92308 | AA17: 5600 | AC17: =A17 -> Honda CRF 250 L
A18: Honda CRF 250 Rally | B18: https://www.honda.de/motorcycles/range/coming-soon-2017/crf250l-and-crf250rally/rally-specifications.html | C18: 250 | D18: 25 | E18: =D18/1.36 -> 18.382353 | F18: 8500 | G18: 22.6 | H18: 6750 | I18: =E18/C18*1000 -> 73.529412 | J18: =G18/C18*1000 -> 90.4 | K18: =(G18/(E18/F18*9550)) -> 1.094266 | L18: =F18/H18 -> 1.2592593 | M18: =K18*L18 -> 1.3779646 | N18: =125.7*G18/C18 -> 11.36328 | O18: 895 | P18: =O18-U18/3 -> 806.66667 | Q18: =R18-0.9*0.75*X18 -> 150.1825 | R18: 157 | S18: 159 | T18: 250 | U18: 265 | V18: =(T18+U18)/2 -> 257.5 | W18: 270 | X18: 10.1 | Y18: 3.25 | Z18: =X18/Y18*100 -> 310.76923 | AA18: 6500 | AC18: =A18 -> Honda CRF 250 Rally
A19: Honda CRF 450 L | B19: https://www.honda.de/motorcycles/range/adventure/crf450l/specifications.html | C19: 449 | D19: 25 | E19: =D19/1.36 -> 18.382353 | F19: 7500 | G19: 32 | H19: 3500 | I19: =E19/C19*1000 -> 40.940652 | J19: =G19/C19*1000 -> 71.269488 | K19: =(G19/(E19/F19*9550)) -> 1.3671204 | L19: =F19/H19 -> 2.1428571 | M19: =K19*L19 -> 2.9295438 | N19: =125.7*G19/C19 -> 8.9585746 | O19: 940 | P19: =O19-U19/3 -> 840 | Q19: =R19-0.9*0.75*X19 -> 125.87 | R19: 131 | S19: 100 | T19: 268 | U19: 300 | V19: =(T19+U19)/2 -> 284 | W19: 315 | X19: 7.6 | Y19: 4.2 | Z19: =X19/Y19*100 -> 180.95238 | AA19: 10690 | AC19: =A19 -> Honda CRF 450 L
A20: Honda XRE 300 ABS | B20: https://www.honda.com.br/motos/xre-300 | C20: 291.6 | D20: 25.4 | E20: =D20/1.36 -> 18.676471 | F20: 7500 | G20: 28 | H20: 6000 | I20: =E20/C20*1000 -> 64.048253 | J20: =G20/C20*1000 -> 96.021948 | K20: =(G20/(E20/F20*9550)) -> 1.1773921 | L20: =F20/H20 -> 1.25 | M20: =K20*L20 -> 1.4717401 | N20: =125.7*G20/C20 -> 12.069959 | O20: 860 | P20: =O20-U20/3 -> 785 | Q20: 148 | R20: 159 | S20: 155 | T20: 245 | U20: 225 | V20: =(T20+U20)/2 -> 235 | W20: 259 | X20: 13.6 | Y20: 3.5 | Z20: =X20/Y20*100 -> 388.57143 | AA20: 4600 | AB20: (USD 5000) | AC20: =A20 -> Honda XRE 300 ABS
A21: Honda NX 250 Dominator (MD21) | B21: https://www.nx250.de/typenkunde.html | C21: 249 | D21: 26 | E21: =D21/1.36 -> 19.117647 | F21: 8500 | G21: 23 | H21: 7000 | I21: =E21/C21*1000 -> 76.777699 | J21: =G21/C21*1000 -> 92.369478 | K21: =(G21/(E21/F21*9550)) -> 1.0708015 | L21: =F21/H21 -> 1.2142857 | M21: =K21*L21 -> 1.3002589 | N21: =125.7*G21/C21 -> 11.610843 | O21: 820 | P21: =O21-U21/3 -> 753.33333 | Q21: 118 | R21: 133 | S21: 180 | T21: 220 | U21: 200 | V21: =(T21+U21)/2 -> 210 | W21: 250 | X21: 9 | Y21: 3.4 | Z21: =X21/Y21*100 -> 264.70588 | AC21: =A21 -> Honda NX 250 Dominator (MD21)
A22: Honda NX4 Falcon | B22: https://web.archive.org/web/20150504023123/http://www.honda.mx/motos/falcon/# | C22: 398 | D22: 30.6 | E22: =D22/1.36 -> 22.5 | F22: 6500 | G22: 34.4 | H22: 6000 | I22: =E22/C22*1000 -> 56.532663 | J22: =G22/C22*1000 -> 86.432161 | K22: =(G22/(E22/F22*9550)) -> 1.040605 | L22: =F22/H22 -> 1.0833333 | M22: =K22*L22 -> 1.1273221 | N22: =125.7*G22/C22 -> 10.864523 | O22: 850 | P22: =O22-U22/3 -> 785 | Q22: 151 | R22: 168 | S22: 155 | T22: 220 | U22: 195 | V22: =(T22+U22)/2 -> 207.5 | W22: 245 | X22: 15 | Y22: 3.5 | Z22: =X22/Y22*100 -> 428.57143 | AA22: 4600 | AB22: (around USD 5000) | AC22: =A22 -> Honda NX4 Falcon
A23: Honda NX 650 Dominator (RD02) | B23: https://de.wikipedia.org/wiki/Honda_NX_650_Dominator | C23: 644 | D23: 44 | E23: =D23/1.36 -> 32.352941 | F23: 6000 | G23: 53 | H23: 5500 | I23: =E23/C23*1000 -> 50.237486 | J23: =G23/C23*1000 -> 82.298137 | K23: =(G23/(E23/F23*9550)) -> 1.0292242 | L23: =F23/H23 -> 1.0909091 | M23: =K23*L23 -> 1.12279 | N23: =125.7*G23/C23 -> 10.344876 | O23: 865 | P23: =O23-U23/3 -> 800 | Q23: 152 | R23: 168 | S23: 177 | T23: 220 | U23: 195 | V23: =(T23+U23)/2 -> 207.5 | W23: 255 | X23: 13 | Y23: 5.3 | Z23: =X23/Y23*100 -> 245.28302 | AC23: =A23 -> Honda NX 650 Dominator (RD02)
A24: Honda CB 500 X | B24: https://www.honda.de/motorcycles/range/adventure/cb500x/specifications.html | C24: 471 | D24: 48 | E24: =D24/1.36 -> 35.294118 | F24: 8600 | G24: 43 | H24: 6500 | I24: =E24/C24*1000 -> 74.934432 | J24: =G24/C24*1000 -> 91.295117 | K24: =(G24/(E24/F24*9550)) -> 1.0971379 | L24: =F24/H24 -> 1.3230769 | M24: =K24*L24 -> 1.4515978 | N24: =125.7*G24/C24 -> 11.475796 | O24: 830 | P24: =O24-U24/3 -> 780 | Q24: 178 | R24: 197 | S24: 185 | T24: 135 | U24: 150 | V24: =(T24+U24)/2 -> 142.5 | W24: 180 | X24: 17.7 | Y24: 3.4 | Z24: =X24/Y24*100 -> 520.58824 | AA24: 6990 | AC24: =A24 -> Honda CB 500 X
A25: Honda XL 600 V Transalp PD06 | B25: https://de.wikipedia.org/wiki/Honda_Transalp | C25: 583 | D25: 50 | E25: =D25/1.36 -> 36.764706 | F25: 8000 | G25: 51 | H25: 6000 | I25: =E25/C25*1000 -> 63.061245 | J25: =G25/C25*1000 -> 87.478559 | K25: =(G25/(E25/F25*9550)) -> 1.1620524 | L25: =F25/H25 -> 1.3333333 | M25: =K25*L25 -> 1.5494031 | N25: =125.7*G25/C25 -> 10.996055 | O25: 850 | P25: =O25-U25/3 -> 786.66667 | Q25: 183 | R25: 202 | S25: 180 | T25: 200 | U25: 190 | V25: =(T25+U25)/2 -> 195 | W25: 195 | X25: 18 | Y25: 5.2 | Z25: =X25/Y25*100 -> 346.15385 | AC25: =A25 -> Honda XL 600 V Transalp PD06
A26: Honda CRF 1100 Africa Twin | B26: https://www.honda.de/motorcycles/range/adventure/crf1100l-africa-twin/specifications-and-price.html | C26: 1084 | D26: 102 | E26: =D26/1.36 -> 75 | F26: 7500 | G26: 105 | H26: 6250 | I26: =E26/C26*1000 -> 69.188192 | J26: =G26/C26*1000 -> 96.863469 | K26: =(G26/(E26/F26*9550)) -> 1.0994764 | L26: =F26/H26 -> 1.2 | M26: =K26*L26 -> 1.3193717 | N26: =125.7*G26/C26 -> 12.175738 | O26: 850 | P26: =O26-U26/3 -> 776.66667 | Q26: =R26-0.9*0.75*X26 -> 213.31 | R26: 226 | S26: 220 | T26: 230 | U26: 220 | V26: =(T26+U26)/2 -> 225 | X26: 18.8 | Y26: 4.9 | Z26: =X26/Y26*100 -> 383.67347 | AA26: 14450 | AC26: =A26 -> Honda CRF 1100 Africa Twin
A27: Husqvarna 701 LR (2020) | B27: https://www.husqvarna-motorcycles.com/at/enduro/701-enduro-lr | C27: 693 | D27: 75 | E27: =D27/1.36 -> 55.147059 | F27: 8000 | G27: 73.5 | H27: 6500 | I27: =E27/C27*1000 -> 79.577285 | J27: =G27/C27*1000 -> 106.06061 | K27: =(G27/(E27/F27*9550)) -> 1.1164817 | L27: =F27/H27 -> 1.2307692 | M27: =K27*L27 -> 1.3741313 | N27: =125.7*G27/C27 -> 13.331818 | O27: 925 | P27: =O27-U27/3 -> 841.66667 | Q27: 155 | R27: 170 | S27: 195 | T27: 250 | U27: 250 | V27: =(T27+U27)/2 -> 250 | W27: 270 | X27: 25 | Y27: 4.5 | Z27: =X27/Y27*100 -> 555.55556 | AA27: 11395 | AC27: =A27 -> Husqvarna 701 LR (2020)
A28: Kawasaki KLX 250 | B28: https://www.1000ps.de/testbericht-2342465-kawasaki-klx-250-test | C28: 249 | D28: 22 | E28: =D28/1.36 -> 16.176471 | F28: 7500 | G28: 20.5 | H28: 7000 | I28: =E28/C28*1000 -> 64.965745 | J28: =G28/C28*1000 -> 82.329317 | K28: =(G28/(E28/F28*9550)) -> 0.99524036 | L28: =F28/H28 -> 1.0714286 | M28: =K28*L28 -> 1.066329 | N28: =125.7*G28/C28 -> 10.348795 | O28: 890 | P28: =O28-U28/3 -> 813.33333 | Q28: =R28-0.9*0.75*X28 -> 132.8025 | R28: 138 | S28: 181 | T28: 255 | U28: 230 | V28: =(T28+U28)/2 -> 242.5 | X28: 7.7 | Y28: 3.4 | Z28: =X28/Y28*100 -> 226.47059 | AA28: 5000 | AB28: (Price in 2009) | AC28: =A28 -> Kawasaki KLX 250
A29: Kawasaki Versys X-300 | B29: https://www.kawasaki.de/de/products/Dual_Purpose/2018/Versys-X_300/specifications?Uid=08B4XApZUV9aWVAOXl0KXA1dCQlRWVlYCQsKDVFYXQoNW1k | C29: 296 | D29: 40 | E29: =D29/1.36 -> 29.411765 | F29: 11500 | G29: 25.7 | H29: 10000 | I29: =E29/C29*1000 -> 99.36407 | J29: =G29/C29*1000 -> 86.824324 | K29: =(G29/(E29/F29*9550)) -> 1.0522199 | L29: =F29/H29 -> 1.15 | M29: =K29*L29 -> 1.2100529 | N29: =125.7*G29/C29 -> 10.913818 | O29: 845 | P29: =O29-U29/3 -> 795.66667 | Q29: =R29-0.9*0.75*X29 -> 163.525 | R29: 175 | S29: 170 | T29: 130 | U29: 148 | V29: =(T29+U29)/2 -> 139 | W29: 180 | X29: 17 | Y29: 3.9 | Z29: =X29/Y29*100 -> 435.89744 | AA29: 5795 | AC29: =A29 -> Kawasaki Versys X-300
A30: KTM Freeride 250 F | B30: https://www.ktm.com/de/freeride/freeride-250-f | C30: 250 | D30: 20.5 | E30: =D30/1.36 -> 15.073529 | F30: 8500 | G30: 18 | H30: 6900 | I30: =E30/C30*1000 -> 60.294118 | J30: =G30/C30*1000 -> 72 | K30: =(G30/(E30/F30*9550)) -> 1.0628528 | L30: =F30/H30 -> 1.2318841 | M30: =K30*L30 -> 1.3093114 | N30: =125.7*G30/C30 -> 9.0504 | O30: 915 | P30: =O30-U30/3 -> 828.33333 | Q30: 98.5 | R30: 103 | S30: 100 | T30: 250 | U30: 260 | V30: =(T30+U30)/2 -> 255 | W30: 325 | X30: 5.5 | Y30: 3.5 | Z30: =X30/Y30*100 -> 157.14286 | AA30: 8098 | AC30: =A30 -> KTM Freeride 250 F
A31: KTM 390 Adventure | B31: https://www.ktm.com/de/travel/390-adventure | C31: 373 | D31: 44 | E31: =D31/1.36 -> 32.352941 | F31: 9000 | G31: 37 | H31: 7000 | I31: =E31/C31*1000 -> 86.737108 | J31: =G31/C31*1000 -> 99.19571 | K31: =(G31/(E31/F31*9550)) -> 1.0777725 | L31: =F31/H31 -> 1.2857143 | M31: =K31*L31 -> 1.3857075 | N31: =125.7*G31/C31 -> 12.468901 | O31: 855 | P31: =O31-U31/3 -> 796 | Q31: 158 | R31: 172 | S31: 203 | T31: 170 | U31: 177 | V31: =(T31+U31)/2 -> 173.5 | W31: 220 | X31: 14.5 | Y31: 3.5 | Z31: =X31/Y31*100 -> 414.28571 | AA31: 6195 | AC31: =A31 -> KTM 390 Adventure
A32: KTM 450 Rally | B32: https://www.ktm.com/at/travel/450-rally | C32: 449 | D32: 70 | E32: =D32/1.36 -> 51.470588 | I32: =E32/C32*1000 -> 114.63383 | J32: =G32/C32*1000 -> 0 | O32: 960 | P32: =O32-U32/3 -> 860 | Q32: 139 | R32: 175 | S32: 120 | T32: 305 | U32: 300 | V32: =(T32+U32)/2 -> 302.5 | W32: 355 | X32: 35 | Y32: 5 | Z32: =X32/Y32*100 -> 700 | AA32: 30940 | AC32: =A32 -> KTM 450 Rally
A33: KTM 690 Enduro R | B33: https://www.ktm.com/de/travel/690-enduro-r | C33: 693 | D33: 75 | E33: =D33/1.36 -> 55.147059 | F33: 8000 | G33: 73.5 | H33: 6500 | I33: =E33/C33*1000 -> 79.577285 | J33: =G33/C33*1000 -> 106.06061 | K33: =(G33/(E33/F33*9550)) -> 1.1164817 | L33: =F33/H33 -> 1.2307692 | M33: =K33*L33 -> 1.3741313 | N33: =125.7*G33/C33 -> 13.331818 | O33: 910 | P33: =O33-U33/3 -> 826.66667 | Q33: 146 | R33: 160 | S33: 195 | T33: 250 | U33: 250 | V33: =(T33+U33)/2 -> 250 | W33: 270 | X33: 13.5 | Y33: 4.2 | Z33: =X33/Y33*100 -> 321.42857 | AA33: 10800 | AC33: =A33 -> KTM 690 Enduro R
A34: KTM 790 Adventure S | B34: https://www.ktm.com/de/travel/790-adventure | C34: 799 | D34: 95 | E34: =D34/1.36 -> 69.852941 | F34: 8000 | G34: 88 | H34: 6600 | I34: =E34/C34*1000 -> 87.425458 | J34: =G34/C34*1000 -> 110.13767 | K34: =(G34/(E34/F34*9550)) -> 1.055321 | L34: =F34/H34 -> 1.2121212 | M34: =K34*L34 -> 1.279177 | N34: =125.7*G34/C34 -> 13.844305 | O34: 850 | P34: =O34-U34/3 -> 783.33333 | Q34: 189 | R34: 209 | S34: 240 | T34: 200 | U34: 200 | V34: =(T34+U34)/2 -> 200 | W34: 233 | X34: 20 | Y34: 4.6 | Z34: =X34/Y34*100 -> 434.78261 | AA34: 10500 | AC34: =A34 -> KTM 790 Adventure S
A35: KTM 790 Adventure R | B35: https://www.ktm.com/de/travel/790-adventure-r | C35: 799 | D35: 95 | E35: =D35/1.36 -> 69.852941 | F35: 8000 | G35: 88 | H35: 6600 | I35: =E35/C35*1000 -> 87.425458 | J35: =G35/C35*1000 -> 110.13767 | K35: =(G35/(E35/F35*9550)) -> 1.055321 | L35: =F35/H35 -> 1.2121212 | M35: =K35*L35 -> 1.279177 | N35: =125.7*G35/C35 -> 13.844305 | O35: 880 | P35: =O35-U35/3 -> 800 | Q35: 189 | R35: 209 | S35: 240 | T35: 240 | U35: 240 | V35: =(T35+U35)/2 -> 240 | X35: 20 | Y35: 4.6 | Z35: =X35/Y35*100 -> 434.78261 | AA35: 12500 | AC35: =A35 -> KTM 790 Adventure R
A36: KTM 790 Adventure R Rallye | B36: https://www.ktm.com/de/travel/790-adventure-r-rally | C36: 799 | D36: 95 | E36: =D36/1.36 -> 69.852941 | F36: 8000 | G36: 88 | H36: 6600 | I36: =E36/C36*1000 -> 87.425458 | J36: =G36/C36*1000 -> 110.13767 | K36: =(G36/(E36/F36*9550)) -> 1.055321 | L36: =F36/H36 -> 1.2121212 | M36: =K36*L36 -> 1.279177 | N36: =125.7*G36/C36 -> 13.844305 | O36: 910 | P36: =O36-U36/3 -> 820 | Q36: 189 | R36: 209 | S36: 240 | T36: 270 | U36: 270 | V36: =(T36+U36)/2 -> 270 | X36: 20 | Y36: 4.6 | Z36: =X36/Y36*100 -> 434.78261 | AA36: 18000 | AC36: =A36 -> KTM 790 Adventure R Rallye
A37: KTM 950 Adventure S | B37: http://minimaster.bplaced.net | C37: 942 | D37: 98 | E37: =D37/1.36 -> 72.058824 | F37: 8000 | G37: 95 | H37: 6000 | I37: =E37/C37*1000 -> 76.495566 | J37: =G37/C37*1000 -> 100.84926 | K37: =(G37/(E37/F37*9550)) -> 1.1043915 | L37: =F37/H37 -> 1.3333333 | M37: =K37*L37 -> 1.472522 | N37: =125.7*G37/C37 -> 12.676752 | O37: 880 | P37: =O37-U37/3 -> 793.33333 | Q37: 198 | R37: 222 | S37: 211 | T37: 265 | U37: 260 | V37: =(T37+U37)/2 -> 262.5 | W37: 315 | X37: 22 | Y37: 6.9 | Z37: =X37/Y37*100 -> 318.84058 | AA37: 12690 | AB37: (price in 2005) | AC37: =A37 -> KTM 950 Adventure S
A38: Royal Enfield Himalayan (BS VI) | B38: https://www.royalenfield.com/content/dam/royal-enfield/india/motorcycles/himalayan/specifications/himalayan-bs-VI.pdf | C38: 411 | D38: 24.5 | E38: =D38/1.36 -> 18.014706 | F38: 6500 | G38: 32 | H38: 4000 | I38: =E38/C38*1000 -> 43.831401 | J38: =G38/C38*1000 -> 77.858881 | K38: =(G38/(E38/F38*9550)) -> 1.2090181 | L38: =F38/H38 -> 1.625 | M38: =K38*L38 -> 1.9646543 | N38: =125.7*G38/C38 -> 9.7868613 | O38: 800 | P38: =O38-U38/3 -> 740 | Q38: 185 | R38: 199 | S38: 180 | T38: 200 | U38: 180 | V38: =(T38+U38)/2 -> 190 | X38: 15 | Y38: 3.3 | Z38: =X38/Y38*100 -> 454.54545 | AA38: 4700 | AC38: =A38 -> Royal Enfield Himalayan (BS VI)
A39: Suzuki DR 350 SE | B39: https://de.wikipedia.org/wiki/Suzuki_DR_350 | C39: 349 | D39: 30 | E39: =D39/1.36 -> 22.058824 | F39: 7600 | G39: 29.4 | H39: 6200 | I39: =E39/C39*1000 -> 63.205798 | J39: =G39/C39*1000 -> 84.240688 | K39: =(G39/(E39/F39*9550)) -> 1.0606576 | L39: =F39/H39 -> 1.2258065 | M39: =K39*L39 -> 1.3001609 | N39: =125.7*G39/C39 -> 10.589054 | O39: 920 | P39: =O39-U39/3 -> 826.66667 | Q39: 122 | R39: 130 | S39: 184 | T39: 280 | U39: 280 | V39: =(T39+U39)/2 -> 280 | W39: 220 | X39: 9 | Y39: 4.9 | Z39: =X39/Y39*100 -> 183.67347 | AC39: =A39 -> Suzuki DR 350 SE
A40: Suzuki DR-Z400S (USA 2020) | B40: http://www.drz400s.de/technik_s.htm | C40: 398 | D40: 40 | E40: =D40/1.36 -> 29.411765 | F40: 7600 | G40: 36 | H40: 5800 | I40: =E40/C40*1000 -> 73.898906 | J40: =G40/C40*1000 -> 90.452261 | K40: =(G40/(E40/F40*9550)) -> 0.9740733 | L40: =F40/H40 -> 1.3103448 | M40: =K40*L40 -> 1.2763719 | N40: =125.7*G40/C40 -> 11.369849 | O40: 935 | P40: =O40-U40/3 -> 836.33333 | Q40: 132 | R40: 144 | S40: 191 | T40: 288 | U40: 296 | V40: =(T40+U40)/2 -> 292 | W40: 300 | X40: 10 | Y40: 4.4 | Z40: =X40/Y40*100 -> 227.27273 | AA40: 6200 | AB40: (USD 6800 in 2020) | AC40: =A40 -> Suzuki DR-Z400S (USA 2020)
A41: Suzuki DR 650 S (USA 2019) | B41: http://suzukicycles.com/Product%20Lines/Cycles/Products/DR650SE/2019/DR650S.aspx | C41: 644 | D41: 44 | E41: =D41/1.36 -> 32.352941 | F41: 6400 | G41: 54 | H41: 4600 | I41: =E41/C41*1000 -> 50.237486 | J41: =G41/C41*1000 -> 83.850932 | K41: =(G41/(E41/F41*9550)) -> 1.1185531 | L41: =F41/H41 -> 1.3913043 | M41: =K41*L41 -> 1.5562478 | N41: =125.7*G41/C41 -> 10.540062 | O41: 885 | P41: =O41-U41/3 -> 798.33333 | Q41: 147 | R41: 166 | S41: 189 | T41: 260 | U41: 260 | V41: =(T41+U41)/2 -> 260 | W41: 265 | X41: 13 | Y41: 5 | Z41: =X41/Y41*100 -> 260 | AA41: 6000 | AB41: (USD 6600 in 2020) | AC41: =A41 -> Suzuki DR 650 S (USA 2019)
A42: SWM Six Days 440 | B42: https://kunz-motors.de/sixdays-440/ | C42: 445 | D42: 30 | E42: 22 | F42: 7000 | G42: 36 | H42: 5500 | I42: =E42/C42*1000 -> 49.438202 | J42: =G42/C42*1000 -> 80.898876 | K42: =(G42/(E42/F42*9550)) -> 1.1994288 | L42: =F42/H42 -> 1.2727273 | M42: =K42*L42 -> 1.5265458 | N42: =125.7*G42/C42 -> 10.168989 | O42: 874 | P42: =O42-U42/3 -> 837.66667 | Q42: 148 | R42: =X42*0.75*0.9+Q42 -> 159.1375 | S42: 160 | T42: 130 | U42: 109 | V42: =(T42+U42)/2 -> 119.5 | W42: 226 | X42: 16.5 | Y42: 4.1 | Z42: =X42/Y42*100 -> 402.43902 | AA42: 5240 | AC42: =A42 -> SWM Six Days 440
A43: SWM RS 500 R | B43: https://www.swm-motorcycles.it/models/rs-500-r/ | C43: 501 | D43: 27 | E43: 20 | F43: 7500 | G43: 35 | H43: 4500 | I43: =E43/C43*1000 -> 39.92016 | J43: =G43/C43*1000 -> 69.860279 | K43: =(G43/(E43/F43*9550)) -> 1.3743455 | L43: =F43/H43 -> 1.6666667 | M43: =K43*L43 -> 2.2905759 | N43: =125.7*G43/C43 -> 8.7814371 | O43: 963 | P43: =O43-U43/3 -> 864.33333 | Q43: 116 | R43: 129 | S43: 110 | T43: 295 | U43: 296 | V43: =(T43+U43)/2 -> 295.5 | W43: 300 | X43: 7.2 | Y43: 4 | Z43: =X43/Y43*100 -> 180 | AA43: 7299 | AC43: =A43 -> SWM RS 500 R
A44: SWM RS 650 R | B44: https://swm-motorrad.com/enduro/swm-rs-650-r/ | C44: 600 | D44: =E44*1.36 -> 54.4 | E44: 40 | F44: 7500 | G44: 53.5 | H44: 6500 | I44: =E44/C44*1000 -> 66.666667 | J44: =G44/C44*1000 -> 89.166667 | K44: =(G44/(E44/F44*9550)) -> 1.0503927 | L44: =F44/H44 -> 1.1538462 | M44: =K44*L44 -> 1.2119915 | N44: =125.7*G44/C44 -> 11.20825 | O44: 900 | P44: =O44-U44/3 -> 810 | Q44: 144 | R44: 159 | S44: 181 | T44: 210 | U44: 270 | V44: =(T44+U44)/2 -> 240 | W44: 250 | X44: 12 | Y44: 4.4 | Z44: =X44/Y44*100 -> 272.72727 | AA44: 6500 | AB44: (Price in 2018) | AC44: =A44 -> SWM RS 650 R
A45: SWM Superdual X | B45: http://swm-motorrad.de/modelle/on-road/superdual-x.html | C45: 600 | D45: 54 | E45: =D45/1.36 -> 39.705882 | F45: 7500 | G45: 55 | H45: 6250 | I45: =E45/C45*1000 -> 66.176471 | J45: =G45/C45*1000 -> 91.666667 | K45: =(G45/(E45/F45*9550)) -> 1.0878418 | L45: =F45/H45 -> 1.2 | M45: =K45*L45 -> 1.3054101 | N45: =125.7*G45/C45 -> 11.5225 | O45: 890 | P45: =O45-U45/3 -> 816.66667 | Q45: 169 | R45: 187 | S45: 248 | T45: 210 | U45: 220 | V45: =(T45+U45)/2 -> 215 | W45: 200 | X45: 18 | Y45: 4.5 | Z45: =X45/Y45*100 -> 400 | AA45: 7580 | AC45: =A45 -> SWM Superdual X
A46: Triumph Tiger 900 Rally | B46: https://www.triumphmotorcycles.de/motorraeder/adventure/tiger-900-rally/rally | C46: 888 | D46: 95.2 | E46: =D46/1.36 -> 70 | F46: 8750 | G46: 87 | H46: 7250 | I46: =E46/C46*1000 -> 78.828829 | J46: =G46/C46*1000 -> 97.972973 | K46: =(G46/(E46/F46*9550)) -> 1.1387435 | L46: =F46/H46 -> 1.2068966 | M46: =K46*L46 -> 1.3743455 | N46: =125.7*G46/C46 -> 12.315203 | O46: 850 | P46: =O46-U46/3 -> 773.33333 | Q46: 196 | R46: 216 | S46: 228 | T46: 240 | U46: 230 | V46: =(T46+U46)/2 -> 235 | X46: 20 | Y46: 5.2 | Z46: =X46/Y46*100 -> 384.61538 | AA46: 12000 | AC46: =A46 -> Triumph Tiger 900 Rally
A47: Triumph Scrambler 1200 XE | B47: https://www.triumphmotorcycles.de/motorraeder/classic/bonneville-scrambler-1200/scrambler-1200-xe | C47: 1200 | D47: 90 | E47: =D47/1.36 -> 66.176471 | F47: 7400 | G47: 110 | H47: 3950 | I47: =E47/C47*1000 -> 55.147059 | J47: =G47/C47*1000 -> 91.666667 | K47: =(G47/(E47/F47*9550)) -> 1.2880047 | L47: =F47/H47 -> 1.8734177 | M47: =K47*L47 -> 2.4129707 | N47: =125.7*G47/C47 -> 11.5225 | O47: 870 | P47: =O47-U47/3 -> 786.66667 | Q47: 207 | R47: =X47*0.75*0.9+Q47 -> 217.8 | S47: 160 | T47: 250 | U47: 250 | V47: =(T47+U47)/2 -> 250 | X47: 16 | Y47: 4.7 | Z47: =X47/Y47*100 -> 340.42553 | AA47: 14550 | AC47: =A47 -> Triumph Scrambler 1200 XE
A48: UM DSR Adventure 125 | B48: http://www.ummotorcycles.co.uk/models/UM125-ADV | C48: 124 | D48: 14.8 | E48: =D48/1.36 -> 10.882353 | F48: 9750 | G48: 10.9 | H48: 8250 | I48: =E48/C48*1000 -> 87.760911 | J48: =G48/C48*1000 -> 87.903226 | K48: =(G48/(E48/F48*9550)) -> 1.022598 | L48: =F48/H48 -> 1.1818182 | M48: =K48*L48 -> 1.2085249 | N48: =125.7*G48/C48 -> 11.049435 | O48: 850 | P48: =O48-U48/3 -> 800 | Q48: 117 | R48: 130 | S48: 170 | T48: 195 | U48: 150 | V48: =(T48+U48)/2 -> 172.5 | W48: 200 | X48: 11.2 | Y48: 3 | Z48: =X48/Y48*100 -> 373.33333 | AA48: 2800 | AC48: =A48 -> UM DSR Adventure 125
A49: Yamaha Ténéré 700 | B49: https://www.yamaha-motor.eu/de/de/products/offroad-motorraeder/adventure/tenere-700-2019/techspecs | C49: 689 | D49: 73 | E49: =D49/1.36 -> 53.676471 | F49: 9000 | G49: 68 | H49: 6500 | I49: =E49/C49*1000 -> 77.904892 | J49: =G49/C49*1000 -> 98.693759 | K49: =(G49/(E49/F49*9550)) -> 1.1938894 | L49: =F49/H49 -> 1.3846154 | M49: =K49*L49 -> 1.6530776 | N49: =125.7*G49/C49 -> 12.405806 | O49: 875 | P49: =O49-U49/3 -> 808.33333 | Q49: =R49-0.9*0.75*X49 -> 193.2 | R49: 204 | S49: 190 | T49: 210 | U49: 200 | V49: =(T49+U49)/2 -> 205 | W49: 240 | X49: 16 | Y49: 4.6 | Z49: =X49/Y49*100 -> 347.82609 | AA49: 9600 | AC49: =A49 -> Yamaha Ténéré 700
A50: Yamaha WR 250 R | B50: https://de.wikipedia.org/wiki/Yamaha_WR_250_R | C50: 250 | D50: 30.7 | E50: =D50/1.36 -> 22.573529 | F50: 10000 | G50: 23.7 | H50: 8000 | I50: =E50/C50*1000 -> 90.294118 | J50: =G50/C50*1000 -> 94.8 | K50: =(G50/(E50/F50*9550)) -> 1.0993741 | L50: =F50/H50 -> 1.25 | M50: =K50*L50 -> 1.3742176 | N50: =125.7*G50/C50 -> 11.91636 | O50: 930 | P50: =O50-U50/3 -> 840 | Q50: 126 | R50: 134 | S50: 193 | T50: 270 | U50: 270 | V50: =(T50+U50)/2 -> 270 | W50: 300 | X50: 8 | Y50: 3.5 | Z50: =X50/Y50*100 -> 228.57143 | AA50: 7000 | AB50: (Price in 2013) | AC50: =A50 -> Yamaha WR 250 R
A51: Yamaha WR 450 F | B51: https://www.yamaha-motor.eu/de/de/products/offroad-motorraeder/competition/wr450f-2020/techspecs | C51: 449 | D51: 55.3 | E51: =D51/1.36 -> 40.661765 | F51: 10000 | G51: 45.5 | H51: 7000 | I51: =E51/C51*1000 -> 90.560723 | J51: =G51/C51*1000 -> 101.3363 | K51: =(G51/(E51/F51*9550)) -> 1.1717145 | L51: =F51/H51 -> 1.4285714 | M51: =K51*L51 -> 1.6738778 | N51: =125.7*G51/C51 -> 12.737973 | O51: 965 | P51: =O51-U51/3 -> 859 | Q51: =R51-0.9*0.75*X51 -> 114.9375 | R51: 120 | S51: 110 | T51: 310 | U51: 318 | V51: =(T51+U51)/2 -> 314 | W51: 325 | X51: 7.5 | Y51: 4.2 | Z51: =X51/Y51*100 -> 178.57143 | AA51: 8900 | AC51: =A51 -> Yamaha WR 450 F
A52: Yamaha XT 250 (USA 2020) | B52: https://www.yamahamotorsports.com/dual-sport/models/xt250 | C52: 249 | D52: 16.2 | E52: =D52/1.36 -> 11.911765 | F52: 6980 | G52: 17.5 | H52: 6480 | I52: =E52/C52*1000 -> 47.838412 | J52: =G52/C52*1000 -> 70.281125 | K52: =(G52/(E52/F52*9550)) -> 1.0737767 | L52: =F52/H52 -> 1.0771605 | M52: =K52*L52 -> 1.1566299 | N52: =125.7*G52/C52 -> 8.8343373 | O52: 810 | P52: =O52-U52/3 -> 750 | Q52: =R52-0.9*0.75*X52 -> 125.385 | R52: 132 | S52: 160 | T52: 226 | U52: 180 | V52: =(T52+U52)/2 -> 203 | W52: 284 | X52: 9.8 | Y52: 3.1 | Z52: =X52/Y52*100 -> 316.12903 | AA52: 4700 | AB52: (USD 5199 in 2020) | AC52: =A52 -> Yamaha XT 250 (USA 2020)
A53: Yamaha XT 350 (55V) | B53: http://www.rallye-tenere.net/Stamb_xt_350.htm | C53: 349 | D53: 27 | E53: =D53/1.36 -> 19.852941 | F53: 6500 | G53: 24 | H53: 3000 | I53: =E53/C53*1000 -> 56.885218 | J53: =G53/C53*1000 -> 68.767908 | K53: =(G53/(E53/F53*9550)) -> 0.82280396 | L53: =F53/H53 -> 2.1666667 | M53: =K53*L53 -> 1.7827419 | N53: =125.7*G53/C53 -> 8.6441261 | O53: 855 | P53: =O53-U53/3 -> 781.66667 | Q53: =R53-0.9*0.75*X53 -> 131.9 | R53: 140 | S53: 192 | T53: 255 | U53: 220 | V53: =(T53+U53)/2 -> 237.5 | W53: 275 | X53: 12 | Y53: 4.7 | Z53: =X53/Y53*100 -> 255.31915 | AC53: =A53 -> Yamaha XT 350 (55V)
A54: Yamaha XT 500 | B54: https://de.wikipedia.org/wiki/Yamaha_XT_500 | C54: 499 | D54: 33 | E54: =D54/1.36 -> 24.264706 | F54: 6500 | G54: 34.4 | H54: 4500 | I54: =E54/C54*1000 -> 48.626665 | J54: =G54/C54*1000 -> 68.937876 | K54: =(G54/(E54/F54*9550)) -> 0.96492464 | L54: =F54/H54 -> 1.4444444 | M54: =K54*L54 -> 1.39378 | N54: =125.7*G54/C54 -> 8.665491 | O54: 830 | P54: =O54-U54/3 -> 777 | Q54: 141 | R54: 150 | S54: 169 | T54: 195 | U54: 159 | V54: =(T54+U54)/2 -> 177 | W54: 240 | X54: 8.8 | Y54: 5.2 | Z54: =X54/Y54*100 -> 169.23077 | AC54: =A54 -> Yamaha XT 500
A55: Yamaha XT 550 | C55: 558 | D55: 38 | E55: =D55/1.36 -> 27.941176 | F55: 6500 | G55: 44 | H55: 5000 | I55: =E55/C55*1000 -> 50.073793 | J55: =G55/C55*1000 -> 78.853047 | K55: =(G55/(E55/F55*9550)) -> 1.0718104 | L55: =F55/H55 -> 1.3 | M55: =K55*L55 -> 1.3933535 | N55: =125.7*G55/C55 -> 9.911828 | O55: 860 | P55: =O55-U55/3 -> 793.33333 | Q55: 134 | R55: 145 | S55: 195 | T55: 220 | U55: 200 | V55: =(T55+U55)/2 -> 210 | W55: 250 | X55: 12 | Y55: 4.5 | Z55: =X55/Y55*100 -> 266.66667 | AC55: =A55 -> Yamaha XT 550
A56: Yamaha XT 600 (2KF) | B56: http://www.rallye-tenere.net/Stamb_xt_600_2kf.htm | C56: 595 | D56: 45 | E56: =D56/1.36 -> 33.088235 | F56: 6500 | G56: 50 | H56: 5500 | I56: =E56/C56*1000 -> 55.610479 | J56: =G56/C56*1000 -> 84.033613 | K56: =(G56/(E56/F56*9550)) -> 1.0285049 | L56: =F56/H56 -> 1.1818182 | M56: =K56*L56 -> 1.2155058 | N56: =125.7*G56/C56 -> 10.563025 | O56: 885 | P56: =O56-U56/3 -> 806.66667 | Q56: =R56-0.9*0.75*X56 -> 150.225 | R56: 159 | S56: 215 | T56: 255 | U56: 235 | V56: =(T56+U56)/2 -> 245 | W56: 265 | X56: 13 | Y56: 5 | Z56: =X56/Y56*100 -> 260 | AC56: =A56 -> Yamaha XT 600 (2KF)
A57: Yamaha XT 660 R | B57: https://de.wikipedia.org/wiki/Yamaha_XT_660_R | C57: 660 | D57: 48 | E57: =D57/1.36 -> 35.294118 | F57: 6000 | G57: 60 | H57: 5250 | I57: =E57/C57*1000 -> 53.475936 | J57: =G57/C57*1000 -> 90.909091 | K57: =(G57/(E57/F57*9550)) -> 1.0680628 | L57: =F57/H57 -> 1.1428571 | M57: =K57*L57 -> 1.2206432 | N57: =125.7*G57/C57 -> 11.427273 | O57: 865 | P57: =O57-U57/3 -> 798.33333 | Q57: 165 | R57: 181 | S57: 186 | T57: 225 | U57: 200 | V57: =(T57+U57)/2 -> 212.5 | W57: 180 | X57: 15 | Y57: 4.2 | Z57: =X57/Y57*100 -> 357.14286 | AC57: =A57 -> Yamaha XT 660 R
A58: Yamaha XT 660 Z Ténénré | B58: https://scholly.de/images/bikekatalog/20160107145701_Yamaha%202015%20XTZ660.pdf | C58: 660 | D58: 48 | E58: =D58/1.36 -> 35.294118 | F58: 6000 | G58: 58 | H58: 5500 | I58: =E58/C58*1000 -> 53.475936 | J58: =G58/C58*1000 -> 87.878788 | K58: =(G58/(E58/F58*9550)) -> 1.0324607 | L58: =F58/H58 -> 1.0909091 | M58: =K58*L58 -> 1.1263208 | N58: =125.7*G58/C58 -> 11.046364 | O58: 896 | P58: =O58-U58/3 -> 829.33333 | Q58: 183 | R58: 208.5 | S58: 190 | T58: 210 | U58: 200 | V58: =(T58+U58)/2 -> 205 | W58: 260 | X58: 23 | Y58: 4.2 | Z58: =X58/Y58*100 -> 547.61905 | AA58: 7995 | AB58: (price in 2015) | AC58: =A58 -> Yamaha XT 660 Z Ténénré
A59: Yamaha XT 660 Z Ténéré ABS | B59: https://cdn.yamaha-motor.eu/owner-manuals/Motorcycles/P2BDF8199G1G.pdf | C59: 660 | D59: 48 | E59: =D59/1.36 -> 35.294118 | F59: 6000 | G59: 58 | H59: 5500 | I59: =E59/C59*1000 -> 53.475936 | J59: =G59/C59*1000 -> 87.878788 | K59: =(G59/(E59/F59*9550)) -> 1.0324607 | L59: =F59/H59 -> 1.0909091 | M59: =K59*L59 -> 1.1263208 | N59: =125.7*G59/C59 -> 11.046364 | O59: 865 | P59: =O59-U59/3 -> 816.66667 | Q59: 192 | R59: 215 | S59: 190 | T59: 160 | U59: 145 | V59: =(T59+U59)/2 -> 152.5 | W59: 205 | X59: 23 | Y59: 4.2 | Z59: =X59/Y59*100 -> 547.61905 | AA59: 8195 | AB59: (price in 2012) | AC59: =A59 -> Yamaha XT 660 Z Ténéré ABS
A60: Zontes 310-T2 | B60: https://zontes.eu/de/moto/310t | C60: 312 | D60: 35 | E60: =D60/1.36 -> 25.735294 | F60: 9500 | G60: 30 | H60: 7500 | I60: =E60/C60*1000 -> 82.484917 | J60: =G60/C60*1000 -> 96.153846 | K60: =(G60/(E60/F60*9550)) -> 1.1596111 | L60: =F60/H60 -> 1.2666667 | M60: =K60*L60 -> 1.4688407 | N60: =125.7*G60/C60 -> 12.086538 | O60: 840 | P60: =O60-U60/3 -> 780 | Q60: 149 | R60: 159 | S60: 160 | T60: 180 | U60: 180 | V60: =(T60+U60)/2 -> 180 | W60: 186 | X60: 15 | Y60: 3.6 | Z60: =X60/Y60*100 -> 416.66667 | AA60: 4990 | AC60: =A60 -> Zontes 310-T2
A63: =A1 -> Model | D63: =D1 -> Engine power [bhp] | I63: =I1 -> Specif. Power [kW/litre] | J63: =J1 -> Specif. Torque [Nm/litre] | K63: =K1 -> Torque Elasticity | L63: =L1 -> RPM Elasticity | M63: =M1 -> Engine Elasticity | O63: =O1 -> Seat Height, unloaded [mm] | P63: =P1 -> Seat Height, loaded [mm] | Q63: =Q1 -> Dry weight [kg] | R63: =R1 -> Curb weight [kg] | S63: =S1 -> Load capacity [kg] | V63: =V1 -> Avg. suspension travel [mm] | X63: =X1 -> Tank capacity [liters] | Y63: =Y1 -> Economy - Fuel consumption [l/100 km] | Z63: =Z1 -> Mileage [km/tank] | AA63: Points (considering engine power) | AB63: Points (neglecting engine power) | AC63: Price-Performance-Ratio [Euros/Points] | AD63: Model
A64: =A2 -> AJP PR7 Adventure 650 | D64: =(D2/Max(D$2:D$60))^(1/2)*100 -> 45.374261 | I64: =I2/Max(I$2:I$60)*100 -> 29.933333 | J64: =J2/Max(J$2:J$60)*100 -> 42.384615 | K64: =K2/Max(K$2:K$60)*100 -> 75.12381 | L64: =L2/Max(L$2:L$60)*100 -> 53.846154 | M64: =M2/Max(M$2:M$60)*100 -> 41.116898 | Q64: =Min(Q$2:Q$60)/Q2*100 -> 66.554054 | R64: =Min(R$2:R$60)/R2*100 -> 62.424242 | S64: =S2/Max(S$2:S$60)*100 -> 66.532258 | V64: =V2/Max(V$2:V$60)*100 -> 92.356688 | X64: =X2/Max(X$2:X$60)*100 -> 48.571429 | Y64: =Min(Y$2:Y$60)/Y2*100 -> 66.666667 | Z64: =Z2/Max(Z$2:Z$60)*100 -> 53.968254 | AA64: =(D64*R64*S64*V64*Y64*Z64)^(1/6) -> 63.016135 | AB64: =(Q64*S64*V64*Y64*Z64)^(1/5) -> 68.162333 | AC64: =AA2/AB64 -> 158.29857 | AD64: =A64 -> AJP PR7 Adventure 650
A65: =A3 -> AKT TT 250 Adventour / CSC RX3 Adventure / Zongshen RX3 | D65: =(D3/Max(D$2:D$60))^(1/2)*100 -> 42.702803 | I65: =I3/Max(I$2:I$60)*100 -> 63.629714 | J65: =J3/Max(J$2:J$60)*100 -> 78.923077 | K65: =K3/Max(K$2:K$60)*100 -> 84.608295 | L65: =L3/Max(L$2:L$60)*100 -> 59.340659 | M65: =M3/Max(M$2:M$60)*100 -> 51.033266 | Q65: =Min(Q$2:Q$60)/Q3*100 -> 65.666667 | R65: =Min(R$2:R$60)/R3*100 -> 58.857143 | S65: =S3/Max(S$2:S$60)*100 -> 66.532258 | V65: =V3/Max(V$2:V$60)*100 -> 43.312102 | X65: =X3/Max(X$2:X$60)*100 -> 45.714286 | Y65: =Min(Y$2:Y$60)/Y3*100 -> 75 | Z65: =Z3/Max(Z$2:Z$60)*100 -> 57.142857 | AA65: =(D65*R65*S65*V65*Y65*Z65)^(1/6) -> 56.060037 | AB65: =(Q65*S65*V65*Y65*Z65)^(1/5) -> 60.506487 | AC65: =AA3/AB65 -> 47.598202 | AD65: =A65 -> AKT TT 250 Adventour / CSC RX3 Adventure / Zongshen RX3
A66: =A4 -> Beta Alp 4.0 | D66: =(D4/Max(D$2:D$60))^(1/2)*100 -> 44.556639 | I66: =I4/Max(I$2:I$60)*100 -> 49.623414 | J66: =J4/Max(J$2:J$60)*100 -> 70.35486 | K66: =K4/Max(K$2:K$60)*100 -> 75.219753 | L66: =L4/Max(L$2:L$60)*100 -> 51.692308 | M66: =M4/Max(M$2:M$60)*100 -> 39.522634 | Q66: =Min(Q$2:Q$60)/Q4*100 -> 74.06015 | R66: =Min(R$2:R$60)/R4*100 -> 71.034483 | S66: =S4/Max(S$2:S$60)*100 -> 66.532258 | V66: =V4/Max(V$2:V$60)*100 -> 70.063694 | X66: =X4/Max(X$2:X$60)*100 -> 30 | Y66: =Min(Y$2:Y$60)/Y4*100 -> 63.829787 | Z66: =Z4/Max(Z$2:Z$60)*100 -> 31.914894 | AA66: =(D66*R66*S66*V66*Y66*Z66)^(1/6) -> 55.759725 | AB66: =(Q66*S66*V66*Y66*Z66)^(1/5) -> 58.806501 | AC66: =AA4/AB66 -> 100.32904 | AD66: =A66 -> Beta Alp 4.0
A67: =A5 -> BMW G 310 GS | D67: =(D5/Max(D$2:D$60))^(1/2)*100 -> 50 | I67: =I5/Max(I$2:I$60)*100 -> 69.675947 | J67: =J5/Max(J$2:J$60)*100 -> 78.446793 | K67: =K5/Max(K$2:K$60)*100 -> 81.066667 | L67: =L5/Max(L$2:L$60)*100 -> 58.461538 | M67: =M5/Max(M$2:M$60)*100 -> 48.172658 | Q67: =Min(Q$2:Q$60)/Q5*100 -> 60.774333 | R67: =Min(R$2:R$60)/R5*100 -> 60.766962 | S67: =S5/Max(S$2:S$60)*100 -> 70.766129 | V67: =V5/Max(V$2:V$60)*100 -> 57.324841 | X67: =X5/Max(X$2:X$60)*100 -> 31.428571 | Y67: =Min(Y$2:Y$60)/Y5*100 -> 85.714286 | Z67: =Z5/Max(Z$2:Z$60)*100 -> 44.897959 | AA67: =(D67*R67*S67*V67*Y67*Z67)^(1/6) -> 60.16551 | AB67: =(Q67*S67*V67*Y67*Z67)^(1/5) -> 62.435797 | AC67: =AA5/AB67 -> 96.899539 | AD67: =A67 -> BMW G 310 GS
A68: =A6 -> BMW G 650 GS | D68: =(D6/Max(D$2:D$60))^(1/2)*100 -> 59.408853 | I68: =I6/Max(I$2:I$60)*100 -> 47.221735 | J68: =J6/Max(J$2:J$60)*100 -> 80.698443 | K68: =K6/Max(K$2:K$60)*100 -> 84.190476 | L68: =L6/Max(L$2:L$60)*100 -> 60 | M68: =M6/Max(M$2:M$60)*100 -> 51.345486 | Q68: =Min(Q$2:Q$60)/Q6*100 -> 55.965909 | R68: =Min(R$2:R$60)/R6*100 -> 53.645833 | S68: =S6/Max(S$2:S$60)*100 -> 75.806452 | V68: =V6/Max(V$2:V$60)*100 -> 53.343949 | X68: =X6/Max(X$2:X$60)*100 -> 40 | Y68: =Min(Y$2:Y$60)/Y6*100 -> 78.947368 | Z68: =Z6/Max(Z$2:Z$60)*100 -> 52.631579 | AA68: =(D68*R68*S68*V68*Y68*Z68)^(1/6) -> 61.394164 | AB68: =(Q68*S68*V68*Y68*Z68)^(1/5) -> 62.324642 | AC68: =AA6/AB68 -> 118.73313 | AD68: =A68 -> BMW G 650 GS
A69: =A7 -> BMW G 650 GS Sertao | D69: =(D7/Max(D$2:D$60))^(1/2)*100 -> 59.408853 | I69: =I7/Max(I$2:I$60)*100 -> 47.221735 | J69: =J7/Max(J$2:J$60)*100 -> 80.698443 | K69: =K7/Max(K$2:K$60)*100 -> 84.190476 | L69: =L7/Max(L$2:L$60)*100 -> 60 | M69: =M7/Max(M$2:M$60)*100 -> 51.345486 | Q69: =Min(Q$2:Q$60)/Q7*100 -> 54.120879 | R69: =Min(R$2:R$60)/R7*100 -> 52.020202 | S69: =S7/Max(S$2:S$60)*100 -> 73.387097 | V69: =V7/Max(V$2:V$60)*100 -> 66.878981 | X69: =X7/Max(X$2:X$60)*100 -> 40 | Y69: =Min(Y$2:Y$60)/Y7*100 -> 78.947368 | Z69: =Z7/Max(Z$2:Z$60)*100 -> 52.631579 | AA69: =(D69*R69*S69*V69*Y69*Z69)^(1/6) -> 63.084031 | AB69: =(Q69*S69*V69*Y69*Z69)^(1/5) -> 64.353423 | AC69: =AA7/AB69 -> 125.09047 | AD69: =A69 -> BMW G 650 GS Sertao
A70: =A8 -> BMW G 650 XCountry (2006) | D70: =(D8/Max(D$2:D$60))^(1/2)*100 -> 62.426427 | I70: =I8/Max(I$2:I$60)*100 -> 52.140666 | J70: =J8/Max(J$2:J$60)*100 -> 80.698443 | K70: =K8/Max(K$2:K$60)*100 -> 82.113208 | L70: =L8/Max(L$2:L$60)*100 -> 61.538462 | M70: =M8/Max(M$2:M$60)*100 -> 51.362683 | Q70: =Min(Q$2:Q$60)/Q8*100 -> 65.886288 | R70: =Min(R$2:R$60)/R8*100 -> 64.375 | S70: =S8/Max(S$2:S$60)*100 -> 70.564516 | V70: =V8/Max(V$2:V$60)*100 -> 71.656051 | X70: =X8/Max(X$2:X$60)*100 -> 27.142857 | Y70: =Min(Y$2:Y$60)/Y8*100 -> 73.170732 | Z70: =Z8/Max(Z$2:Z$60)*100 -> 33.101045 | AA70: =(D70*R70*S70*V70*Y70*Z70)^(1/6) -> 60.536505 | AB70: =(Q70*S70*V70*Y70*Z70)^(1/5) -> 60.445319 | AC70: =AA8/AB70 -> 114.15276 | AD70: =A70 -> BMW G 650 XCountry (2006)
A71: =A9 -> BMW G 650 XCountry (2009) | D71: =(D9/Max(D$2:D$60))^(1/2)*100 -> 62.426427 | I71: =I9/Max(I$2:I$60)*100 -> 52.140666 | J71: =J9/Max(J$2:J$60)*100 -> 80.698443 | K71: =K9/Max(K$2:K$60)*100 -> 82.113208 | L71: =L9/Max(L$2:L$60)*100 -> 61.538462 | M71: =M9/Max(M$2:M$60)*100 -> 51.362683 | Q71: =Min(Q$2:Q$60)/Q9*100 -> 65.886288 | R71: =Min(R$2:R$60)/R9*100 -> 64.375 | S71: =S9/Max(S$2:S$60)*100 -> 70.564516 | V71: =V9/Max(V$2:V$60)*100 -> 59.713376 | X71: =X9/Max(X$2:X$60)*100 -> 27.142857 | Y71: =Min(Y$2:Y$60)/Y9*100 -> 73.170732 | Z71: =Z9/Max(Z$2:Z$60)*100 -> 33.101045 | AA71: =(D71*R71*S71*V71*Y71*Z71)^(1/6) -> 58.724654 | AB71: =(Q71*S71*V71*Y71*Z71)^(1/5) -> 58.280924 | AC71: =AA9/AB71 -> 118.39208 | AD71: =A71 -> BMW G 650 XCountry (2009)
A72: =A10 -> BMW G 650 XChallenge | D72: =(D10/Max(D$2:D$60))^(1/2)*100 -> 62.426427 | I72: =I10/Max(I$2:I$60)*100 -> 52.140666 | J72: =J10/Max(J$2:J$60)*100 -> 80.698443 | K72: =K10/Max(K$2:K$60)*100 -> 82.113208 | L72: =L10/Max(L$2:L$60)*100 -> 61.538462 | M72: =M10/Max(M$2:M$60)*100 -> 51.362683 | Q72: =Min(Q$2:Q$60)/Q10*100 -> 68.402778 | R72: =Min(R$2:R$60)/R10*100 -> 66.025641 | S72: =S10/Max(S$2:S$60)*100 -> 72.177419 | V72: =V10/Max(V$2:V$60)*100 -> 85.987261 | X72: =X10/Max(X$2:X$60)*100 -> 27.142857 | Y72: =Min(Y$2:Y$60)/Y10*100 -> 71.428571 | Z72: =Z10/Max(Z$2:Z$60)*100 -> 32.312925 | AA72: =(D72*R72*S72*V72*Y72*Z72)^(1/6) -> 62.401372 | AB72: =(Q72*S72*V72*Y72*Z72)^(1/5) -> 62.839322 | AC72: =AA10/AB72 -> 130.49154 | AD72: =A72 -> BMW G 650 XChallenge
A73: =A11 -> BMW R 1200 GS Rallye (2012) | D73: =(D11/Max(D$2:D$60))^(1/2)*100 -> 89.934617 | I73: =I11/Max(I$2:I$60)*100 -> 60.30525 | J73: =J11/Max(J$2:J$60)*100 -> 89.940828 | K73: =K11/Max(K$2:K$60)*100 -> 87.605195 | L73: =L11/Max(L$2:L$60)*100 -> 59.615385 | M73: =M11/Max(M$2:M$60)*100 -> 53.085543 | Q73: =Min(Q$2:Q$60)/Q11*100 -> 48.522167 | R73: =Min(R$2:R$60)/R11*100 -> 44.978166 | S73: =S11/Max(S$2:S$60)*100 -> 85.080645 | V73: =V11/Max(V$2:V$60)*100 -> 62.101911 | X73: =X11/Max(X$2:X$60)*100 -> 57.142857 | Y73: =Min(Y$2:Y$60)/Y11*100 -> 56.603774 | Z73: =Z11/Max(Z$2:Z$60)*100 -> 53.908356 | AA73: =(D73*R73*S73*V73*Y73*Z73)^(1/6) -> 63.444548 | AB73: =(Q73*S73*V73*Y73*Z73)^(1/5) -> 60.072469 | AC73: =AA11/AB73 -> 248.86608 | AD73: =A73 -> BMW R 1200 GS Rallye (2012)
A74: =A12 -> BMW R 1250 GS | D74: =(D12/Max(D$2:D$60))^(1/2)*100 -> 100 | I74: =I12/Max(I$2:I$60)*100 -> 69.564821 | J74: =J12/Max(J$2:J$60)*100 -> 100 | K74: =K12/Max(K$2:K$60)*100 -> 84.438095 | L74: =L12/Max(L$2:L$60)*100 -> 57.230769 | M74: =M12/Max(M$2:M$60)*100 -> 49.119741 | Q74: =Min(Q$2:Q$60)/Q12*100 -> 41.825902 | R74: =Min(R$2:R$60)/R12*100 -> 41.365462 | S74: =S12/Max(S$2:S$60)*100 -> 87.096774 | V74: =V12/Max(V$2:V$60)*100 -> 62.101911 | X74: =X12/Max(X$2:X$60)*100 -> 57.142857 | Y74: =Min(Y$2:Y$60)/Y12*100 -> 54.545455 | Z74: =Z12/Max(Z$2:Z$60)*100 -> 51.948052 | AA74: =(D74*R74*S74*V74*Y74*Z74)^(1/6) -> 63.145944 | AB74: =(Q74*S74*V74*Y74*Z74)^(1/5) -> 57.726608 | AC74: =AA12/AB74 -> 284.96391 | AD74: =A74 -> BMW R 1250 GS
A75: =A13 -> BMW R 1250 GS Adventure | D75: =(D13/Max(D$2:D$60))^(1/2)*100 -> 100 | I75: =I13/Max(I$2:I$60)*100 -> 69.564821 | J75: =J13/Max(J$2:J$60)*100 -> 100 | K75: =K13/Max(K$2:K$60)*100 -> 84.438095 | L75: =L13/Max(L$2:L$60)*100 -> 57.230769 | M75: =M13/Max(M$2:M$60)*100 -> 49.119741 | Q75: =Min(Q$2:Q$60)/Q13*100 -> 39.75782 | R75: =Min(R$2:R$60)/R13*100 -> 38.432836 | S75: =S13/Max(S$2:S$60)*100 -> 87.5 | V75: =V13/Max(V$2:V$60)*100 -> 68.471338 | X75: =X13/Max(X$2:X$60)*100 -> 85.714286 | Y75: =Min(Y$2:Y$60)/Y13*100 -> 54.545455 | Z75: =Z13/Max(Z$2:Z$60)*100 -> 77.922078 | AA75: =(D75*R75*S75*V75*Y75*Z75)^(1/6) -> 67.884882 | AB75: =(Q75*S75*V75*Y75*Z75)^(1/5) -> 63.251627 | AC75: =AA13/AB75 -> 284.57766 | AD75: =A75 -> BMW R 1250 GS Adventure
... A82: =A20 -> Honda XRE 300 ABS | D82: =(D20/Max(D$2:D$60))^(1/2)*100 -> 43.216282 | I82: =I20/Max(I$2:I$60)*100 -> 55.872036 | J82: =J20/Max(J$2:J$60)*100 -> 84.203862 | K82: =K20/Max(K$2:K$60)*100 -> 85.669291 | L82: =L20/Max(L$2:L$60)*100 -> 57.692308 | M82: =M20/Max(M$2:M$60)*100 -> 50.237861 | Q82: =Min(Q$2:Q$60)/Q20*100 -> 66.554054 | R82: =Min(R$2:R$60)/R20*100 -> 64.779874 | S82: =S20/Max(S$2:S$60)*100 -> 62.5 | V82: =V20/Max(V$2:V$60)*100 -> 74.840764 | X82: =X20/Max(X$2:X$60)*100 -> 38.857143 | Y82: =Min(Y$2:Y$60)/Y20*100 -> 85.714286 | Z82: =Z20/Max(Z$2:Z$60)*100 -> 55.510204 | AA82: =(D82*R82*S82*V82*Y82*Z82)^(1/6) -> 62.963466 | AB82: =(Q82*S82*V82*Y82*Z82)^(1/5) -> 68.253316 | AC82: =AA20/AB82 -> 67.395993 | AD82: =A82 -> Honda XRE 300 ABS
A83: =A21 -> Honda NX 250 Dominator (MD21) | D83: =(D21/Max(D$2:D$60))^(1/2)*100 -> 43.723732 | I83: =I21/Max(I$2:I$60)*100 -> 66.976477 | J83: =J21/Max(J$2:J$60)*100 -> 81.000927 | K83: =K21/Max(K$2:K$60)*100 -> 77.913553 | L83: =L21/Max(L$2:L$60)*100 -> 56.043956 | M83: =M21/Max(M$2:M$60)*100 -> 44.384348 | Q83: =Min(Q$2:Q$60)/Q21*100 -> 83.474576 | R83: =Min(R$2:R$60)/R21*100 -> 77.443609 | S83: =S21/Max(S$2:S$60)*100 -> 72.580645 | V83: =V21/Max(V$2:V$60)*100 -> 66.878981 | X83: =X21/Max(X$2:X$60)*100 -> 25.714286 | Y83: =Min(Y$2:Y$60)/Y21*100 -> 88.235294 | Z83: =Z21/Max(Z$2:Z$60)*100 -> 37.815126 | AA83: =(D83*R83*S83*V83*Y83*Z83)^(1/6) -> 61.638708 | AB83: =(Q83*S83*V83*Y83*Z83)^(1/5) -> 67.018471 | AD83: =A83 -> Honda NX 250 Dominator (MD21)
A84: =A22 -> Honda NX4 Falcon | D84: =(D22/Max(D$2:D$60))^(1/2)*100 -> 47.434165 | I84: =I22/Max(I$2:I$60)*100 -> 49.315865 | J84: =J22/Max(J$2:J$60)*100 -> 75.794356 | K84: =K22/Max(K$2:K$60)*100 -> 75.716402 | L84: =L22/Max(L$2:L$60)*100 -> 50 | M84: =M22/Max(M$2:M$60)*100 -> 38.481149 | Q84: =Min(Q$2:Q$60)/Q22*100 -> 65.231788 | R84: =Min(R$2:R$60)/R22*100 -> 61.309524 | S84: =S22/Max(S$2:S$60)*100 -> 62.5 | V84: =V22/Max(V$2:V$60)*100 -> 66.082803 | X84: =X22/Max(X$2:X$60)*100 -> 42.857143 | Y84: =Min(Y$2:Y$60)/Y22*100 -> 85.714286 | Z84: =Z22/Max(Z$2:Z$60)*100 -> 61.22449 | AA84: =(D84*R84*S84*V84*Y84*Z84)^(1/6) -> 63.085228 | AB84: =(Q84*S84*V84*Y84*Z84)^(1/5) -> 67.620944 | AC84: =AA22/AB84 -> 68.026261 | AD84: =A84 -> Honda NX4 Falcon
A85: =A23 -> Honda NX 650 Dominator (RD02) | D85: =(D23/Max(D$2:D$60))^(1/2)*100 -> 56.879646 | I85: =I23/Max(I$2:I$60)*100 -> 43.824312 | J85: =J23/Max(J$2:J$60)*100 -> 72.169135 | K85: =K23/Max(K$2:K$60)*100 -> 74.888312 | L85: =L23/Max(L$2:L$60)*100 -> 50.34965 | M85: =M23/Max(M$2:M$60)*100 -> 38.326446 | Q85: =Min(Q$2:Q$60)/Q23*100 -> 64.802632 | R85: =Min(R$2:R$60)/R23*100 -> 61.309524 | S85: =S23/Max(S$2:S$60)*100 -> 71.370968 | V85: =V23/Max(V$2:V$60)*100 -> 66.082803 | X85: =X23/Max(X$2:X$60)*100 -> 37.142857 | Y85: =Min(Y$2:Y$60)/Y23*100 -> 56.603774 | Z85: =Z23/Max(Z$2:Z$60)*100 -> 35.040431 | AA85: =(D85*R85*S85*V85*Y85*Z85)^(1/6) -> 56.526438 | AB85: =(Q85*S85*V85*Y85*Z85)^(1/5) -> 57.085197 | AD85: =A85 -> Honda NX 650 Dominator (RD02)
A86: =A24 -> Honda CB 500 X | D86: =(D24/Max(D$2:D$60))^(1/2)*100 -> 59.408853 | I86: =I24/Max(I$2:I$60)*100 -> 65.368517 | J86: =J24/Max(J$2:J$60)*100 -> 80.058795 | K86: =K24/Max(K$2:K$60)*100 -> 79.829841 | L86: =L24/Max(L$2:L$60)*100 -> 61.065089 | M86: =M24/Max(M$2:M$60)*100 -> 49.550303 | Q86: =Min(Q$2:Q$60)/Q24*100 -> 55.337079 | R86: =Min(R$2:R$60)/R24*100 -> 52.284264 | S86: =S24/Max(S$2:S$60)*100 -> 74.596774 | V86: =V24/Max(V$2:V$60)*100 -> 45.382166 | X86: =X24/Max(X$2:X$60)*100 -> 50.571429 | Y86: =Min(Y$2:Y$60)/Y24*100 -> 88.235294 | Z86: =Z24/Max(Z$2:Z$60)*100 -> 74.369748 | AA86: =(D86*R86*S86*V86*Y86*Z86)^(1/6) -> 64.043886 | AB86: =(Q86*S86*V86*Y86*Z86)^(1/5) -> 65.755491 | AC86: =AA24/AB86 -> 106.30291 | AD86: =A86 -> Honda CB 500 X
A87: =A25 -> Honda XL 600 V Transalp PD06 | D87: =(D25/Max(D$2:D$60))^(1/2)*100 -> 60.633906 | I87: =I25/Max(I$2:I$60)*100 -> 55.011027 | J87: =J25/Max(J$2:J$60)*100 -> 76.711967 | K87: =K25/Max(K$2:K$60)*100 -> 84.553143 | L87: =L25/Max(L$2:L$60)*100 -> 61.538462 | M87: =M25/Max(M$2:M$60)*100 -> 52.888889 | Q87: =Min(Q$2:Q$60)/Q25*100 -> 53.825137 | R87: =Min(R$2:R$60)/R25*100 -> 50.990099 | S87: =S25/Max(S$2:S$60)*100 -> 72.580645 | V87: =V25/Max(V$2:V$60)*100 -> 62.101911 | X87: =X25/Max(X$2:X$60)*100 -> 51.428571 | Y87: =Min(Y$2:Y$60)/Y25*100 -> 57.692308 | Z87: =Z25/Max(Z$2:Z$60)*100 -> 49.450549 | AA87: =(D87*R87*S87*V87*Y87*Z87)^(1/6) -> 58.421052 | AB87: =(Q87*S87*V87*Y87*Z87)^(1/5) -> 58.619214 | AD87: =A87 -> Honda XL 600 V Transalp PD06
A88: =A26 -> Honda CRF 1100 Africa Twin | D88: =(D26/Max(D$2:D$60))^(1/2)*100 -> 86.60254 | I88: =I26/Max(I$2:I$60)*100 -> 60.355825 | J88: =J26/Max(J$2:J$60)*100 -> 84.941811 | K88: =K26/Max(K$2:K$60)*100 -> 80 | L88: =L26/Max(L$2:L$60)*100 -> 55.384615 | M88: =M26/Max(M$2:M$60)*100 -> 45.036765 | Q88: =Min(Q$2:Q$60)/Q26*100 -> 46.176926 | R88: =Min(R$2:R$60)/R26*100 -> 45.575221 | S88: =S26/Max(S$2:S$60)*100 -> 88.709677 | V88: =V26/Max(V$2:V$60)*100 -> 71.656051 | X88: =X26/Max(X$2:X$60)*100 -> 53.714286 | Y88: =Min(Y$2:Y$60)/Y26*100 -> 61.22449 | Z88: =Z26/Max(Z$2:Z$60)*100 -> 54.810496 | AA88: =(D88*R88*S88*V88*Y88*Z88)^(1/6) -> 66.203157 | AB88: =(Q88*S88*V88*Y88*Z88)^(1/5) -> 62.905346 | AC88: =AA26/AB88 -> 229.71021 | AD88: =A88 -> Honda CRF 1100 Africa Twin
A89: =A27 -> Husqvarna 701 LR (2020) | D89: =(D27/Max(D$2:D$60))^(1/2)*100 -> 74.261066 | I89: =I27/Max(I$2:I$60)*100 -> 69.418677 | J89: =J27/Max(J$2:J$60)*100 -> 93.006993 | K89: =K27/Max(K$2:K$60)*100 -> 81.237333 | L89: =L27/Max(L$2:L$60)*100 -> 56.804734 | M89: =M27/Max(M$2:M$60)*100 -> 46.905983 | Q89: =Min(Q$2:Q$60)/Q27*100 -> 63.548387 | R89: =Min(R$2:R$60)/R27*100 -> 60.588235 | S89: =S27/Max(S$2:S$60)*100 -> 78.629032 | V89: =V27/Max(V$2:V$60)*100 -> 79.617834 | X89: =X27/Max(X$2:X$60)*100 -> 71.428571 | Y89: =Min(Y$2:Y$60)/Y27*100 -> 66.666667 | Z89: =Z27/Max(Z$2:Z$60)*100 -> 79.365079 | AA89: =(D89*R89*S89*V89*Y89*Z89)^(1/6) -> 72.813766 | AB89: =(Q89*S89*V89*Y89*Z89)^(1/5) -> 73.222947 | AC89: =AA27/AB89 -> 155.62061 | AD89: =A89 -> Husqvarna 701 LR (2020)
A90: =A28 -> Kawasaki KLX 250 | D90: =(D28/Max(D$2:D$60))^(1/2)*100 -> 40.219983 | I90: =I28/Max(I$2:I$60)*100 -> 56.672404 | J90: =J28/Max(J$2:J$60)*100 -> 72.196478 | K90: =K28/Max(K$2:K$60)*100 -> 72.415584 | L90: =L28/Max(L$2:L$60)*100 -> 49.450549 | M90: =M28/Max(M$2:M$60)*100 -> 36.399148 | Q90: =Min(Q$2:Q$60)/Q28*100 -> 74.17029 | R90: =Min(R$2:R$60)/R28*100 -> 74.637681 | S90: =S28/Max(S$2:S$60)*100 -> 72.983871 | V90: =V28/Max(V$2:V$60)*100 -> 77.229299 | X90: =X28/Max(X$2:X$60)*100 -> 22 | Y90: =Min(Y$2:Y$60)/Y28*100 -> 88.235294 | Z90: =Z28/Max(Z$2:Z$60)*100 -> 32.352941 | AA90: =(D90*R90*S90*V90*Y90*Z90)^(1/6) -> 60.347718 | AB90: =(Q90*S90*V90*Y90*Z90)^(1/5) -> 65.367069 | AC90: =AA28/AB90 -> 76.491115 | AD90: =A90 -> Kawasaki KLX 250
A91: =A29 -> Kawasaki Versys X-300 | D91: =(D29/Max(D$2:D$60))^(1/2)*100 -> 54.232614 | I91: =I29/Max(I$2:I$60)*100 -> 86.679537 | J91: =J29/Max(J$2:J$60)*100 -> 76.138254 | K91: =K29/Max(K$2:K$60)*100 -> 76.561524 | L91: =L29/Max(L$2:L$60)*100 -> 53.076923 | M91: =M29/Max(M$2:M$60)*100 -> 41.305165 | Q91: =Min(Q$2:Q$60)/Q29*100 -> 60.235438 | R91: =Min(R$2:R$60)/R29*100 -> 58.857143 | S91: =S29/Max(S$2:S$60)*100 -> 68.548387 | V91: =V29/Max(V$2:V$60)*100 -> 44.267516 | X91: =X29/Max(X$2:X$60)*100 -> 48.571429 | Y91: =Min(Y$2:Y$60)/Y29*100 -> 76.923077 | Z91: =Z29/Max(Z$2:Z$60)*100 -> 62.271062 | AA91: =(D91*R91*S91*V91*Y91*Z91)^(1/6) -> 59.944246 | AB91: =(Q91*S91*V91*Y91*Z91)^(1/5) -> 61.440604 | AC91: =AA29/AB91 -> 94.318734 | AD91: =A91 -> Kawasaki Versys X-300
A92: =A30 -> KTM Freeride 250 F | D92: =(D30/Max(D$2:D$60))^(1/2)*100 -> 38.824643 | I92: =I30/Max(I$2:I$60)*100 -> 52.597143 | J92: =J30/Max(J$2:J$60)*100 -> 63.138462 | K92: =K30/Max(K$2:K$60)*100 -> 77.335192 | L92: =L30/Max(L$2:L$60)*100 -> 56.856187 | M92: =M30/Max(M$2:M$60)*100 -> 44.693355 | Q92: =Min(Q$2:Q$60)/Q30*100 -> 100 | R92: =Min(R$2:R$60)/R30*100 -> 100 | S92: =S30/Max(S$2:S$60)*100 -> 40.322581 | V92: =V30/Max(V$2:V$60)*100 -> 81.210191 | X92: =X30/Max(X$2:X$60)*100 -> 15.714286 | Y92: =Min(Y$2:Y$60)/Y30*100 -> 85.714286 | Z92: =Z30/Max(Z$2:Z$60)*100 -> 22.44898 | AA92: =(D92*R92*S92*V92*Y92*Z92)^(1/6) -> 53.878979 | AB92: =(Q92*S92*V92*Y92*Z92)^(1/5) -> 57.528326 | AC92: =AA30/AB92 -> 140.76544 | AD92: =A92 -> KTM Freeride 250 F
A93: =A31 -> KTM 390 Adventure | D93: =(D31/Max(D$2:D$60))^(1/2)*100 -> 56.879646 | I93: =I31/Max(I$2:I$60)*100 -> 75.664496 | J93: =J31/Max(J$2:J$60)*100 -> 86.987008 | K93: =K31/Max(K$2:K$60)*100 -> 78.420779 | L93: =L31/Max(L$2:L$60)*100 -> 59.340659 | M93: =M31/Max(M$2:M$60)*100 -> 47.301136 | Q93: =Min(Q$2:Q$60)/Q31*100 -> 62.341772 | R93: =Min(R$2:R$60)/R31*100 -> 59.883721 | S93: =S31/Max(S$2:S$60)*100 -> 81.854839 | V93: =V31/Max(V$2:V$60)*100 -> 55.254777 | X93: =X31/Max(X$2:X$60)*100 -> 41.428571 | Y93: =Min(Y$2:Y$60)/Y31*100 -> 85.714286 | Z93: =Z31/Max(Z$2:Z$60)*100 -> 59.183673 | AA93: =(D93*R93*S93*V93*Y93*Z93)^(1/6) -> 65.386661 | AB93: =(Q93*S93*V93*Y93*Z93)^(1/5) -> 67.778147 | AC93: =AA31/AB93 -> 91.401141 | AD93: =A93 -> KTM 390 Adventure
A94: =A32 -> KTM 450 Rally | D94: =(D32/Max(D$2:D$60))^(1/2)*100 -> 71.743005 | I94: =I32/Max(I$2:I$60)*100 -> 100 | J94: =J32/Max(J$2:J$60)*100 -> 0 | K94: =K32/Max(K$2:K$60)*100 -> 0 | L94: =L32/Max(L$2:L$60)*100 -> 0 | M94: =M32/Max(M$2:M$60)*100 -> 0 | Q94: =Min(Q$2:Q$60)/Q32*100 -> 70.863309 | R94: =Min(R$2:R$60)/R32*100 -> 58.857143 | S94: =S32/Max(S$2:S$60)*100 -> 48.387097 | V94: =V32/Max(V$2:V$60)*100 -> 96.33758 | X94: =X32/Max(X$2:X$60)*100 -> 100 | Y94: =Min(Y$2:Y$60)/Y32*100 -> 60 | Z94: =Z32/Max(Z$2:Z$60)*100 -> 100 | AA94: =(D94*R94*S94*V94*Y94*Z94)^(1/6) -> 70.044797 | AB94: =(Q94*S94*V94*Y94*Z94)^(1/5) -> 72.346845 | AC94: =AA32/AB94 -> 427.66205 | AD94: =A94 -> KTM 450 Rally
A95: =A33 -> KTM 690 Enduro R | D95: =(D33/Max(D$2:D$60))^(1/2)*100 -> 74.261066 | I95: =I33/Max(I$2:I$60)*100 -> 69.418677 | J95: =J33/Max(J$2:J$60)*100 -> 93.006993 | K95: =K33/Max(K$2:K$60)*100 -> 81.237333 | L95: =L33/Max(L$2:L$60)*100 -> 56.804734 | M95: =M33/Max(M$2:M$60)*100 -> 46.905983 | Q95: =Min(Q$2:Q$60)/Q33*100 -> 67.465753 | R95: =Min(R$2:R$60)/R33*100 -> 64.375 | S95: =S33/Max(S$2:S$60)*100 -> 78.629032 | V95: =V33/Max(V$2:V$60)*100 -> 79.617834 | X95: =X33/Max(X$2:X$60)*100 -> 38.571429 | Y95: =Min(Y$2:Y$60)/Y33*100 -> 71.428571 | Z95: =Z33/Max(Z$2:Z$60)*100 -> 45.918367 | AA95: =(D95*R95*S95*V95*Y95*Z95)^(1/6) -> 67.918542 | AB95: =(Q95*S95*V95*Y95*Z95)^(1/5) -> 67.345257 | AC95: =AA33/AB95 -> 160.36764 | AD95: =A95 -> KTM 690 Enduro R
A96: =A34 -> KTM 790 Adventure S | D96: =(D34/Max(D$2:D$60))^(1/2)*100 -> 83.578072 | I96: =I34/Max(I$2:I$60)*100 -> 76.264974 | J96: =J34/Max(J$2:J$60)*100 -> 96.582266 | K96: =K34/Max(K$2:K$60)*100 -> 76.787168 | L96: =L34/Max(L$2:L$60)*100 -> 55.944056 | M96: =M34/Max(M$2:M$60)*100 -> 43.664717 | Q96: =Min(Q$2:Q$60)/Q34*100 -> 52.116402 | R96: =Min(R$2:R$60)/R34*100 -> 49.282297 | S96: =S34/Max(S$2:S$60)*100 -> 96.774194 | V96: =V34/Max(V$2:V$60)*100 -> 63.694268 | X96: =X34/Max(X$2:X$60)*100 -> 57.142857 | Y96: =Min(Y$2:Y$60)/Y34*100 -> 65.217391 | Z96: =Z34/Max(Z$2:Z$60)*100 -> 62.111801 | AA96: =(D96*R96*S96*V96*Y96*Z96)^(1/6) -> 68.448425 | AB96: =(Q96*S96*V96*Y96*Z96)^(1/5) -> 66.508075 | AC96: =AA34/AB96 -> 157.87557 | AD96: =A96 -> KTM 790 Adventure S
A97: =A35 -> KTM 790 Adventure R | D97: =(D35/Max(D$2:D$60))^(1/2)*100 -> 83.578072 | I97: =I35/Max(I$2:I$60)*100 -> 76.264974 | J97: =J35/Max(J$2:J$60)*100 -> 96.582266 | K97: =K35/Max(K$2:K$60)*100 -> 76.787168 | L97: =L35/Max(L$2:L$60)*100 -> 55.944056 | M97: =M35/Max(M$2:M$60)*100 -> 43.664717 | Q97: =Min(Q$2:Q$60)/Q35*100 -> 52.116402 | R97: =Min(R$2:R$60)/R35*100 -> 49.282297 | S97: =S35/Max(S$2:S$60)*100 -> 96.774194 | V97: =V35/Max(V$2:V$60)*100 -> 76.433121 | X97: =X35/Max(X$2:X$60)*100 -> 57.142857 | Y97: =Min(Y$2:Y$60)/Y35*100 -> 65.217391 | Z97: =Z35/Max(Z$2:Z$60)*100 -> 62.111801 | AA97: =(D97*R97*S97*V97*Y97*Z97)^(1/6) -> 70.560286 | AB97: =(Q97*S97*V97*Y97*Z97)^(1/5) -> 68.978004 | AC97: =AA35/AB97 -> 181.21719 | AD97: =A97 -> KTM 790 Adventure R
A98: =A36 -> KTM 790 Adventure R Rallye | D98: =(D36/Max(D$2:D$60))^(1/2)*100 -> 83.578072 | I98: =I36/Max(I$2:I$60)*100 -> 76.264974 | J98: =J36/Max(J$2:J$60)*100 -> 96.582266 | K98: =K36/Max(K$2:K$60)*100 -> 76.787168 | L98: =L36/Max(L$2:L$60)*100 -> 55.944056 | M98: =M36/Max(M$2:M$60)*100 -> 43.664717 | Q98: =Min(Q$2:Q$60)/Q36*100 -> 52.116402 | R98: =Min(R$2:R$60)/R36*100 -> 49.282297 | S98: =S36/Max(S$2:S$60)*100 -> 96.774194 | V98: =V36/Max(V$2:V$60)*100 -> 85.987261 | X98: =X36/Max(X$2:X$60)*100 -> 57.142857 | Y98: =Min(Y$2:Y$60)/Y36*100 -> 65.217391 | Z98: =Z36/Max(Z$2:Z$60)*100 -> 62.111801 | AA98: =(D98*R98*S98*V98*Y98*Z98)^(1/6) -> 71.959105 | AB98: =(Q98*S98*V98*Y98*Z98)^(1/5) -> 70.622182 | AC98: =AA36/AB98 -> 254.87743 | AD98: =A98 -> KTM 790 Adventure R Rallye
A99: =A37 -> KTM 950 Adventure S | D99: =(D37/Max(D$2:D$60))^(1/2)*100 -> 84.887469 | I99: =I37/Max(I$2:I$60)*100 -> 66.730361 | J99: =J37/Max(J$2:J$60)*100 -> 88.437041 | K99: =K37/Max(K$2:K$60)*100 -> 80.357629 | L99: =L37/Max(L$2:L$60)*100 -> 61.538462 | M99: =M37/Max(M$2:M$60)*100 -> 50.26455 | Q99: =Min(Q$2:Q$60)/Q37*100 -> 49.747475 | R99: =Min(R$2:R$60)/R37*100 -> 46.396396 | S99: =S37/Max(S$2:S$60)*100 -> 85.080645 | V99: =V37/Max(V$2:V$60)*100 -> 83.598726 | X99: =X37/Max(X$2:X$60)*100 -> 62.857143 | Y99: =Min(Y$2:Y$60)/Y37*100 -> 43.478261 | Z99: =Z37/Max(Z$2:Z$60)*100 -> 45.548654 | AA99: =(D99*R99*S99*V99*Y99*Z99)^(1/6) -> 61.756735 | AB99: =(Q99*S99*V99*Y99*Z99)^(1/5) -> 58.763795 | AC99: =AA37/AB99 -> 215.94929 | AD99: =A99 -> KTM 950 Adventure S
A100: =A38 -> Royal Enfield Himalayan (BS VI) | D100: =(D38/Max(D$2:D$60))^(1/2)*100 -> 42.443734 | I100: =I38/Max(I$2:I$60)*100 -> 38.23601 | J100: =J38/Max(J$2:J$60)*100 -> 68.276249 | K100: =K38/Max(K$2:K$60)*100 -> 87.970457 | L100: =L38/Max(L$2:L$60)*100 -> 75 | M100: =M38/Max(M$2:M$60)*100 -> 67.063492 | Q100: =Min(Q$2:Q$60)/Q38*100 -> 53.243243 | R100: =Min(R$2:R$60)/R38*100 -> 51.758794 | S100: =S38/Max(S$2:S$60)*100 -> 72.580645 | V100: =V38/Max(V$2:V$60)*100 -> 60.509554 | X100: =X38/Max(X$2:X$60)*100 -> 42.857143 | Y100: =Min(Y$2:Y$60)/Y38*100 -> 90.909091 | Z100: =Z38/Max(Z$2:Z$60)*100 -> 64.935065 | AA100: =(D100*R100*S100*V100*Y100*Z100)^(1/6) -> 62.028058 | AB100: =(Q100*S100*V100*Y100*Z100)^(1/5) -> 67.297538 | AC100: =AA38/AB100 -> 69.839108 | AD100: =A100 -> Royal Enfield Himalayan (BS VI)
A101: =A39 -> Suzuki DR 350 SE | D101: =(D39/Max(D$2:D$60))^(1/2)*100 -> 46.966822 | I101: =I39/Max(I$2:I$60)*100 -> 55.137126 | J101: =J39/Max(J$2:J$60)*100 -> 73.872603 | K101: =K39/Max(K$2:K$60)*100 -> 77.175467 | L101: =L39/Max(L$2:L$60)*100 -> 56.575682 | M101: =M39/Max(M$2:M$60)*100 -> 44.381004 | Q101: =Min(Q$2:Q$60)/Q39*100 -> 80.737705 | R101: =Min(R$2:R$60)/R39*100 -> 79.230769 | S101: =S39/Max(S$2:S$60)*100 -> 74.193548 | V101: =V39/Max(V$2:V$60)*100 -> 89.171975 | X101: =X39/Max(X$2:X$60)*100 -> 25.714286 | Y101: =Min(Y$2:Y$60)/Y39*100 -> 61.22449 | Z101: =Z39/Max(Z$2:Z$60)*100 -> 26.239067 | AA101: =(D101*R101*S101*V101*Y101*Z101)^(1/6) -> 58.370335 | AB101: =(Q101*S101*V101*Y101*Z101)^(1/5) -> 61.194008 | AD101: =A101 -> Suzuki DR 350 SE
A102: =A40 -> Suzuki DR-Z400S (USA 2020) | D102: =(D40/Max(D$2:D$60))^(1/2)*100 -> 54.232614 | I102: =I40/Max(I$2:I$60)*100 -> 64.465183 | J102: =J40/Max(J$2:J$60)*100 -> 79.319675 | K102: =K40/Max(K$2:K$60)*100 -> 70.875429 | L102: =L40/Max(L$2:L$60)*100 -> 60.477454 | M102: =M40/Max(M$2:M$60)*100 -> 43.568966 | Q102: =Min(Q$2:Q$60)/Q40*100 -> 74.621212 | R102: =Min(R$2:R$60)/R40*100 -> 71.527778 | S102: =S40/Max(S$2:S$60)*100 -> 77.016129 | V102: =V40/Max(V$2:V$60)*100 -> 92.993631 | X102: =X40/Max(X$2:X$60)*100 -> 28.571429 | Y102: =Min(Y$2:Y$60)/Y40*100 -> 68.181818 | Z102: =Z40/Max(Z$2:Z$60)*100 -> 32.467532 | AA102: =(D102*R102*S102*V102*Y102*Z102)^(1/6) -> 62.827243 | AB102: =(Q102*S102*V102*Y102*Z102)^(1/5) -> 65.25338 | AC102: =AA40/AB102 -> 95.014236 | AD102: =A102 -> Suzuki DR-Z400S (USA 2020)
A103: =A41 -> Suzuki DR 650 S (USA 2019) | D103: =(D41/Max(D$2:D$60))^(1/2)*100 -> 56.879646 | I103: =I41/Max(I$2:I$60)*100 -> 43.824312 | J103: =J41/Max(J$2:J$60)*100 -> 73.530817 | K103: =K41/Max(K$2:K$60)*100 -> 81.388052 | L103: =L41/Max(L$2:L$60)*100 -> 64.214047 | M103: =M41/Max(M$2:M$60)*100 -> 53.12253 | Q103: =Min(Q$2:Q$60)/Q41*100 -> 67.006803 | R103: =Min(R$2:R$60)/R41*100 -> 62.048193 | S103: =S41/Max(S$2:S$60)*100 -> 76.209677 | V103: =V41/Max(V$2:V$60)*100 -> 82.802548 | X103: =X41/Max(X$2:X$60)*100 -> 37.142857 | Y103: =Min(Y$2:Y$60)/Y41*100 -> 60 | Z103: =Z41/Max(Z$2:Z$60)*100 -> 37.142857 | AA103: =(D103*R103*S103*V103*Y103*Z103)^(1/6) -> 60.621647 | AB103: =(Q103*S103*V103*Y103*Z103)^(1/5) -> 62.350488 | AC103: =AA41/AB103 -> 96.230201 | AD103: =A103 -> Suzuki DR 650 S (USA 2019)
A104: =A42 -> SWM Six Days 440 | D104: =(D42/Max(D$2:D$60))^(1/2)*100 -> 46.966822 | I104: =I42/Max(I$2:I$60)*100 -> 43.127063 | J104: =J42/Max(J$2:J$60)*100 -> 70.942092 | K104: =K42/Max(K$2:K$60)*100 -> 87.272727 | L104: =L42/Max(L$2:L$60)*100 -> 58.741259 | M104: =M42/Max(M$2:M$60)*100 -> 52.108653 | Q104: =Min(Q$2:Q$60)/Q42*100 -> 66.554054 | R104: =Min(R$2:R$60)/R42*100 -> 64.723902 | S104: =S42/Max(S$2:S$60)*100 -> 64.516129 | V104: =V42/Max(V$2:V$60)*100 -> 38.057325 | X104: =X42/Max(X$2:X$60)*100 -> 47.142857 | Y104: =Min(Y$2:Y$60)/Y42*100 -> 73.170732 | Z104: =Z42/Max(Z$2:Z$60)*100 -> 57.491289 | AA104: =(D104*R104*S104*V104*Y104*Z104)^(1/6) -> 56.167313 | AB104: =(Q104*S104*V104*Y104*Z104)^(1/5) -> 58.538839 | AC104: =AA42/AB104 -> 89.513221 | AD104: =A104 -> SWM Six Days 440
A105: =A43 -> SWM RS 500 R | D105: =(D43/Max(D$2:D$60))^(1/2)*100 -> 44.556639 | I105: =I43/Max(I$2:I$60)*100 -> 34.824066 | J105: =J43/Max(J$2:J$60)*100 -> 61.262091 | K105: =K43/Max(K$2:K$60)*100 -> 100 | L105: =L43/Max(L$2:L$60)*100 -> 76.923077 | M105: =M43/Max(M$2:M$60)*100 -> 78.188828 | Q105: =Min(Q$2:Q$60)/Q43*100 -> 84.913793 | R105: =Min(R$2:R$60)/R43*100 -> 79.844961 | S105: =S43/Max(S$2:S$60)*100 -> 44.354839 | V105: =V43/Max(V$2:V$60)*100 -> 94.10828 | X105: =X43/Max(X$2:X$60)*100 -> 20.571429 | Y105: =Min(Y$2:Y$60)/Y43*100 -> 75 | Z105: =Z43/Max(Z$2:Z$60)*100 -> 25.714286 | AA105: =(D105*R105*S105*V105*Y105*Z105)^(1/6) -> 55.313026 | AB105: =(Q105*S105*V105*Y105*Z105)^(1/5) -> 58.47316 | AC105: =AA43/AB105 -> 124.8265 | AD105: =A105 -> SWM RS 500 R
A106: =A44 -> SWM RS 650 R | D106: =(D44/Max(D$2:D$60))^(1/2)*100 -> 63.245553 | I106: =I44/Max(I$2:I$60)*100 -> 58.15619 | J106: =J44/Max(J$2:J$60)*100 -> 78.192308 | K106: =K44/Max(K$2:K$60)*100 -> 76.428571 | L106: =L44/Max(L$2:L$60)*100 -> 53.254438 | M106: =M44/Max(M$2:M$60)*100 -> 41.371341 | Q106: =Min(Q$2:Q$60)/Q44*100 -> 68.402778 | R106: =Min(R$2:R$60)/R44*100 -> 64.779874 | S106: =S44/Max(S$2:S$60)*100 -> 72.983871 | V106: =V44/Max(V$2:V$60)*100 -> 76.433121 | X106: =X44/Max(X$2:X$60)*100 -> 34.285714 | Y106: =Min(Y$2:Y$60)/Y44*100 -> 68.181818 | Z106: =Z44/Max(Z$2:Z$60)*100 -> 38.961039 | AA106: =(D106*R106*S106*V106*Y106*Z106)^(1/6) -> 62.692119 | AB106: =(Q106*S106*V106*Y106*Z106)^(1/5) -> 63.266858 | AC106: =AA44/AB106 -> 102.73942 | AD106: =A106 -> SWM RS 650 R
A107: =A45 -> SWM Superdual X | D107: =(D45/Max(D$2:D$60))^(1/2)*100 -> 63.012604 | I107: =I45/Max(I$2:I$60)*100 -> 57.728571 | J107: =J45/Max(J$2:J$60)*100 -> 80.384615 | K107: =K45/Max(K$2:K$60)*100 -> 79.153439 | L107: =L45/Max(L$2:L$60)*100 -> 55.384615 | M107: =M45/Max(M$2:M$60)*100 -> 44.560185 | Q107: =Min(Q$2:Q$60)/Q45*100 -> 58.284024 | R107: =Min(R$2:R$60)/R45*100 -> 55.080214 | S107: =S45/Max(S$2:S$60)*100 -> 100 | V107: =V45/Max(V$2:V$60)*100 -> 68.471338 | X107: =X45/Max(X$2:X$60)*100 -> 51.428571 | Y107: =Min(Y$2:Y$60)/Y45*100 -> 66.666667 | Z107: =Z45/Max(Z$2:Z$60)*100 -> 57.142857 | AA107: =(D107*R107*S107*V107*Y107*Z107)^(1/6) -> 67.009096 | AB107: =(Q107*S107*V107*Y107*Z107)^(1/5) -> 68.609745 | AC107: =AA45/AB107 -> 110.47993 | AD107: =A107 -> SWM Superdual X
A108: =A46 -> Triumph Tiger 900 Rally | D108: =(D46/Max(D$2:D$60))^(1/2)*100 -> 83.666003 | I108: =I46/Max(I$2:I$60)*100 -> 68.765766 | J108: =J46/Max(J$2:J$60)*100 -> 85.914761 | K108: =K46/Max(K$2:K$60)*100 -> 82.857143 | L108: =L46/Max(L$2:L$60)*100 -> 55.702918 | M108: =M46/Max(M$2:M$60)*100 -> 46.913297 | Q108: =Min(Q$2:Q$60)/Q46*100 -> 50.255102 | R108: =Min(R$2:R$60)/R46*100 -> 47.685185 | S108: =S46/Max(S$2:S$60)*100 -> 91.935484 | V108: =V46/Max(V$2:V$60)*100 -> 74.840764 | X108: =X46/Max(X$2:X$60)*100 -> 57.142857 | Y108: =Min(Y$2:Y$60)/Y46*100 -> 57.692308 | Z108: =Z46/Max(Z$2:Z$60)*100 -> 54.945055 | AA108: =(D108*R108*S108*V108*Y108*Z108)^(1/6) -> 66.568188 | AB108: =(Q108*S108*V108*Y108*Z108)^(1/5) -> 64.264275 | AC108: =AA46/AB108 -> 186.72894 | AD108: =A108 -> Triumph Tiger 900 Rally
...

Sheet Charts
A1: =Data!A1 -> Model | B1: =Data!AA1 -> Price in Germany [Euros] | C1: =Data!AC63 -> Price-Performance-Ratio [Euros/Points] | D1: =Data!AA63 -> Points (considering engine power) | E1: =Data!AB63 -> Points (neglecting engine power)
A2: =Data!A2 -> AJP PR7 Adventure 650 | B2: =Data!AA2 -> 10790 | C2: =Data!AC64 -> 158.29857 | D2: =Data!AA64 -> 63.016135 | E2: =Data!AB64 -> 68.162333
A3: =Data!A3 -> AKT TT 250 Adventour / CSC RX3 Adventure / Zongshen RX3 | B3: =Data!AA3 -> 2880 | C3: =Data!AC65 -> 47.598202 | D3: =Data!AA65 -> 56.060037 | E3: =Data!AB65 -> 60.506487
A4: =Data!A4 -> Beta Alp 4.0 | B4: =Data!AA4 -> 5900 | C4: =Data!AC66 -> 100.32904 | D4: =Data!AA66 -> 55.759725 | E4: =Data!AB66 -> 58.806501
A5: =Data!A5 -> BMW G 310 GS | B5: =Data!AA5 -> 6050 | C5: =Data!AC67 -> 96.899539 | D5: =Data!AA67 -> 60.16551 | E5: =Data!AB67 -> 62.435797
A6: =Data!A6 -> BMW G 650 GS | B6: =Data!AA6 -> 7400 | C6: =Data!AC68 -> 118.73313 | D6: =Data!AA68 -> 61.394164 | E6: =Data!AB68 -> 62.324642
A7: =Data!A7 -> BMW G 650 GS Sertao | B7: =Data!AA7 -> 8050 | C7: =Data!AC69 -> 125.09047 | D7: =Data!AA69 -> 63.084031 | E7: =Data!AB69 -> 64.353423
A8: =Data!A8 -> BMW G 650 XCountry (2006) | B8: =Data!AA8 -> 6900 | C8: =Data!AC70 -> 114.15276 | D8: =Data!AA70 -> 60.536505 | E8: =Data!AB70 -> 60.445319
A9: =Data!A9 -> BMW G 650 XCountry (2009) | B9: =Data!AA9 -> 6900 | C9: =Data!AC71 -> 118.39208 | D9: =Data!AA71 -> 58.724654 | E9: =Data!AB71 -> 58.280924
A10: =Data!A10 -> BMW G 650 XChallenge | B10: =Data!AA10 -> 8200 | C10: =Data!AC72 -> 130.49154 | D10: =Data!AA72 -> 62.401372 | E10: =Data!AB72 -> 62.839322
A11: =Data!A11 -> BMW R 1200 GS Rallye (2012) | B11: =Data!AA11 -> 14950 | C11: =Data!AC73 -> 248.86608 | D11: =Data!AA73 -> 63.444548 | E11: =Data!AB73 -> 60.072469
A12: =Data!A12 -> BMW R 1250 GS | B12: =Data!AA12 -> 16450 | C12: =Data!AC74 -> 284.96391 | D12: =Data!AA74 -> 63.145944 | E12: =Data!AB74 -> 57.726608
... A60: =Data!A60 -> Zontes 310-T2 | B60: =Data!AA60 -> 4990 | C60: =Data!AC122 -> 76.093301 | D60: =Data!AA122 -> 62.618724 | E60: =Data!AB122 -> 65.577389

Sheet Ranking 1
A1: Rank | B1: =Charts!A1 -> Model | C1: =Charts!D1 -> Points (considering engine power) | D1: =Charts!E1 -> Points (neglecting engine power) | E1: =Charts!B1 -> Price in Germany [Euros] | F1: =Charts!C1 -> Price-Performance-Ratio [Euros/Points] | G1: =B1 -> Model | H1: =Data!D63 -> Engine power [bhp] | I1: =Data!Q63 -> Dry weight [kg] | J1: =Data!S63 -> Load capacity [kg] | K1: =Data!V63 -> Avg. suspension travel [mm] | L1: =Data!Y63 -> Economy - Fuel consumption [l/100 km] | M1: =Data!Z63 -> Mileage [km/tank] | N1: =Data!AD63 -> Model | O1: =Data!AE63
A2: 1 | B2: =Data!A65 -> AKT TT 250 Adventour / CSC RX3 Adventure / Zongshen RX3 | C2: =Data!AA65 -> 56.060037 | D2: =Data!AB65 -> 60.506487 | E2: =Data!AA3 -> 2880 | F2: =Data!AC65 -> 47.598202 | G2: =B2 -> AKT TT 250 Adventour / CSC RX3 Adventure / Zongshen RX3 | H2: =Data!D65 -> 42.702803 | I2: =Data!Q65 -> 65.666667 | J2: =Data!S65 -> 66.532258 | K2: =Data!V65 -> 43.312102 | L2: =Data!Y65 -> 75 | M2: =Data!Z65 -> 57.142857 | N2: =Data!AD65 -> AKT TT 250 Adventour / CSC RX3 Adventure / Zongshen RX3 | O2: =Data!AE65
A3: 2 | B3: =Data!A82 -> Honda XRE 300 ABS | C3: =Data!AA82 -> 62.963466 | D3: =Data!AB82 -> 68.253316 | E3: =Data!AA20 -> 4600 | F3: =Data!AC82 -> 67.395993 | G3: =B3 -> Honda XRE 300 ABS | H3: =Data!D82 -> 43.216282 | I3: =Data!Q82 -> 66.554054 | J3: =Data!S82 -> 62.5 | K3: =Data!V82 -> 74.840764 | L3: =Data!Y82 -> 85.714286 | M3: =Data!Z82 -> 55.510204 | N3: =Data!AD82 -> Honda XRE 300 ABS | O3: =Data!AE82
A4: 3 | B4: =Data!A84 -> Honda NX4 Falcon | C4: =Data!AA84 -> 63.085228 | D4: =Data!AB84 -> 67.620944 | E4: =Data!AA22 -> 4600 | F4: =Data!AC84 -> 68.026261 | G4: =B4 -> Honda NX4 Falcon | H4: =Data!D84 -> 47.434165 | I4: =Data!Q84 -> 65.231788 | J4: =Data!S84 -> 62.5 | K4: =Data!V84 -> 66.082803 | L4: =Data!Y84 -> 85.714286 | M4: =Data!Z84 -> 61.22449 | N4: =Data!AD84 -> Honda NX4 Falcon | O4: =Data!AE84
A5: 4 | B5: =Data!A114 -> Yamaha XT 250 (USA 2020) | C5: =Data!AA114 -> 60.511138 | D5: =Data!AB114 -> 67.793842 | E5: =Data!AA52 -> 4700 | F5: =Data!AC114 -> 69.32783 | G5: =B5 -> Yamaha XT 250 (USA 2020) | H5: =Data!D114 -> 34.513424 | I5: =Data!Q114 -> 78.558041 | J5: =Data!S114 -> 64.516129 | K5: =Data!V114 -> 64.649682 | L5: =Data!Y114 -> 96.774194 | M5: =Data!Z114 -> 45.16129 | N5: =Data!AD114 -> Yamaha XT 250 (USA 2020) | O5: =Data!AE114
A6: 5 | B6: =Data!A100 -> Royal Enfield Himalayan (BS VI) | C6: =Data!AA100 -> 62.028058 | D6: =Data!AB100 -> 67.297538 | E6: =Data!AA38 -> 4700 | F6: =Data!AC100 -> 69.839108 | G6: =B6 -> Royal Enfield Himalayan (BS VI) | H6: =Data!D100 -> 42.443734 | I6: =Data!Q100 -> 53.243243 | J6: =Data!S100 -> 72.580645 | K6: =Data!V100 -> 60.509554 | L6: =Data!Y100 -> 90.909091 | M6: =Data!Z100 -> 64.935065 | N6: =Data!AD100 -> Royal Enfield Himalayan (BS VI) | O6: =Data!AE100
A7: 6 | B7: =Data!A122 -> Zontes 310-T2 | C7: =Data!AA122 -> 62.618724 | D7: =Data!AB122 -> 65.577389 | E7: =Data!AA60 -> 4990 | F7: =Data!AC122 -> 76.093301 | G7: =B7 -> Zontes 310-T2 | H7: =Data!D122 -> 50.729966 | I7: =Data!Q122 -> 66.107383 | J7: =Data!S122 -> 64.516129 | K7: =Data!V122 -> 57.324841 | L7: =Data!Y122 -> 83.333333 | M7: =Data!Z122 -> 59.52381 | N7: =Data!AD122 -> Zontes 310-T2 | O7: =Data!AE122
A8: 7 | B8: =Data!A90 -> Kawasaki KLX 250 | C8: =Data!AA90 -> 60.347718 | D8: =Data!AB90 -> 65.367069 | E8: =Data!AA28 -> 5000 | F8: =Data!AC90 -> 76.491115 | G8: =B8 -> Kawasaki KLX 250 | H8: =Data!D90 -> 40.219983 | I8: =Data!Q90 -> 74.17029 | J8: =Data!S90 -> 72.983871 | K8: =Data!V90 -> 77.229299 | L8: =Data!Y90 -> 88.235294 | M8: =Data!Z90 -> 32.352941 | N8: =Data!AD90 -> Kawasaki KLX 250 | O8: =Data!AE90
A9: 8 | B9: =Data!A79 -> Honda CRF 250 L | C9: =Data!AA79 -> 60.131541 | D9: =Data!AB79 -> 64.231933 | E9: =Data!AA17 -> 5600 | F9: =Data!AC79 -> 87.184049 | G9: =B9 -> Honda CRF 250 L | H9: =Data!D79 -> 42.874646 | I9: =Data!Q79 -> 69.956144 | J9: =Data!S79 -> 64.112903 | K9: =Data!V79 -> 78.025478 | L9: =Data!Y79 -> 92.307692 | M9: =Data!Z79 -> 33.846154 | N9: =Data!AD79 -> Honda CRF 250 L | O9: =Data!AE79
A10: 9 | B10: =Data!A93 -> KTM 390 Adventure | C10: =Data!AA93 -> 65.386661 | D10: =Data!AB93 -> 67.778147 | E10: =Data!AA31 -> 6195 | F10: =Data!AC93 -> 91.401141 | G10: =B10 -> KTM 390 Adventure | H10: =Data!D93 -> 56.879646 | I10: =Data!Q93 -> 62.341772 | J10: =Data!S93 -> 81.854839 | K10: =Data!V93 -> 55.254777 | L10: =Data!Y93 -> 85.714286 | M10: =Data!Z93 -> 59.183673 | N10: =Data!AD93 -> KTM 390 Adventure | O10: =Data!AE93
A11: 10 | B11: =Data!A91 -> Kawasaki Versys X-300 | C11: =Data!AA91 -> 59.944246 | D11: =Data!AB91 -> 61.440604 | E11: =Data!AA29 -> 5795 | F11: =Data!AC91 -> 94.318734 | G11: =B11 -> Kawasaki Versys X-300 | H11: =Data!D91 -> 54.232614 | I11: =Data!Q91 -> 60.235438 | J11: =Data!S91 -> 68.548387 | K11: =Data!V91 -> 44.267516 | L11: =Data!Y91 -> 76.923077 | M11: =Data!Z91 -> 62.271062 | N11: =Data!AD91 -> Kawasaki Versys X-300 | O11: =Data!AE91
A12: 11 | B12: =Data!A102 -> Suzuki DR-Z400S (USA 2020) | C12: =Data!AA102 -> 62.827243 | D12: =Data!AB102 -> 65.25338 | E12: =Data!AA40 -> 6200 | F12: =Data!AC102 -> 95.014236 | G12: =B12 -> Suzuki DR-Z400S (USA 2020) | H12: =Data!D102 -> 54.232614 | I12: =Data!Q102 -> 74.621212 | J12: =Data!S102 -> 77.016129 | K12: =Data!V102 -> 92.993631 | L12: =Data!Y102 -> 68.181818 | M12: =Data!Z102 -> 32.467532 | N12: =Data!AD102 -> Suzuki DR-Z400S (USA 2020) | O12: =Data!AE102
A13: 12 | B13: =Data!A80 -> Honda CRF 250 Rally | C13: =Data!AA80 -> 62.673628 | D13: =Data!AB80 -> 67.614145 | E13: =Data!AA18 -> 6500 | F13: =Data!AC80 -> 96.133731 | G13: =B13 -> Honda CRF 250 Rally | H13: =Data!D80 -> 42.874646 | I13: =Data!Q80 -> 65.586869 | J13: =Data!S80 -> 64.112903 | K13: =Data!V80 -> 82.006369 | L13: =Data!Y80 -> 92.307692 | M13: =Data!Z80 -> 44.395604 | N13: =Data!AD80 -> Honda CRF 250 Rally | O13: =Data!AE80
A14: 13 | B14: =Data!A103 -> Suzuki DR 650 S (USA 2019) | C14: =Data!AA103 -> 60.621647 | D14: =Data!AB103 -> 62.350488 | E14: =Data!AA41 -> 6000 | F14: =Data!AC103 -> 96.230201 | G14: =B14 -> Suzuki DR 650 S (USA 2019) | H14: =Data!D103 -> 56.879646 | I14: =Data!Q103 -> 67.006803 | J14: =Data!S103 -> 76.209677 | K14: =Data!V103 -> 82.802548 | L14: =Data!Y103 -> 60 | M14: =Data!Z103 -> 37.142857 | N14: =Data!AD103 -> Suzuki DR 650 S (USA 2019) | O14: =Data!AE103
A15: 14 | B15: =Data!A67 -> BMW G 310 GS | C15: =Data!AA67 -> 60.16551 | D15: =Data!AB67 -> 62.435797 | E15: =Data!AA5 -> 6050 | F15: =Data!AC67 -> 96.899539 | G15: =B15 -> BMW G 310 GS | H15: =Data!D67 -> 50 | I15: =Data!Q67 -> 60.774333 | J15: =Data!S67 -> 70.766129 | K15: =Data!V67 -> 57.324841 | L15: =Data!Y67 -> 85.714286 | M15: =Data!Z67 -> 44.897959 | N15: =Data!AD67 -> BMW G 310 GS | O15: =Data!AE67
A16: 15 | B16: =Data!A66 -> Beta Alp 4.0 | C16: =Data!AA66 -> 55.759725 | D16: =Data!AB66 -> 58.806501 | E16: =Data!AA4 -> 5900 | F16: =Data!AC66 -> 100.32904 | G16: =B16 -> Beta Alp 4.0 | H16: =Data!D66 -> 44.556639 | I16: =Data!Q66 -> 74.06015 | J16: =Data!S66 -> 66.532258 | K16: =Data!V66 -> 70.063694 | L16: =Data!Y66 -> 63.829787 | M16: =Data!Z66 -> 31.914894 | N16: =Data!AD66 -> Beta Alp 4.0 | O16: =Data!AE66
A17: 16 | B17: =Data!A112 -> Yamaha WR 250 R | C17: =Data!AA112 -> 63.95014 | D17: =Data!AB112 -> 68.095201 | E17: =Data!AA50 -> 7000 | F17: =Data!AC112 -> 102.79726 | G17: =B17 -> Yamaha WR 250 R | H17: =Data!D112 -> 47.511608 | I17: =Data!Q112 -> 78.174603 | J17: =Data!S112 -> 77.822581 | K17: =Data!V112 -> 85.987261 | L17: =Data!Y112 -> 85.714286 | M17: =Data!Z112 -> 32.653061 | N17: =Data!AD112 -> Yamaha WR 250 R | O17: =Data!AE112
A18: 17 | B18: =Data!A86 -> Honda CB 500 X | C18: =Data!AA86 -> 64.043886 | D18: =Data!AB86 -> 65.755491 | E18: =Data!AA24 -> 6990 | F18: =Data!AC86 -> 106.30291 | G18: =B18 -> Honda CB 500 X | H18: =Data!D86 -> 59.408853 | I18: =Data!Q86 -> 55.337079 | J18: =Data!S86 -> 74.596774 | K18: =Data!V86 -> 45.382166 | L18: =Data!Y86 -> 88.235294 | M18: =Data!Z86 -> 74.369748 | N18: =Data!AD86 -> Honda CB 500 X | O18: =Data!AE86
A19: 18 | B19: =Data!A107 -> SWM Superdual X | C19: =Data!AA107 -> 67.009096 | D19: =Data!AB107 -> 68.609745 | E19: =Data!AA45 -> 7580 | F19: =Data!AC107 -> 110.47993 | G19: =B19 -> SWM Superdual X | H19: =Data!D107 -> 63.012604 | I19: =Data!Q107 -> 58.284024 | J19: =Data!S107 -> 100 | K19: =Data!V107 -> 68.471338 | L19: =Data!Y107 -> 66.666667 | M19: =Data!Z107 -> 57.142857 | N19: =Data!AD107 -> SWM Superdual X | O19: =Data!AE107
A20: 19 | B20: =Data!A78 -> Fantic Caballero Rally 500 | C20: =Data!AA78 -> 62.608861 | D20: =Data!AB78 -> 64.689888 | E20: =Data!AA16 -> 7190 | F20: =Data!AC78 -> 111.14566 | G20: =B20 -> Fantic Caballero Rally 500 | H20: =Data!D78 -> 54.232614 | I20: =Data!Q78 -> 65.666667 | J20: =Data!S78 -> 64.516129 | K20: =Data!V78 -> 63.694268 | L20: =Data!Y78 -> 85.714286 | M20: =Data!Z78 -> 48.979592 | N20: =Data!AD78 -> Fantic Caballero Rally 500 | O20: =Data!AE78
A21: 20 | B21: =Data!A70 -> BMW G 650 XCountry (2006) | C21: =Data!AA70 -> 60.536505 | D21: =Data!AB70 -> 60.445319 | E21: =Data!AA8 -> 6900 | F21: =Data!AC70 -> 114.15276 | G21: =B21 -> BMW G 650 XCountry (2006) | H21: =Data!D70 -> 62.426427 | I21: =Data!Q70 -> 65.886288 | J21: =Data!S70 -> 70.564516 | K21: =Data!V70 -> 71.656051 | L21: =Data!Y70 -> 73.170732 | M21: =Data!Z70 -> 33.101045 | N21: =Data!AD70 -> BMW G 650 XCountry (2006) | O21: =Data!AE70
A22: 21 | B22: =Data!A120 -> Yamaha XT 660 Z Ténénré | C22: =Data!AA120 -> 65.916401 | D22: =Data!AB120 -> 68.465652 | E22: =Data!AA58 -> 7995 | F22: =Data!AC120 -> 116.77388 | G22: =B22 -> Yamaha XT 660 Z Ténénré | H22: =Data!D120 -> 59.408853 | I22: =Data!Q120 -> 53.825137 | J22: =Data!S120 -> 76.612903 | K22: =Data!V120 -> 65.286624 | L22: =Data!Y120 -> 71.428571 | M22: =Data!Z120 -> 78.231293 | N22: =Data!AD120 -> Yamaha XT 660 Z Ténénré | O22: =Data!AE120
A23: 22 | B23: =Data!A71 -> BMW G 650 XCountry (2009) | C23: =Data!AA71 -> 58.724654 | D23: =Data!AB71 -> 58.280924 | E23: =Data!AA9 -> 6900 | F23: =Data!AC71 -> 118.39208 | G23: =B23 -> BMW G 650 XCountry (2009) | H23: =Data!D71 -> 62.426427 | I23: =Data!Q71 -> 65.886288 | J23: =Data!S71 -> 70.564516 | K23: =Data!V71 -> 59.713376 | L23: =Data!Y71 -> 73.170732 | M23: =Data!Z71 -> 33.101045 | N23: =Data!AD71 -> BMW G 650 XCountry (2009) | O23: =Data!AE71
A24: 23 | B24: =Data!A68 -> BMW G 650 GS | C24: =Data!AA68 -> 61.394164 | D24: =Data!AB68 -> 62.324642 | E24: =Data!AA6 -> 7400 | F24: =Data!AC68 -> 118.73313 | G24: =B24 -> BMW G 650 GS | H24: =Data!D68 -> 59.408853 | I24: =Data!Q68 -> 55.965909 | J24: =Data!S68 -> 75.806452 | K24: =Data!V68 -> 53.343949 | L24: =Data!Y68 -> 78.947368 | M24: =Data!Z68 -> 52.631579 | N24: =Data!AD68 -> BMW G 650 GS | O24: =Data!AE68
A25: 24 | B25: =Data!A69 -> BMW G 650 GS Sertao | C25: =Data!AA69 -> 63.084031 | D25: =Data!AB69 -> 64.353423 | E25: =Data!AA7 -> 8050 | F25: =Data!AC69 -> 125.09047 | G25: =B25 -> BMW G 650 GS Sertao | H25: =Data!D69 -> 59.408853 | I25: =Data!Q69 -> 54.120879 | J25: =Data!S69 -> 73.387097 | K25: =Data!V69 -> 66.878981 | L25: =Data!Y69 -> 78.947368 | M25: =Data!Z69 -> 52.631579 | N25: =Data!AD69 -> BMW G 650 GS Sertao | O25: =Data!AE69
A26: 25 | B26: =Data!A121 -> Yamaha XT 660 Z Ténéré ABS | C26: =Data!AA121 -> 62.424837 | D26: =Data!AB121 -> 63.91546 | E26: =Data!AA59 -> 8195 | F26: =Data!AC121 -> 128.21624 | G26: =B26 -> Yamaha XT 660 Z Ténéré ABS | H26: =Data!D121 -> 59.408853 | I26: =Data!Q121 -> 51.302083 | J26: =Data!S121 -> 76.612903 | K26: =Data!V121 -> 48.566879 | L26: =Data!Y121 -> 71.428571 | M26: =Data!Z121 -> 78.231293 | N26: =Data!AD121 -> Yamaha XT 660 Z Ténéré ABS | O26: =Data!AE121
A27: 26 | B27: =Data!A72 -> BMW G 650 XChallenge | C27: =Data!AA72 -> 62.401372 | D27: =Data!AB72 -> 62.839322 | E27: =Data!AA10 -> 8200 | F27: =Data!AC72 -> 130.49154 | G27: =B27 -> BMW G 650 XChallenge | H27: =Data!D72 -> 62.426427 | I27: =Data!Q72 -> 68.402778 | J27: =Data!S72 -> 72.177419 | K27: =Data!V72 -> 85.987261 | L27: =Data!Y72 -> 71.428571 | M27: =Data!Z72 -> 32.312925 | N27: =Data!AD72 -> BMW G 650 XChallenge | O27: =Data!AE72
A28: 27 | B28: =Data!A76 -> CCM GP 450 Adventure | C28: =Data!AA76 -> 66.471151 | D28: =Data!AB76 -> 70.643162 | E28: =Data!AA14 -> 9900 | F28: =Data!AC76 -> 140.14095 | G28: =B28 -> CCM GP 450 Adventure | H28: =Data!D76 -> 54.38831 | I28: =Data!Q76 -> 78.8 | J28: =Data!S76 -> 62.5 | K28: =Data!V76 -> 84.394904 | L28: =Data!Y76 -> 66.666667 | M28: =Data!Z76 -> 63.492063 | N28: =Data!AD76 -> CCM GP 450 Adventure | O28: =Data!AE76
A29: 28 | B29: =Data!A92 -> KTM Freeride 250 F | C29: =Data!AA92 -> 53.878979 | D29: =Data!AB92 -> 57.528326 | E29: =Data!AA30 -> 8098 | F29: =Data!AC92 -> 140.76544 | G29: =B29 -> KTM Freeride 250 F | H29: =Data!D92 -> 38.824643 | I29: =Data!Q92 -> 100 | J29: =Data!S92 -> 40.322581 | K29: =Data!V92 -> 81.210191 | L29: =Data!Y92 -> 85.714286 | M29: =Data!Z92 -> 22.44898 | N29: =Data!AD92 -> KTM Freeride 250 F | O29: =Data!AE92
A30: 29 | B30: =Data!A113 -> Yamaha WR 450 F | C30: =Data!AA113 -> 59.469734 | D30: =Data!AB113 -> 58.627352 | E30: =Data!AA51 -> 8900 | F30: =Data!AC113 -> 151.80628 | G30: =B30 -> Yamaha WR 450 F | H30: =Data!D113 -> 63.766578 | I30: =Data!Q113 -> 85.698749 | J30: =Data!S113 -> 44.354839 | K30: =Data!V113 -> 100 | L30: =Data!Y113 -> 71.428571 | M30: =Data!Z113 -> 25.510204 | N30: =Data!AD113 -> Yamaha WR 450 F | O30: =Data!AE113
A31: 30 | B31: =Data!A89 -> Husqvarna 701 LR (2020) | C31: =Data!AA89 -> 72.813766 | D31: =Data!AB89 -> 73.222947 | E31: =Data!AA27 -> 11395 | F31: =Data!AC89 -> 155.62061 | G31: =B31 -> Husqvarna 701 LR (2020) | H31: =Data!D89 -> 74.261066 | I31: =Data!Q89 -> 63.548387 | J31: =Data!S89 -> 78.629032 | K31: =Data!V89 -> 79.617834 | L31: =Data!Y89 -> 66.666667 | M31: =Data!Z89 -> 79.365079 | N31: =Data!AD89 -> Husqvarna 701 LR (2020) | O31: =Data!AE89
A32: 31 | B32: =Data!A96 -> KTM 790 Adventure S | C32: =Data!AA96 -> 68.448425 | D32: =Data!AB96 -> 66.508075 | E32: =Data!AA34 -> 10500 | F32: =Data!AC96 -> 157.87557 | G32: =B32 -> KTM 790 Adventure S | H32: =Data!D96 -> 83.578072 | I32: =Data!Q96 -> 52.116402 | J32: =Data!S96 -> 96.774194 | K32: =Data!V96 -> 63.694268 | L32: =Data!Y96 -> 65.217391 | M32: =Data!Z96 -> 62.111801 | N32: =Data!AD96 -> KTM 790 Adventure S | O32: =Data!AE96
A33: 32 | B33: =Data!A111 -> Yamaha Ténéré 700 | C33: =Data!AA111 -> 62.561735 | D33: =Data!AB111 -> 60.734653 | E33: =Data!AA49 -> 9600 | F33: =Data!AC111 -> 158.06462 | G33: =B33 -> Yamaha Ténéré 700 | H33: =Data!D111 -> 73.264228 | I33: =Data!Q111 -> 50.983437 | J33: =Data!S111 -> 76.612903 | K33: =Data!V111 -> 65.286624 | L33: =Data!Y111 -> 65.217391 | M33: =Data!Z111 -> 49.689441 | N33: =Data!AD111 -> Yamaha Ténéré 700 | O33: =Data!AE111
A34: 33 | B34: =Data!A64 -> AJP PR7 Adventure 650 | C34: =Data!AA64 -> 63.016135 | D34: =Data!AB64 -> 68.162333 | E34: =Data!AA2 -> 10790 | F34: =Data!AC64 -> 158.29857 | G34: =B34 -> AJP PR7 Adventure 650 | H34: =Data!D64 -> 45.374261 | I34: =Data!Q64 -> 66.554054 | J34: =Data!S64 -> 66.532258 | K34: =Data!V64 -> 92.356688 | L34: =Data!Y64 -> 66.666667 | M34: =Data!Z64 -> 53.968254 | N34: =Data!AD64 -> AJP PR7 Adventure 650 | O34: =Data!AE64
A35: 34 | B35: =Data!A95 -> KTM 690 Enduro R | C35: =Data!AA95 -> 67.918542 | D35: =Data!AB95 -> 67.345257 | E35: =Data!AA33 -> 10800 | F35: =Data!AC95 -> 160.36764 | G35: =B35 -> KTM 690 Enduro R | H35: =Data!D95 -> 74.261066 | I35: =Data!Q95 -> 67.465753 | J35: =Data!S95 -> 78.629032 | K35: =Data!V95 -> 79.617834 | L35: =Data!Y95 -> 71.428571 | M35: =Data!Z95 -> 45.918367 | N35: =Data!AD95 -> KTM 690 Enduro R | O35: =Data!AE95
A36: 35 | B36: =Data!A97 -> KTM 790 Adventure R | C36: =Data!AA97 -> 70.560286 | D36: =Data!AB97 -> 68.978004 | E36: =Data!AA35 -> 12500 | F36: =Data!AC97 -> 181.21719 | G36: =B36 -> KTM 790 Adventure R | H36: =Data!D97 -> 83.578072 | I36: =Data!Q97 -> 52.116402 | J36: =Data!S97 -> 96.774194 | K36: =Data!V97 -> 76.433121 | L36: =Data!Y97 -> 65.217391 | M36: =Data!Z97 -> 62.111801 | N36: =Data!AD97 -> KTM 790 Adventure R | O36: =Data!AE97
A37: 36 | B37: =Data!A108 -> Triumph Tiger 900 Rally | C37: =Data!AA108 -> 66.568188 | D37: =Data!AB108 -> 64.264275 | E37: =Data!AA46 -> 12000 | F37: =Data!AC108 -> 186.72894 | G37: =B37 -> Triumph Tiger 900 Rally | H37: =Data!D108 -> 83.666003 | I37: =Data!Q108 -> 50.255102 | J37: =Data!S108 -> 91.935484 | K37: =Data!V108 -> 74.840764 | L37: =Data!Y108 -> 57.692308 | M37: =Data!Z108 -> 54.945055 | N37: =Data!AD108 -> Triumph Tiger 900 Rally | O37: =Data!AE108
A38: 37 | B38: =Data!A81 -> Honda CRF 450 L | C38: =Data!AA81 -> 53.211678 | D38: =Data!AB81 -> 55.50829 | E38: =Data!AA19 -> 10690 | F38: =Data!AC81 -> 192.58385 | G38: =B38 -> Honda CRF 450 L | H38: =Data!D81 -> 42.874646 | I38: =Data!Q81 -> 78.255343 | J38: =Data!S81 -> 40.322581 | K38: =Data!V81 -> 90.44586 | L38: =Data!Y81 -> 71.428571 | M38: =Data!Z81 -> 25.85034 | N38: =Data!AD81 -> Honda CRF 450 L | O38: =Data!AE81
A39: 38 | B39: =Data!A99 -> KTM 950 Adventure S | C39: =Data!AA99 -> 61.756735 | D39: =Data!AB99 -> 58.763795 | E39: =Data!AA37 -> 12690 | F39: =Data!AC99 -> 215.94929 | G39: =B39 -> KTM 950 Adventure S | H39: =Data!D99 -> 84.887469 | I39: =Data!Q99 -> 49.747475 | J39: =Data!S99 -> 85.080645 | K39: =Data!V99 -> 83.598726 | L39: =Data!Y99 -> 43.478261 | M39: =Data!Z99 -> 45.548654 | N39: =Data!AD99 -> KTM 950 Adventure S | O39: =Data!AE99
A40: 19 | B40: =Data!A77 -> Ducati Desert Sled | C40: =Data!AA77 -> 58.19944 | D40: =Data!AB77 -> 55.970833 | E40: =Data!AA15 -> 12095 | F40: =Data!AC77 -> 216.09469 | G40: =B40 -> Ducati Desert Sled | H40: =Data!D77 -> 73.264228 | I40: =Data!Q77 -> 51.036269 | J40: =Data!S77 -> 64.516129 | K40: =Data!V77 -> 63.694268 | L40: =Data!Y77 -> 63.829787 | M40: =Data!Z77 -> 41.033435 | N40: =Data!AD77 -> Ducati Desert Sled | O40: =Data!AE77
A41: 39 | B41: =Data!A88 -> Honda CRF 1100 Africa Twin | C41: =Data!AA88 -> 66.203157 | D41: =Data!AB88 -> 62.905346 | E41: =Data!AA26 -> 14450 | F41: =Data!AC88 -> 229.71021 | G41: =B41 -> Honda CRF 1100 Africa Twin | H41: =Data!D88 -> 86.60254 | I41: =Data!Q88 -> 46.176926 | J41: =Data!S88 -> 88.709677 | K41: =Data!V88 -> 71.656051 | L41: =Data!Y88 -> 61.22449 | M41: =Data!Z88 -> 54.810496 | N41: =Data!AD88 -> Honda CRF 1100 Africa Twin | O41: =Data!AE88
A42: 36 | B42: =Data!A109 -> Triumph Scrambler 1200 XE | C42: =Data!AA109 -> 62.799986 | D42: =Data!AB109 -> 59.706059 | E42: =Data!AA47 -> 14550 | F42: =Data!AC109 -> 243.69386 | G42: =B42 -> Triumph Scrambler 1200 XE | H42: =Data!D109 -> 81.348922 | I42: =Data!Q109 -> 47.584541 | J42: =Data!S109 -> 64.516129 | K42: =Data!V109 -> 79.617834 | L42: =Data!Y109 -> 63.829787 | M42: =Data!Z109 -> 48.632219 | N42: =Data!AD109 -> Triumph Scrambler 1200 XE | O42: =Data!AE109
A43: 40 | B43: =Data!A73 -> BMW R 1200 GS Rallye (2012) | C43: =Data!AA73 -> 63.444548 | D43: =Data!AB73 -> 60.072469 | E43: =Data!AA11 -> 14950 | F43: =Data!AC73 -> 248.86608 | G43: =B43 -> BMW R 1200 GS Rallye (2012) | H43: =Data!D73 -> 89.934617 | I43: =Data!Q73 -> 48.522167 | J43: =Data!S73 -> 85.080645 | K43: =Data!V73 -> 62.101911 | L43: =Data!Y73 -> 56.603774 | M43: =Data!Z73 -> 53.908356 | N43: =Data!AD73 -> BMW R 1200 GS Rallye (2012) | O43: =Data!AE73
A44: 41 | B44: =Data!A98 -> KTM 790 Adventure R Rallye | C44: =Data!AA98 -> 71.959105 | D44: =Data!AB98 -> 70.622182 | E44: =Data!AA36 -> 18000 | F44: =Data!AC98 -> 254.87743 | G44: =B44 -> KTM 790 Adventure R Rallye | H44: =Data!D98 -> 83.578072 | I44: =Data!Q98 -> 52.116402 | J44: =Data!S98 -> 96.774194 | K44: =Data!V98 -> 85.987261 | L44: =Data!Y98 -> 65.217391 | M44: =Data!Z98 -> 62.111801 | N44: =Data!AD98 -> KTM 790 Adventure R Rallye | O44: =Data!AE98
A45: 42 | B45: =Data!A75 -> BMW R 1250 GS Adventure | C45: =Data!AA75 -> 67.884882 | D45: =Data!AB75 -> 63.251627 | E45: =Data!AA13 -> 18000 | F45: =Data!AC75 -> 284.57766 | G45: =B45 -> BMW R 1250 GS Adventure | H45: =Data!D75 -> 100 | I45: =Data!Q75 -> 39.75782 | J45: =Data!S75 -> 87.5 | K45: =Data!V75 -> 68.471338 | L45: =Data!Y75 -> 54.545455 | M45: =Data!Z75 -> 77.922078 | N45: =Data!AD75 -> BMW R 1250 GS Adventure | O45: =Data!AE75
A46: 43 | B46: =Data!A74 -> BMW R 1250 GS | C46: =Data!AA74 -> 63.145944 | D46: =Data!AB74 -> 57.726608 | E46: =Data!AA12 -> 16450 | F46: =Data!AC74 -> 284.96391 | G46: =B46 -> BMW R 1250 GS | H46: =Data!D74 -> 100 | I46: =Data!Q74 -> 41.825902 | J46: =Data!S74 -> 87.096774 | K46: =Data!V74 -> 62.101911 | L46: =Data!Y74 -> 54.545455 | M46: =Data!Z74 -> 51.948052 | N46: =Data!AD74 -> BMW R 1250 GS | O46: =Data!AE74
A47: 44 | B47: =Data!A94 -> KTM 450 Rally | C47: =Data!AA94 -> 70.044797 | D47: =Data!AB94 -> 72.346845 | E47: =Data!AA32 -> 30940 | F47: =Data!AC94 -> 427.66205 | G47: =B47 -> KTM 450 Rally | H47: =Data!D94 -> 71.743005 | I47: =Data!Q94 -> 70.863309 | J47: =Data!S94 -> 48.387097 | K47: =Data!V94 -> 96.33758 | L47: =Data!Y94 -> 60 | M47: =Data!Z94 -> 100 | N47: =Data!AD94 -> KTM 450 Rally | O47: =Data!AE94
A48: 3 | B48: =Data!A83 -> Honda NX 250 Dominator (MD21) | C48: =Data!AA83 -> 61.638708 | D48: =Data!AB83 -> 67.018471 | E48: =Data!AA21 | G48: =B48 -> Honda NX 250 Dominator (MD21) | H48: =Data!D83 -> 43.723732 | I48: =Data!Q83 -> 83.474576 | J48: =Data!S83 -> 72.580645 | K48: =Data!V83 -> 66.878981 | L48: =Data!Y83 -> 88.235294 | M48: =Data!Z83 -> 37.815126 | N48: =Data!AD83 -> Honda NX 250 Dominator (MD21) | O48: =Data!AE83
A49: 3 | B49: =Data!A85 -> Honda NX 650 Dominator (RD02) | C49: =Data!AA85 -> 56.526438 | D49: =Data!AB85 -> 57.085197 | E49: =Data!AA23 | G49: =B49 -> Honda NX 650 Dominator (RD02) | H49: =Data!D85 -> 56.879646 | I49: =Data!Q85 -> 64.802632 | J49: =Data!S85 -> 71.370968 | K49: =Data!V85 -> 66.082803 | L49: =Data!Y85 -> 56.603774 | M49: =Data!Z85 -> 35.040431 | N49: =Data!AD85 -> Honda NX 650 Dominator (RD02) | O49: =Data!AE85
A50: 45 | B50: =Data!A116 -> Yamaha XT 500 | C50: =Data!AA116 -> 51.250946 | D50: =Data!AB116 -> 51.836896 | E50: =Data!AA54 | F50: =Data!AC116 | G50: =B50 -> Yamaha XT 500 | H50: =Data!D116 -> 49.259218 | I50: =Data!Q116 -> 69.858156 | J50: =Data!S116 -> 68.145161 | K50: =Data!V116 -> 56.369427 | L50: =Data!Y116 -> 57.692308 | M50: =Data!Z116 -> 24.175824 | N50: =Data!AD116 -> Yamaha XT 500 | O50: =Data!AE116
A51: 46 | B51: =Data!A87 -> Honda XL 600 V Transalp PD06 | C51: =Data!AA87 -> 58.421052 | D51: =Data!AB87 -> 58.619214 | E51: =Data!AA25 | F51: =Data!AC87 | G51: =B51 -> Honda XL 600 V Transalp PD06 | H51: =Data!D87 -> 60.633906 | I51: =Data!Q87 -> 53.825137 | J51: =Data!S87 -> 72.580645 | K51: =Data!V87 -> 62.101911 | L51: =Data!Y87 -> 57.692308 | M51: =Data!Z87 -> 49.450549 | N51: =Data!AD87 -> Honda XL 600 V Transalp PD06 | O51: =Data!AE87
A52: 47 | B52: =Data!A101 -> Suzuki DR 350 SE | C52: =Data!AA101 -> 58.370335 | D52: =Data!AB101 -> 61.194008 | E52: =Data!AA39 | F52: =Data!AC101 | G52: =B52 -> Suzuki DR 350 SE | H52: =Data!D101 -> 46.966822 | I52: =Data!Q101 -> 80.737705 | J52: =Data!S101 -> 74.193548 | K52: =Data!V101 -> 89.171975 | L52: =Data!Y101 -> 61.22449 | M52: =Data!Z101 -> 26.239067 | N52: =Data!AD101 -> Suzuki DR 350 SE | O52: =Data!AE101
A53: 48 | B53: =Data!A118 -> Yamaha XT 600 (2KF) | C53: =Data!AA118 -> 61.88534 | D53: =Data!AB118 -> 62.948989 | E53: =Data!AA56 | F53: =Data!AC118 | G53: =B53 -> Yamaha XT 600 (2KF) | H53: =Data!D118 -> 57.522374 | I53: =Data!Q118 -> 65.568314 | J53: =Data!S118 -> 86.693548 | K53: =Data!V118 -> 78.025478 | L53: =Data!Y118 -> 60 | M53: =Data!Z118 -> 37.142857 | N53: =Data!AD118 -> Yamaha XT 600 (2KF) | O53: =Data!AE118
A54: 49 | B54: =Data!A115 -> Yamaha XT 350 (55V) | C54: =Data!AA115 -> 59.571104 | D54: =Data!AB115 -> 63.322308 | E54: =Data!AA53 | F54: =Data!AC115 | G54: =B54 -> Yamaha XT 350 (55V) | H54: =Data!D115 -> 44.556639 | I54: =Data!Q115 -> 74.677786 | J54: =Data!S115 -> 77.419355 | K54: =Data!V115 -> 75.636943 | L54: =Data!Y115 -> 63.829787 | M54: =Data!Z115 -> 36.474164 | N54: =Data!AD115 -> Yamaha XT 350 (55V) | O54: =Data!AE115
A55: 50 | B55: =Data!A117 -> Yamaha XT 550 | C55: =Data!AA117 -> 60.725896 | D55: =Data!AB117 -> 62.86323 | E55: =Data!AA55 | F55: =Data!AC117 | G55: =B55 -> Yamaha XT 550 | H55: =Data!D117 -> 52.859414 | I55: =Data!Q117 -> 73.507463 | J55: =Data!S117 -> 78.629032 | K55: =Data!V117 -> 66.878981 | L55: =Data!Y117 -> 66.666667 | M55: =Data!Z117 -> 38.095238 | N55: =Data!AD117 -> Yamaha XT 550
A56: 51 | B56: =Data!A119 -> Yamaha XT 660 R | C56: =Data!AA119 -> 63.001764 | D56: =Data!AB119 -> 64.359364 | E56: =Data!AA57 | F56: =Data!AC119 | G56: =B56 -> Yamaha XT 660 R | H56: =Data!D119 -> 59.408853 | I56: =Data!Q119 -> 59.69697 | J56: =Data!S119 -> 75 | K56: =Data!V119 -> 67.675159 | L56: =Data!Y119 -> 71.428571 | M56: =Data!Z119 -> 51.020408 | N56: =Data!AD119 -> Yamaha XT 660 R

Sheet Spider chart 1

Sheet Ranking 2
A1: Rank | B1: =Charts!A1 -> Model | C1: =Charts!D1 -> Points (considering engine power) | D1: =Charts!E1 -> Points (neglecting engine power) | E1: =Charts!B1 -> Price in Germany [Euros] | F1: =Charts!C1 -> Price-Performance-Ratio [Euros/Points] | G1: =B1 -> Model | H1: =Data!D63 -> Engine power [bhp] | I1: =Data!Q63 -> Dry weight [kg] | J1: =Data!S63 -> Load capacity [kg] | K1: =Data!V63 -> Avg. suspension travel [mm] | L1: =Data!Y63 -> Economy - Fuel consumption [l/100 km] | M1: =Data!Z63 -> Mileage [km/tank] | N1: =Data!AD63 -> Model | O1: =Data!AE63
A2: 1 | B2: =Data!A89 -> Husqvarna 701 LR (2020) | C2: =Data!AA89 -> 72.813766 | D2: =Data!AB89 -> 73.222947 | E2: =Data!AA27 -> 11395 | F2: =Data!AC89 -> 155.62061 | G2: =B2 -> Husqvarna 701 LR (2020) | H2: =Data!D89 -> 74.261066 | I2: =Data!Q89 -> 63.548387 | J2: =Data!S89 -> 78.629032 | K2: =Data!V89 -> 79.617834 | L2: =Data!Y89 -> 66.666667 | M2: =Data!Z89 -> 79.365079 | N2: =Data!AD89 -> Husqvarna 701 LR (2020) | O2: =Data!AE89
A3: 2 | B3: =Data!A94 -> KTM 450 Rally | C3: =Data!AA94 -> 70.044797 | D3: =Data!AB94 -> 72.346845 | E3: =Data!AA32 -> 30940 | F3: =Data!AC94 -> 427.66205 | G3: =B3 -> KTM 450 Rally | H3: =Data!D94 -> 71.743005 | I3: =Data!Q94 -> 70.863309 | J3: =Data!S94 -> 48.387097 | K3: =Data!V94 -> 96.33758 | L3: =Data!Y94 -> 60 | M3: =Data!Z94 -> 100 | N3: =Data!AD94 -> KTM 450 Rally | O3: =Data!AE94
A4: 3 | B4: =Data!A76 -> CCM GP 450 Adventure | C4: =Data!AA76 -> 66.471151 | D4: =Data!AB76 -> 70.643162 | E4: =Data!AA14 -> 9900 | F4: =Data!AC76 -> 140.14095 | G4: =B4 -> CCM GP 450 Adventure | H4: =Data!D76 -> 54.38831 | I4: =Data!Q76 -> 78.8 | J4: =Data!S76 -> 62.5 | K4: =Data!V76 -> 84.394904 | L4: =Data!Y76 -> 66.666667 | M4: =Data!Z76 -> 63.492063 | N4: =Data!AD76 -> CCM GP 450 Adventure | O4: =Data!AE76
A5: 4 | B5: =Data!A98 -> KTM 790 Adventure R Rallye | C5: =Data!AA98 -> 71.959105 | D5: =Data!AB98 -> 70.622182 | E5: =Data!AA36 -> 18000 | F5: =Data!AC98 -> 254.87743 | G5: =B5 -> KTM 790 Adventure R Rallye | H5: =Data!D98 -> 83.578072 | I5: =Data!Q98 -> 52.116402 | J5: =Data!S98 -> 96.774194 | K5: =Data!V98 -> 85.987261 | L5: =Data!Y98 -> 65.217391 | M5: =Data!Z98 -> 62.111801 | N5: =Data!AD98 -> KTM 790 Adventure R Rallye | O5: =Data!AE98
A6: 5 | B6: =Data!A97 -> KTM 790 Adventure R | C6: =Data!AA97 -> 70.560286 | D6: =Data!AB97 -> 68.978004 | E6: =Data!AA35 -> 12500 | F6: =Data!AC97 -> 181.21719 | G6: =B6 -> KTM 790 Adventure R | H6: =Data!D97 -> 83.578072 | I6: =Data!Q97 -> 52.116402 | J6: =Data!S97 -> 96.774194 | K6: =Data!V97 -> 76.433121 | L6: =Data!Y97 -> 65.217391 | M6: =Data!Z97 -> 62.111801 | N6: =Data!AD97 -> KTM 790 Adventure R | O6: =Data!AE97
A7: 6 | B7: =Data!A107 -> SWM Superdual X | C7: =Data!AA107 -> 67.009096 | D7: =Data!AB107 -> 68.609745 | E7: =Data!AA45 -> 7580 | F7: =Data!AC107 -> 110.47993 | G7: =B7 -> SWM Superdual X | H7: =Data!D107 -> 63.012604 | I7: =Data!Q107 -> 58.284024 | J7: =Data!S107 -> 100 | K7: =Data!V107 -> 68.471338 | L7: =Data!Y107 -> 66.666667 | M7: =Data!Z107 -> 57.142857 | N7: =Data!AD107 -> SWM Superdual X | O7: =Data!AE107
A8: 13 | B8: =Data!A120 -> Yamaha XT 660 Z Ténénré | C8: =Data!AA120 -> 65.916401 | D8: =Data!AB120 -> 68.465652 | E8: =Data!AA58 -> 7995 | F8: =Data!AC120 -> 116.77388 | G8: =B8 -> Yamaha XT 660 Z Ténénré | H8: =Data!D120 -> 59.408853 | I8: =Data!Q120 -> 53.825137 | J8: =Data!S120 -> 76.612903 | K8: =Data!V120 -> 65.286624 | L8: =Data!Y120 -> 71.428571 | M8: =Data!Z120 -> 78.231293 | N8: =Data!AD120 -> Yamaha XT 660 Z Ténénré | O8: =Data!AE120
A9: 7 | B9: =Data!A82 -> Honda XRE 300 ABS | C9: =Data!AA82 -> 62.963466 | D9: =Data!AB82 -> 68.253316 | E9: =Data!AA20 -> 4600 | F9: =Data!AC82 -> 67.395993 | G9: =B9 -> Honda XRE 300 ABS | H9: =Data!D82 -> 43.216282 | I9: =Data!Q82 -> 66.554054 | J9: =Data!S82 -> 62.5 | K9: =Data!V82 -> 74.840764 | L9: =Data!Y82 -> 85.714286 | M9: =Data!Z82 -> 55.510204 | N9: =Data!AD82 -> Honda XRE 300 ABS | O9: =Data!AE82
A10: 8 | B10: =Data!A64 -> AJP PR7 Adventure 650 | C10: =Data!AA64 -> 63.016135 | D10: =Data!AB64 -> 68.162333 | E10: =Data!AA2 -> 10790 | F10: =Data!AC64 -> 158.29857 | G10: =B10 -> AJP PR7 Adventure 650 | H10: =Data!D64 -> 45.374261 | I10: =Data!Q64 -> 66.554054 | J10: =Data!S64 -> 66.532258 | K10: =Data!V64 -> 92.356688 | L10: =Data!Y64 -> 66.666667 | M10: =Data!Z64 -> 53.968254 | N10: =Data!AD64 -> AJP PR7 Adventure 650 | O10: =Data!AE64
A11: 9 | B11: =Data!A112 -> Yamaha WR 250 R | C11: =Data!AA112 -> 63.95014 | D11: =Data!AB112 -> 68.095201 | E11: =Data!AA50 -> 7000 | F11: =Data!AC112 -> 102.79726 | G11: =B11 -> Yamaha WR 250 R | H11: =Data!D112 -> 47.511608 | I11: =Data!Q112 -> 78.174603 | J11: =Data!S112 -> 77.822581 | K11: =Data!V112 -> 85.987261 | L11: =Data!Y112 -> 85.714286 | M11: =Data!Z112 -> 32.653061 | N11: =Data!AD112 -> Yamaha WR 250 R | O11: =Data!AE112
A12: 10 | B12: =Data!A114 -> Yamaha XT 250 (USA 2020) | C12: =Data!AA114 -> 60.511138 | D12: =Data!AB114 -> 67.793842 | E12: =Data!AA52 -> 4700 | F12: =Data!AC114 -> 69.32783 | G12: =B12 -> Yamaha XT 250 (USA 2020) | H12: =Data!D114 -> 34.513424 | I12: =Data!Q114 -> 78.558041 | J12: =Data!S114 -> 64.516129 | K12: =Data!V114 -> 64.649682 | L12: =Data!Y114 -> 96.774194 | M12: =Data!Z114 -> 45.16129 | N12: =Data!AD114 -> Yamaha XT 250 (USA 2020) | O12: =Data!AE114
A13: 20 | B13: =Data!A93 -> KTM 390 Adventure | C13: =Data!AA93 -> 65.386661 | D13: =Data!AB93 -> 67.778147 | E13: =Data!AA31 -> 6195 | F13: =Data!AC93 -> 91.401141 | G13: =B13 -> KTM 390 Adventure | H13: =Data!D93 -> 56.879646 | I13: =Data!Q93 -> 62.341772 | J13: =Data!S93 -> 81.854839 | K13: =Data!V93 -> 55.254777 | L13: =Data!Y93 -> 85.714286 | M13: =Data!Z93 -> 59.183673 | N13: =Data!AD93 -> KTM 390 Adventure | O13: =Data!AE93
A14: 11 | B14: =Data!A84 -> Honda NX4 Falcon | C14: =Data!AA84 -> 63.085228 | D14: =Data!AB84 -> 67.620944 | E14: =Data!AA22 -> 4600 | F14: =Data!AC84 -> 68.026261 | G14: =B14 -> Honda NX4 Falcon | H14: =Data!D84 -> 47.434165 | I14: =Data!Q84 -> 65.231788 | J14: =Data!S84 -> 62.5 | K14: =Data!V84 -> 66.082803 | L14: =Data!Y84 -> 85.714286 | M14: =Data!Z84 -> 61.22449 | N14: =Data!AD84 -> Honda NX4 Falcon | O14: =Data!AE84
A15: 12 | B15: =Data!A80 -> Honda CRF 250 Rally | C15: =Data!AA80 -> 62.673628 | D15: =Data!AB80 -> 67.614145 | E15: =Data!AA18 -> 6500 | F15: =Data!AC80 -> 96.133731 | G15: =B15 -> Honda CRF 250 Rally | H15: =Data!D80 -> 42.874646 | I15: =Data!Q80 -> 65.586869 | J15: =Data!S80 -> 64.112903 | K15: =Data!V80 -> 82.006369 | L15: =Data!Y80 -> 92.307692 | M15: =Data!Z80 -> 44.395604 | N15: =Data!AD80 -> Honda CRF 250 Rally | O15: =Data!AE80
A16: 14 | B16: =Data!A95 -> KTM 690 Enduro R | C16: =Data!AA95 -> 67.918542 | D16: =Data!AB95 -> 67.345257 | E16: =Data!AA33 -> 10800 | F16: =Data!AC95 -> 160.36764 | G16: =B16 -> KTM 690 Enduro R | H16: =Data!D95 -> 74.261066 | I16: =Data!Q95 -> 67.465753 | J16: =Data!S95 -> 78.629032 | K16: =Data!V95 -> 79.617834 | L16: =Data!Y95 -> 71.428571 | M16: =Data!Z95 -> 45.918367 | N16: =Data!AD95 -> KTM 690 Enduro R | O16: =Data!AE95
A17: 15 | B17: =Data!A100 -> Royal Enfield Himalayan (BS VI) | C17: =Data!AA100 -> 62.028058 | D17: =Data!AB100 -> 67.297538 | E17: =Data!AA38 -> 4700 | F17: =Data!AC100 -> 69.839108 | G17: =B17 -> Royal Enfield Himalayan (BS VI) | H17: =Data!D100 -> 42.443734 | I17: =Data!Q100 -> 53.243243 | J17: =Data!S100 -> 72.580645 | K17: =Data!V100 -> 60.509554 | L17: =Data!Y100 -> 90.909091 | M17: =Data!Z100 -> 64.935065 | N17: =Data!AD100 -> Royal Enfield Himalayan (BS VI) | O17: =Data!AE100
A18: 16 | B18: =Data!A83 -> Honda NX 250 Dominator (MD21) | C18: =Data!AA83 -> 61.638708 | D18: =Data!AB83 -> 67.018471 | E18: =Data!AA21 | F18: =Data!AC83 | G18: =B18 -> Honda NX 250 Dominator (MD21) | H18: =Data!D83 -> 43.723732 | I18: =Data!Q83 -> 83.474576 | J18: =Data!S83 -> 72.580645 | K18: =Data!V83 -> 66.878981 | L18: =Data!Y83 -> 88.235294 | M18: =Data!Z83 -> 37.815126 | N18: =Data!AD83 -> Honda NX 250 Dominator (MD21) | O18: =Data!AE83
A19: 17 | B19: =Data!A96 -> KTM 790 Adventure S | C19: =Data!AA96 -> 68.448425 | D19: =Data!AB96 -> 66.508075 | E19: =Data!AA34 -> 10500 | F19: =Data!AC96 -> 157.87557 | G19: =B19 -> KTM 790 Adventure S | H19: =Data!D96 -> 83.578072 | I19: =Data!Q96 -> 52.116402 | J19: =Data!S96 -> 96.774194 | K19: =Data!V96 -> 63.694268 | L19: =Data!Y96 -> 65.217391 | M19: =Data!Z96 -> 62.111801 | N19: =Data!AD96 -> KTM 790 Adventure S | O19: =Data!AE96
A20: 18 | B20: =Data!A86 -> Honda CB 500 X | C20: =Data!AA86 -> 64.043886 | D20: =Data!AB86 -> 65.755491 | E20: =Data!AA24 -> 6990 | F20: =Data!AC86 -> 106.30291 | G20: =B20 -> Honda CB 500 X | H20: =Data!D86 -> 59.408853 | I20: =Data!Q86 -> 55.337079 | J20: =Data!S86 -> 74.596774 | K20: =Data!V86 -> 45.382166 | L20: =Data!Y86 -> 88.235294 | M20: =Data!Z86 -> 74.369748 | N20: =Data!AD86 -> Honda CB 500 X | O20: =Data!AE86
A21: 19 | B21: =Data!A122 -> Zontes 310-T2 | C21: =Data!AA122 -> 62.618724 | D21: =Data!AB122 -> 65.577389 | E21: =Data!AA60 -> 4990 | F21: =Data!AC122 -> 76.093301 | G21: =B21 -> Zontes 310-T2 | H21: =Data!D122 -> 50.729966 | I21: =Data!Q122 -> 66.107383 | J21: =Data!S122 -> 64.516129 | K21: =Data!V122 -> 57.324841 | L21: =Data!Y122 -> 83.333333 | M21: =Data!Z122 -> 59.52381 | N21: =Data!AD122 -> Zontes 310-T2 | O21: =Data!AE122
A22: 21 | B22: =Data!A90 -> Kawasaki KLX 250 | C22: =Data!AA90 -> 60.347718 | D22: =Data!AB90 -> 65.367069 | E22: =Data!AA28 -> 5000 | F22: =Data!AC90 -> 76.491115 | G22: =B22 -> Kawasaki KLX 250 | H22: =Data!D90 -> 40.219983 | I22: =Data!Q90 -> 74.17029 | J22: =Data!S90 -> 72.983871 | K22: =Data!V90 -> 77.229299 | L22: =Data!Y90 -> 88.235294 | M22: =Data!Z90 -> 32.352941 | N22: =Data!AD90 -> Kawasaki KLX 250 | O22: =Data!AE90
A23: 22 | B23: =Data!A102 -> Suzuki DR-Z400S (USA 2020) | C23: =Data!AA102 -> 62.827243 | D23: =Data!AB102 -> 65.25338 | E23: =Data!AA40 -> 6200 | F23: =Data!AC102 -> 95.014236 | G23: =B23 -> Suzuki DR-Z400S (USA 2020) | H23: =Data!D102 -> 54.232614 | I23: =Data!Q102 -> 74.621212 | J23: =Data!S102 -> 77.016129 | K23: =Data!V102 -> 92.993631 | L23: =Data!Y102 -> 68.181818 | M23: =Data!Z102 -> 32.467532 | N23: =Data!AD102 -> Suzuki DR-Z400S (USA 2020) | O23: =Data!AE102
A24: 23 | B24: =Data!A78 -> Fantic Caballero Rally 500 | C24: =Data!AA78 -> 62.608861 | D24: =Data!AB78 -> 64.689888 | E24: =Data!AA16 -> 7190 | F24: =Data!AC78 -> 111.14566 | G24: =B24 -> Fantic Caballero Rally 500 | H24: =Data!D78 -> 54.232614 | I24: =Data!Q78 -> 65.666667 | J24: =Data!S78 -> 64.516129 | K24: =Data!V78 -> 63.694268 | L24: =Data!Y78 -> 85.714286 | M24: =Data!Z78 -> 48.979592 | N24: =Data!AD78 -> Fantic Caballero Rally 500 | O24: =Data!AE78
A25: 24 | B25: =Data!A119 -> Yamaha XT 660 R | C25: =Data!AA119 -> 63.001764 | D25: =Data!AB119 -> 64.359364 | E25: =Data!AA57 | F25: =Data!AC119 | G25: =B25 -> Yamaha XT 660 R | H25: =Data!D119 -> 59.408853 | I25: =Data!Q119 -> 59.69697 | J25: =Data!S119 -> 75 | K25: =Data!V119 -> 67.675159 | L25: =Data!Y119 -> 71.428571 | M25: =Data!Z119 -> 51.020408 | N25: =Data!AD119 -> Yamaha XT 660 R
A26: 25 | B26: =Data!A69 -> BMW G 650 GS Sertao | C26: =Data!AA69 -> 63.084031 | D26: =Data!AB69 -> 64.353423 | E26: =Data!AA7 -> 8050 | F26: =Data!AC69 -> 125.09047 | G26: =B26 -> BMW G 650 GS Sertao | H26: =Data!D69 -> 59.408853 | I26: =Data!Q69 -> 54.120879 | J26: =Data!S69 -> 73.387097 | K26: =Data!V69 -> 66.878981 | L26: =Data!Y69 -> 78.947368 | M26: =Data!Z69 -> 52.631579 | N26: =Data!AD69 -> BMW G 650 GS Sertao | O26: =Data!AE69
A27: 26 | B27: =Data!A108 -> Triumph Tiger 900 Rally | C27: =Data!AA108 -> 66.568188 | D27: =Data!AB108 -> 64.264275 | E27: =Data!AA46 -> 12000 | F27: =Data!AC108 -> 186.72894 | G27: =B27 -> Triumph Tiger 900 Rally | H27: =Data!D108 -> 83.666003 | I27: =Data!Q108 -> 50.255102 | J27: =Data!S108 -> 91.935484 | K27: =Data!V108 -> 74.840764 | L27: =Data!Y108 -> 57.692308 | M27: =Data!Z108 -> 54.945055 | N27: =Data!AD108 -> Triumph Tiger 900 Rally | O27: =Data!AE108
A28: 27 | B28: =Data!A79 -> Honda CRF 250 L | C28: =Data!AA79 -> 60.131541 | D28: =Data!AB79 -> 64.231933 | E28: =Data!AA17 -> 5600 | F28: =Data!AC79 -> 87.184049 | G28: =B28 -> Honda CRF 250 L | H28: =Data!D79 -> 42.874646 | I28: =Data!Q79 -> 69.956144 | J28: =Data!S79 -> 64.112903 | K28: =Data!V79 -> 78.025478 | L28: =Data!Y79 -> 92.307692 | M28: =Data!Z79 -> 33.846154 | N28: =Data!AD79 -> Honda CRF 250 L | O28: =Data!AE79
A29: 28 | B29: =Data!A121 -> Yamaha XT 660 Z Ténéré ABS | C29: =Data!AA121 -> 62.424837 | D29: =Data!AB121 -> 63.91546 | E29: =Data!AA59 -> 8195 | F29: =Data!AC121 -> 128.21624 | G29: =B29 -> Yamaha XT 660 Z Ténéré ABS | H29: =Data!D121 -> 59.408853 | I29: =Data!Q121 -> 51.302083 | J29: =Data!S121 -> 76.612903 | K29: =Data!V121 -> 48.566879 | L29: =Data!Y121 -> 71.428571 | M29: =Data!Z121 -> 78.231293 | N29: =Data!AD121 -> Yamaha XT 660 Z Ténéré ABS | O29: =Data!AE121
A30: 29 | B30: =Data!A115 -> Yamaha XT 350 (55V) | C30: =Data!AA115 -> 59.571104 | D30: =Data!AB115 -> 63.322308 | E30: =Data!AA53 | F30: =Data!AC115 | G30: =B30 -> Yamaha XT 350 (55V) | H30: =Data!D115 -> 44.556639 | I30: =Data!Q115 -> 74.677786 | J30: =Data!S115 -> 77.419355 | K30: =Data!V115 -> 75.636943 | L30: =Data!Y115 -> 63.829787 | M30: =Data!Z115 -> 36.474164 | N30: =Data!AD115 -> Yamaha XT 350 (55V) | O30: =Data!AE115
A31: 30 | B31: =Data!A75 -> BMW R 1250 GS Adventure | C31: =Data!AA75 -> 67.884882 | D31: =Data!AB75 -> 63.251627 | E31: =Data!AA13 -> 18000 | F31: =Data!AC75 -> 284.57766 | G31: =B31 -> BMW R 1250 GS Adventure | H31: =Data!D75 -> 100 | I31: =Data!Q75 -> 39.75782 | J31: =Data!S75 -> 87.5 | K31: =Data!V75 -> 68.471338 | L31: =Data!Y75 -> 54.545455 | M31: =Data!Z75 -> 77.922078 | N31: =Data!AD75 -> BMW R 1250 GS Adventure | O31: =Data!AE75
A32: 31 | B32: =Data!A118 -> Yamaha XT 600 (2KF) | C32: =Data!AA118 -> 61.88534 | D32: =Data!AB118 -> 62.948989 | E32: =Data!AA56 | F32: =Data!AC118 | G32: =B32 -> Yamaha XT 600 (2KF) | H32: =Data!D118 -> 57.522374 | I32: =Data!Q118 -> 65.568314 | J32: =Data!S118 -> 86.693548 | K32: =Data!V118 -> 78.025478 | L32: =Data!Y118 -> 60 | M32: =Data!Z118 -> 37.142857 | N32: =Data!AD118 -> Yamaha XT 600 (2KF) | O32: =Data!AE118
A33: 32 | B33: =Data!A88 -> Honda CRF 1100 Africa Twin | C33: =Data!AA88 -> 66.203157 | D33: =Data!AB88 -> 62.905346 | E33: =Data!AA26 -> 14450 | F33: =Data!AC88 -> 229.71021 | G33: =B33 -> Honda CRF 1100 Africa Twin | H33: =Data!D88 -> 86.60254 | I33: =Data!Q88 -> 46.176926 | J33: =Data!S88 -> 88.709677 | K33: =Data!V88 -> 71.656051 | L33: =Data!Y88 -> 61.22449 | M33: =Data!Z88 -> 54.810496 | N33: =Data!AD88 -> Honda CRF 1100 Africa Twin | O33: =Data!AE88
A34: 33 | B34: =Data!A117 -> Yamaha XT 550 | C34: =Data!AA117 -> 60.725896 | D34: =Data!AB117 -> 62.86323 | E34: =Data!AA55 | F34: =Data!AC117 | G34: =B34 -> Yamaha XT 550 | H34: =Data!D117 -> 52.859414 | I34: =Data!Q117 -> 73.507463 | J34: =Data!S117 -> 78.629032 | K34: =Data!V117 -> 66.878981 | L34: =Data!Y117 -> 66.666667 | M34: =Data!Z117 -> 38.095238 | N34: =Data!AD117 -> Yamaha XT 550
A35: 34 | B35: =Data!A72 -> BMW G 650 XChallenge | C35: =Data!AA72 -> 62.401372 | D35: =Data!AB72 -> 62.839322 | E35: =Data!AA10 -> 8200 | F35: =Data!AC72 -> 130.49154 | G35: =B35 -> BMW G 650 XChallenge | H35: =Data!D72 -> 62.426427 | I35: =Data!Q72 -> 68.402778 | J35: =Data!S72 -> 72.177419 | K35: =Data!V72 -> 85.987261 | L35: =Data!Y72 -> 71.428571 | M35: =Data!Z72 -> 32.312925 | N35: =Data!AD72 -> BMW G 650 XChallenge | O35: =Data!AE72
A36: 35 | B36: =Data!A67 -> BMW G 310 GS | C36: =Data!AA67 -> 60.16551 | D36: =Data!AB67 -> 62.435797 | E36: =Data!AA5 -> 6050 | F36: =Data!AC67 -> 96.899539 | G36: =B36 -> BMW G 310 GS | H36: =Data!D67 -> 50 | I36: =Data!Q67 -> 60.774333 | J36: =Data!S67 -> 70.766129 | K36: =Data!V67 -> 57.324841 | L36: =Data!Y67 -> 85.714286 | M36: =Data!Z67 -> 44.897959 | N36: =Data!AD67 -> BMW G 310 GS | O36: =Data!AE67
A37: 36 | B37: =Data!A103 -> Suzuki DR 650 S (USA 2019) | C37: =Data!AA103 -> 60.621647 | D37: =Data!AB103 -> 62.350488 | E37: =Data!AA41 -> 6000 | F37: =Data!AC103 -> 96.230201 | G37: =B37 -> Suzuki DR 650 S (USA 2019) | H37: =Data!D103 -> 56.879646 | I37: =Data!Q103 -> 67.006803 | J37: =Data!S103 -> 76.209677 | K37: =Data!V103 -> 82.802548 | L37: =Data!Y103 -> 60 | M37: =Data!Z103 -> 37.142857 | N37: =Data!AD103 -> Suzuki DR 650 S (USA 2019) | O37: =Data!AE103
A38: 37 | B38: =Data!A68 -> BMW G 650 GS | C38: =Data!AA68 -> 61.394164 | D38: =Data!AB68 -> 62.324642 | E38: =Data!AA6 -> 7400 | F38: =Data!AC68 -> 118.73313 | G38: =B38 -> BMW G 650 GS | H38: =Data!D68 -> 59.408853 | I38: =Data!Q68 -> 55.965909 | J38: =Data!S68 -> 75.806452 | K38: =Data!V68 -> 53.343949 | L38: =Data!Y68 -> 78.947368 | M38: =Data!Z68 -> 52.631579 | N38: =Data!AD68 -> BMW G 650 GS | O38: =Data!AE68
A39: 38 | B39: =Data!A91 -> Kawasaki Versys X-300 | C39: =Data!AA91 -> 59.944246 | D39: =Data!AB91 -> 61.440604 | E39: =Data!AA29 -> 5795 | F39: =Data!AC91 -> 94.318734 | G39: =B39 -> Kawasaki Versys X-300 | H39: =Data!D91 -> 54.232614 | I39: =Data!Q91 -> 60.235438 | J39: =Data!S91 -> 68.548387 | K39: =Data!V91 -> 44.267516 | L39: =Data!Y91 -> 76.923077 | M39: =Data!Z91 -> 62.271062 | N39: =Data!AD91 -> Kawasaki Versys X-300 | O39: =Data!AE91
A40: 39 | B40: =Data!A101 -> Suzuki DR 350 SE | C40: =Data!AA101 -> 58.370335 | D40: =Data!AB101 -> 61.194008 | E40: =Data!AA39 | F40: =Data!AC101 | G40: =B40 -> Suzuki DR 350 SE | H40: =Data!D101 -> 46.966822 | I40: =Data!Q101 -> 80.737705 | J40: =Data!S101 -> 74.193548 | K40: =Data!V101 -> 89.171975 | L40: =Data!Y101 -> 61.22449 | M40: =Data!Z101 -> 26.239067 | N40: =Data!AD101 -> Suzuki DR 350 SE | O40: =Data!AE101
A41: 40 | B41: =Data!A111 -> Yamaha Ténéré 700 | C41: =Data!AA111 -> 62.561735 | D41: =Data!AB111 -> 60.734653 | E41: =Data!AA49 -> 9600 | F41: =Data!AC111 -> 158.06462 | G41: =B41 -> Yamaha Ténéré 700 | H41: =Data!D111 -> 73.264228 | I41: =Data!Q111 -> 50.983437 | J41: =Data!S111 -> 76.612903 | K41: =Data!V111 -> 65.286624 | L41: =Data!Y111 -> 65.217391 | M41: =Data!Z111 -> 49.689441 | N41: =Data!AD111 -> Yamaha Ténéré 700 | O41: =Data!AE111
A42: 41 | B42: =Data!A65 -> AKT TT 250 Adventour / CSC RX3 Adventure / Zongshen RX3 | C42: =Data!AA65 -> 56.060037 | D42: =Data!AB65 -> 60.506487 | E42: =Data!AA3 -> 2880 | F42: =Data!AC65 -> 47.598202 | G42: =B42 -> AKT TT 250 Adventour / CSC RX3 Adventure / Zongshen RX3 | H42: =Data!D65 -> 42.702803 | I42: =Data!Q65 -> 65.666667 | J42: =Data!S65 -> 66.532258 | K42: =Data!V65 -> 43.312102 | L42: =Data!Y65 -> 75 | M42: =Data!Z65 -> 57.142857 | N42: =Data!AD65 -> AKT TT 250 Adventour / CSC RX3 Adventure / Zongshen RX3 | O42: =Data!AE65
A43: 42 | B43: =Data!A70 -> BMW G 650 XCountry (2006) | C43: =Data!AA70 -> 60.536505 | D43: =Data!AB70 -> 60.445319 | E43: =Data!AA8 -> 6900 | F43: =Data!AC70 -> 114.15276 | G43: =B43 -> BMW G 650 XCountry (2006) | H43: =Data!D70 -> 62.426427 | I43: =Data!Q70 -> 65.886288 | J43: =Data!S70 -> 70.564516 | K43: =Data!V70 -> 71.656051 | L43: =Data!Y70 -> 73.170732 | M43: =Data!Z70 -> 33.101045 | N43: =Data!AD70 -> BMW G 650 XCountry (2006) | O43: =Data!AE70
A44: 43 | B44: =Data!A73 -> BMW R 1200 GS Rallye (2012) | C44: =Data!AA73 -> 63.444548 | D44: =Data!AB73 -> 60.072469 | E44: =Data!AA11 -> 14950 | F44: =Data!AC73 -> 248.86608 | G44: =B44 -> BMW R 1200 GS Rallye (2012) | H44: =Data!D73 -> 89.934617 | I44: =Data!Q73 -> 48.522167 | J44: =Data!S73 -> 85.080645 | K44: =Data!V73 -> 62.101911 | L44: =Data!Y73 -> 56.603774 | M44: =Data!Z73 -> 53.908356 | N44: =Data!AD73 -> BMW R 1200 GS Rallye (2012) | O44: =Data!AE73
A45: 26 | B45: =Data!A109 -> Triumph Scrambler 1200 XE | C45: =Data!AA109 -> 62.799986 | D45: =Data!AB109 -> 59.706059 | E45: =Data!AA47 -> 14550 | F45: =Data!AC109 -> 243.69386 | G45: =B45 -> Triumph Scrambler 1200 XE | H45: =Data!D109 -> 81.348922 | I45: =Data!Q109 -> 47.584541 | J45: =Data!S109 -> 64.516129 | K45: =Data!V109 -> 79.617834 | L45: =Data!Y109 -> 63.829787 | M45: =Data!Z109 -> 48.632219 | N45: =Data!AD109 -> Triumph Scrambler 1200 XE | O45: =Data!AE109
A46: 45 | B46: =Data!A66 -> Beta Alp 4.0 | C46: =Data!AA66 -> 55.759725 | D46: =Data!AB66 -> 58.806501 | E46: =Data!AA4 -> 5900 | F46: =Data!AC66 -> 100.32904 | G46: =B46 -> Beta Alp 4.0 | H46: =Data!D66 -> 44.556639 | I46: =Data!Q66 -> 74.06015 | J46: =Data!S66 -> 66.532258 | K46: =Data!V66 -> 70.063694 | L46: =Data!Y66 -> 63.829787 | M46: =Data!Z66 -> 31.914894 | N46: =Data!AD66 -> Beta Alp 4.0 | O46: =Data!AE66
A47: 46 | B47: =Data!A99 -> KTM 950 Adventure S | C47: =Data!AA99 -> 61.756735 | D47: =Data!AB99 -> 58.763795 | E47: =Data!AA37 -> 12690 | F47: =Data!AC99 -> 215.94929 | G47: =B47 -> KTM 950 Adventure S | H47: =Data!D99 -> 84.887469 | I47: =Data!Q99 -> 49.747475 | J47: =Data!S99 -> 85.080645 | K47: =Data!V99 -> 83.598726 | L47: =Data!Y99 -> 43.478261 | M47: =Data!Z99 -> 45.548654 | N47: =Data!AD99 -> KTM 950 Adventure S | O47: =Data!AE99
A48: 44 | B48: =Data!A113 -> Yamaha WR 450 F | C48: =Data!AA113 -> 59.469734 | D48: =Data!AB113 -> 58.627352 | E48: =Data!AA51 -> 8900 | F48: =Data!AC113 -> 151.80628 | G48: =B48 -> Yamaha WR 450 F | H48: =Data!D113 -> 63.766578 | I48: =Data!Q113 -> 85.698749 | J48: =Data!S113 -> 44.354839 | K48: =Data!V113 -> 100 | L48: =Data!Y113 -> 71.428571 | M48: =Data!Z113 -> 25.510204 | N48: =Data!AD113 -> Yamaha WR 450 F | O48: =Data!AE113
A49: 47 | B49: =Data!A87 -> Honda XL 600 V Transalp PD06 | C49: =Data!AA87 -> 58.421052 | D49: =Data!AB87 -> 58.619214 | E49: =Data!AA25 | F49: =Data!AC87 | G49: =B49 -> Honda XL 600 V Transalp PD06 | H49: =Data!D87 -> 60.633906 | I49: =Data!Q87 -> 53.825137 | J49: =Data!S87 -> 72.580645 | K49: =Data!V87 -> 62.101911 | L49: =Data!Y87 -> 57.692308 | M49: =Data!Z87 -> 49.450549 | N49: =Data!AD87 -> Honda XL 600 V Transalp PD06 | O49: =Data!AE87
A50: 48 | B50: =Data!A71 -> BMW G 650 XCountry (2009) | C50: =Data!AA71 -> 58.724654 | D50: =Data!AB71 -> 58.280924 | E50: =Data!AA9 -> 6900 | F50: =Data!AC71 -> 118.39208 | G50: =B50 -> BMW G 650 XCountry (2009) | H50: =Data!D71 -> 62.426427 | I50: =Data!Q71 -> 65.886288 | J50: =Data!S71 -> 70.564516 | K50: =Data!V71 -> 59.713376 | L50: =Data!Y71 -> 73.170732 | M50: =Data!Z71 -> 33.101045 | N50: =Data!AD71 -> BMW G 650 XCountry (2009) | O50: =Data!AE71
A51: 49 | B51: =Data!A74 -> BMW R 1250 GS | C51: =Data!AA74 -> 63.145944 | D51: =Data!AB74 -> 57.726608 | E51: =Data!AA12 -> 16450 | F51: =Data!AC74 -> 284.96391 | G51: =B51 -> BMW R 1250 GS | H51: =Data!D74 -> 100 | I51: =Data!Q74 -> 41.825902 | J51: =Data!S74 -> 87.096774 | K51: =Data!V74 -> 62.101911 | L51: =Data!Y74 -> 54.545455 | M51: =Data!Z74 -> 51.948052 | N51: =Data!AD74 -> BMW R 1250 GS | O51: =Data!AE74
A52: 50 | B52: =Data!A92 -> KTM Freeride 250 F | C52: =Data!AA92 -> 53.878979 | D52: =Data!AB92 -> 57.528326 | E52: =Data!AA30 -> 8098 | F52: =Data!AC92 -> 140.76544 | G52: =B52 -> KTM Freeride 250 F | H52: =Data!D92 -> 38.824643 | I52: =Data!Q92 -> 100 | J52: =Data!S92 -> 40.322581 | K52: =Data!V92 -> 81.210191 | L52: =Data!Y92 -> 85.714286 | M52: =Data!Z92 -> 22.44898 | N52: =Data!AD92 -> KTM Freeride 250 F | O52: =Data!AE92
A53: 51 | B53: =Data!A85 -> Honda NX 650 Dominator (RD02) | C53: =Data!AA85 -> 56.526438 | D53: =Data!AB85 -> 57.085197 | E53: =Data!AA23 | F53: =Data!AC85 | G53: =B53 -> Honda NX 650 Dominator (RD02) | H53: =Data!D85 -> 56.879646 | I53: =Data!Q85 -> 64.802632 | J53: =Data!S85 -> 71.370968 | K53: =Data!V85 -> 66.082803 | L53: =Data!Y85 -> 56.603774 | M53: =Data!Z85 -> 35.040431 | N53: =Data!AD85 -> Honda NX 650 Dominator (RD02) | O53: =Data!AE85
A54: 23 | B54: =Data!A77 -> Ducati Desert Sled | C54: =Data!AA77 -> 58.19944 | D54: =Data!AB77 -> 55.970833 | E54: =Data!AA15 -> 12095 | F54: =Data!AC77 -> 216.09469 | G54: =B54 -> Ducati Desert Sled | H54: =Data!D77 -> 73.264228 | I54: =Data!Q77 -> 51.036269 | J54: =Data!S77 -> 64.516129 | K54: =Data!V77 -> 63.694268 | L54: =Data!Y77 -> 63.829787 | M54: =Data!Z77 -> 41.033435 | N54: =Data!AD77 -> Ducati Desert Sled | O54: =Data!AE77
A55: 52 | B55: =Data!A81 -> Honda CRF 450 L | C55: =Data!AA81 -> 53.211678 | D55: =Data!AB81 -> 55.50829 | E55: =Data!AA19 -> 10690 | F55: =Data!AC81 -> 192.58385 | G55: =B55 -> Honda CRF 450 L | H55: =Data!D81 -> 42.874646 | I55: =Data!Q81 -> 78.255343 | J55: =Data!S81 -> 40.322581 | K55: =Data!V81 -> 90.44586 | L55: =Data!Y81 -> 71.428571 | M55: =Data!Z81 -> 25.85034 | N55: =Data!AD81 -> Honda CRF 450 L | O55: =Data!AE81
A56: 53 | B56: =Data!A116 -> Yamaha XT 500 | C56: =Data!AA116 -> 51.250946 | D56: =Data!AB116 -> 51.836896 | E56: =Data!AA54 | F56: =Data!AC116 | G56: =B56 -> Yamaha XT 500 | H56: =Data!D116 -> 49.259218 | I56: =Data!Q116 -> 69.858156 | J56: =Data!S116 -> 68.145161 | K56: =Data!V116 -> 56.369427 | L56: =Data!Y116 -> 57.692308 | M56: =Data!Z116 -> 24.175824 | N56: =Data!AD116 -> Yamaha XT 500 | O56: =Data!AE116

Sheet Spider chart 2

Sheet Dry Weight - Susp. travel
A1: =Data!A1 -> Model | B1: =Data!Q1 -> Dry weight [kg] | C1: =Data!V1 -> Avg. suspension travel [mm]
A2: =Data!A2 -> AJP PR7 Adventure 650 | B2: =Data!Q2 -> 148 | C2: =Data!V2 -> 290
A3: =Data!A3 -> AKT TT 250 Adventour / CSC RX3 Adventure / Zongshen RX3 | B3: =Data!Q3 -> 150 | C3: =Data!V3 -> 136
A4: =Data!A4 -> Beta Alp 4.0 | B4: =Data!Q4 -> 133 | C4: =Data!V4 -> 220
A5: =Data!A5 -> BMW G 310 GS | B5: =Data!Q5 -> 162.075 | C5: =Data!V5 -> 180
A6: =Data!A6 -> BMW G 650 GS | B6: =Data!Q6 -> 176 | C6: =Data!V6 -> 167.5
A7: =Data!A7 -> BMW G 650 GS Sertao | B7: =Data!Q7 -> 182 | C7: =Data!V7 -> 210
A8: =Data!A8 -> BMW G 650 XCountry (2006) | B8: =Data!Q8 -> 149.5 | C8: =Data!V8 -> 225
A9: =Data!A9 -> BMW G 650 XCountry (2009) | B9: =Data!Q9 -> 149.5 | C9: =Data!V9 -> 187.5
A10: =Data!A10 -> BMW G 650 XChallenge | B10: =Data!Q10 -> 144 | C10: =Data!V10 -> 270
A11: =Data!A11 -> BMW R 1200 GS Rallye (2012) | B11: =Data!Q11 -> 203 | C11: =Data!V11 -> 195
A12: =Data!A12 -> BMW R 1250 GS | B12: =Data!Q12 -> 235.5 | C12: =Data!V12 -> 195
... A61: =Data!A61 | B61: =Data!Q61 | C61: =Data!V61

Sheet Seat height vs. dry weight
A1: =Data!A1 -> Model | B1: =Data!Q1 -> Dry weight [kg] | C1: =Data!O1 -> Seat Height, unloaded [mm] | D1: =Data!V1 -> Avg. suspension travel [mm] | E1: Index
A2: =Data!A30 -> KTM Freeride 250 F | B2: =Data!Q30 -> 98.5 | C2: =Data!O30 -> 915 | D2: =Data!V37 -> 262.5 | E2: =SQRT(B2*C2) -> 300.21242
A3: =Data!A21 -> Honda NX 250 Dominator (MD21) | B3: =Data!Q21 -> 118 | C3: =Data!O21 -> 820 | D3: =Data!V22 -> 207.5 | E3: =SQRT(B3*C3) -> 311.06269
A4: =Data!A48 -> UM DSR Adventure 125 | B4: =Data!Q48 -> 117 | C4: =Data!O48 -> 850 | D4: =Data!V48 -> 172.5 | E4: =SQRT(B4*C4) -> 315.35694
A5: =Data!A52 -> Yamaha XT 250 (USA 2020) | B5: =Data!Q52 -> 125.385 | C5: =Data!O52 -> 810 | D5: =Data!V52 -> 203 | E5: =SQRT(B5*C5) -> 318.6877
A6: =Data!A51 -> Yamaha WR 450 F | B6: =Data!Q51 -> 114.9375 | C6: =Data!O51 -> 965 | D6: =Data!V51 -> 314 | E6: =SQRT(B6*C6) -> 333.03857
A7: =Data!A14 -> CCM GP 450 Adventure | B7: =Data!Q14 -> 125 | C7: =Data!O14 -> 890 | D7: =Data!V14 -> 265 | E7: =SQRT(B7*C7) -> 333.5416
A8: =Data!A43 -> SWM RS 500 R | B8: =Data!Q43 -> 116 | C8: =Data!O43 -> 963 | D8: =Data!V42 -> 119.5 | E8: =SQRT(B8*C8) -> 334.22747
A9: =Data!A39 -> Suzuki DR 350 SE | B9: =Data!Q39 -> 122 | C9: =Data!O39 -> 920 | D9: =Data!V39 -> 280 | E9: =SQRT(B9*C9) -> 335.02239
A10: =Data!A53 -> Yamaha XT 350 (55V) | B10: =Data!Q53 -> 131.9 | C10: =Data!O53 -> 855 | D10: =Data!V53 -> 237.5 | E10: =SQRT(B10*C10) -> 335.81915
A11: =Data!A4 -> Beta Alp 4.0 | B11: =Data!Q4 -> 133 | C11: =Data!O4 -> 863 | D11: =Data!V4 -> 220 | E11: =SQRT(B11*C11) -> 338.7905
A12: =Data!A55 -> Yamaha XT 550 | B12: =Data!Q55 -> 134 | C12: =Data!O55 -> 860 | D12: =Data!V55 -> 210 | E12: =SQRT(B12*C12) -> 339.47018
A13: =Data!A54 -> Yamaha XT 500 | B13: =Data!Q54 -> 141 | C13: =Data!O54 -> 830 | D13: =Data!V54 -> 177 | E13: =SQRT(B13*C13) -> 342.09648
A14: =Data!A50 -> Yamaha WR 250 R | B14: =Data!Q50 -> 126 | C14: =Data!O50 -> 930 | D14: =Data!V50 -> 270 | E14: =SQRT(B14*C14) -> 342.31564
A15: =Data!A28 -> Kawasaki KLX 250 | B15: =Data!Q28 -> 132.8025 | C15: =Data!O28 -> 890 | D15: =Data!V28 -> 242.5 | E15: =SQRT(B15*C15) -> 343.79387
A16: =Data!A19 -> Honda CRF 450 L | B16: =Data!Q19 -> 125.87 | C16: =Data!O19 -> 940 | D16: =Data!V21 -> 210 | E16: =SQRT(B16*C16) -> 343.97355
A17: =Data!A3 -> AKT TT 250 Adventour / CSC RX3 Adventure / Zongshen RX3 | B17: =Data!Q3 -> 150 | C17: =Data!O3 -> 800 | D17: =Data!V3 -> 136 | E17: =SQRT(B17*C17) -> 346.41016
A18: =Data!A9 -> BMW G 650 XCountry (2009) | B18: =Data!Q9 -> 149.5 | C18: =Data!O9 -> 810 | D18: =Data!V10 -> 270 | E18: =SQRT(B18*C18) -> 347.98707
A19: =Data!A17 -> Honda CRF 250 L | B19: =Data!Q17 -> 140.8025 | C19: =Data!O17 -> 875 | D19: =Data!V19 -> 284 | E19: =SQRT(B19*C19) -> 351.00169
A20: =Data!A40 -> Suzuki DR-Z400S (USA 2020) | B20: =Data!Q40 -> 132 | C20: =Data!O40 -> 935 | D20: =Data!V41 -> 260 | E20: =SQRT(B20*C20) -> 351.31183
A21: =Data!A60 -> Zontes 310-T2 | B21: =Data!Q60 -> 149 | C21: =Data!O60 -> 840 | D21: =Data!V60 -> 180 | E21: =SQRT(B21*C21) -> 353.77959
A22: =Data!A20 -> Honda XRE 300 ABS | B22: =Data!Q20 -> 148 | C22: =Data!O20 -> 860 | D22: =Data!V26 -> 225 | E22: =SQRT(B22*C22) -> 356.76323
A23: =Data!A22 -> Honda NX4 Falcon | B23: =Data!Q22 -> 151 | C23: =Data!O22 -> 850 | D23: =Data!V24 -> 142.5 | E23: =SQRT(B23*C23) -> 358.25968
A24: =Data!A16 -> Fantic Caballero Rally 500 | B24: =Data!Q16 -> 150 | C24: =Data!O16 -> 860 | D24: =Data!V16 -> 200 | E24: =SQRT(B24*C24) -> 359.1657
A25: =Data!A8 -> BMW G 650 XCountry (2006) | B25: =Data!Q8 -> 149.5 | C25: =Data!O8 -> 865 | D25: =Data!V9 -> 187.5 | E25: =SQRT(B25*C25) -> 359.60742
A26: =Data!A42 -> SWM Six Days 440 | B26: =Data!Q42 -> 148 | C26: =Data!O42 -> 874 | D26: =Data!V44 -> 240 | E26: =SQRT(B26*C26) -> 359.65539
A27: =Data!A44 -> SWM RS 650 R | B27: =Data!Q44 -> 144 | C27: =Data!O44 -> 900 | D27: =Data!V43 -> 295.5 | E27: =SQRT(B27*C27) -> 360
A28: =Data!A41 -> Suzuki DR 650 S (USA 2019) | B28: =Data!Q41 -> 147 | C28: =Data!O41 -> 885 | D28: =Data!V40 -> 292 | E28: =SQRT(B28*C28) -> 360.68684
A29: =Data!A23 -> Honda NX 650 Dominator (RD02) | B29: =Data!Q23 -> 152 | C29: =Data!O23 -> 865 | D29: =Data!V23 -> 207.5 | E29: =SQRT(B29*C29) -> 362.60171
A30: =Data!A33 -> KTM 690 Enduro R | B30: =Data!Q33 -> 146 | C30: =Data!O33 -> 910 | D30: =Data!V32 -> 302.5 | E30: =SQRT(B30*C30) -> 364.49966
A31: =Data!A56 -> Yamaha XT 600 (2KF) | B31: =Data!Q56 -> 150.225 | C31: =Data!O56 -> 885 | D31: =Data!V56 -> 245 | E31: =SQRT(B31*C31) -> 364.62189
A32: =Data!A32 -> KTM 450 Rally | B32: =Data!Q32 -> 139 | C32: =Data!O32 -> 960 | D32: =Data!V31 -> 173.5 | E32: =SQRT(B32*C32) -> 365.2944
A33: =Data!A10 -> BMW G 650 XChallenge | B33: =Data!Q10 -> 144 | C33: =Data!O10 -> 930 | D33: =Data!V8 -> 225 | E33: =SQRT(B33*C33) -> 365.95082
A34: =Data!A18 -> Honda CRF 250 Rally | B34: =Data!Q18 -> 150.1825 | C34: =Data!O18 -> 895 | D34: =Data!V20 -> 235 | E34: =SQRT(B34*C34) -> 366.62425
A35: =Data!A31 -> KTM 390 Adventure | B35: =Data!Q31 -> 158 | C35: =Data!O31 -> 855 | D35: =Data!V30 -> 255 | E35: =SQRT(B35*C35) -> 367.54592
A36: =Data!A5 -> BMW G 310 GS | B36: =Data!Q5 -> 162.075 | C36: =Data!O5 -> 835 | D36: =Data!V5 -> 180 | E36: =SQRT(B36*C36) -> 367.87583
A37: =Data!A2 -> AJP PR7 Adventure 650 | B37: =Data!Q2 -> 148 | C37: =Data!O2 -> 920 | D37: =Data!V2 -> 290 | E37: =SQRT(B37*C37) -> 368.99865
A38: =Data!A6 -> BMW G 650 GS | B38: =Data!Q6 -> 176 | C38: =Data!O6 -> 780 | D38: =Data!V6 -> 167.5 | E38: =SQRT(B38*C38) -> 370.51316
A39: =Data!A29 -> Kawasaki Versys X-300 | B39: =Data!Q29 -> 163.525 | C39: =Data!O29 -> 845 | D39: =Data!V29 -> 139 | E39: =SQRT(B39*C39) -> 371.72386
A40: =Data!A57 -> Yamaha XT 660 R | B40: =Data!Q57 -> 165 | C40: =Data!O57 -> 865 | D40: =Data!V57 -> 212.5 | E40: =SQRT(B40*C40) -> 377.78962
A41: =Data!A27 -> Husqvarna 701 LR (2020) | B41: =Data!Q27 -> 155 | C41: =Data!O27 -> 925 | D41: =Data!V27 -> 250 | E41: =SQRT(B41*C41) -> 378.64891
A42: =Data!A24 -> Honda CB 500 X | B42: =Data!Q24 -> 178 | C42: =Data!O24 -> 830 | D42: =Data!V17 -> 245 | E42: =SQRT(B42*C42) -> 384.36961
A43: =Data!A38 -> Royal Enfield Himalayan (BS VI) | B43: =Data!Q38 -> 185 | C43: =Data!O38 -> 800 | D43: =Data!V38 -> 190 | E43: =SQRT(B43*C43) -> 384.70768
A44: =Data!A45 -> SWM Superdual X | B44: =Data!Q45 -> 169 | C44: =Data!O45 -> 890 | D44: =Data!V45 -> 215 | E44: =SQRT(B44*C44) -> 387.82728
A45: =Data!A25 -> Honda XL 600 V Transalp PD06 | B45: =Data!Q25 -> 183 | C45: =Data!O25 -> 850 | D45: =Data!V25 -> 195 | E45: =SQRT(B45*C45) -> 394.39828
A46: =Data!A7 -> BMW G 650 GS Sertao | B46: =Data!Q7 -> 182 | C46: =Data!O7 -> 860 | D46: =Data!V7 -> 210 | E46: =SQRT(B46*C46) -> 395.62609
A47: =Data!A34 -> KTM 790 Adventure S | B47: =Data!Q34 -> 189 | C47: =Data!O34 -> 850 | D47: =Data!V35 -> 240 | E47: =SQRT(B47*C47) -> 400.81168
A48: =Data!A58 -> Yamaha XT 660 Z Ténénré | B48: =Data!Q58 -> 183 | C48: =Data!O58 -> 896 | D48: =Data!V58 -> 205 | E48: =SQRT(B48*C48) -> 404.92962
A49: =Data!A15 -> Ducati Desert Sled | B49: =Data!Q15 -> 193 | C49: =Data!O15 -> 860 | D49: =Data!V15 -> 200 | E49: =SQRT(B49*C49) -> 407.40643
A50: =Data!A59 -> Yamaha XT 660 Z Ténéré ABS | B50: =Data!Q59 -> 192 | C50: =Data!O59 -> 865 | D50: =Data!V59 -> 152.5 | E50: =SQRT(B50*C50) -> 407.52914
A51: =Data!A35 -> KTM 790 Adventure R | B51: =Data!Q35 -> 189 | C51: =Data!O35 -> 880 | D51: =Data!V33 -> 250 | E51: =SQRT(B51*C51) -> 407.82349
A52: =Data!A46 -> Triumph Tiger 900 Rally | B52: =Data!Q46 -> 196 | C52: =Data!O46 -> 850 | D52: =Data!V47 -> 250 | E52: =SQRT(B52*C52) -> 408.16663
A53: =Data!A49 -> Yamaha Ténéré 700 | B53: =Data!Q49 -> 193.2 | C53: =Data!O49 -> 875 | D53: =Data!V49 -> 205 | E53: =SQRT(B53*C53) -> 411.1569
A54: =Data!A36 -> KTM 790 Adventure R Rallye | B54: =Data!Q36 -> 189 | C54: =Data!O36 -> 910 | D54: =Data!V34 -> 200 | E54: =SQRT(B54*C54) -> 414.71677
A55: =Data!A11 -> BMW R 1200 GS Rallye (2012) | B55: =Data!Q11 -> 203 | C55: =Data!O11 -> 850 | D55: =Data!V11 -> 195 | E55: =SQRT(B55*C55) -> 415.39138
A56: =Data!A37 -> KTM 950 Adventure S | B56: =Data!Q37 -> 198 | C56: =Data!O37 -> 880 | D56: =Data!V36 -> 270 | E56: =SQRT(B56*C56) -> 417.42065
A57: =Data!A47 -> Triumph Scrambler 1200 XE | B57: =Data!Q47 -> 207 | C57: =Data!O47 -> 870 | D57: =Data!V46 -> 235 | E57: =SQRT(B57*C57) -> 424.37012
A58: =Data!A26 -> Honda CRF 1100 Africa Twin | B58: =Data!Q26 -> 213.31 | C58: =Data!O26 -> 850 | D58: =Data!V18 -> 257.5 | E58: =SQRT(B58*C58) -> 425.80923
A59: =Data!A12 -> BMW R 1250 GS | B59: =Data!Q12 -> 235.5 | C59: =Data!O12 -> 850 | D59: =Data!V12 -> 195 | E59: =SQRT(B59*C59) -> 447.40921
A60: =Data!A13 -> BMW R 1250 GS Adventure | B60: =Data!Q13 -> 247.75 | C60: =Data!O13 -> 890 | D60: =Data!V13 -> 215 | E60: =SQRT(B60*C60) -> 469.57161
