Workbook

Sheet Introduction
A1: What I did: I created a spreadsheet containing data of nearly 50 so-called "adventure bikes", starting from the legendary Yamaha XT 500 up to current premium bikes as the BMW R 1250 GS (currently the most sold bike in Germany) and the exotic race bike KTM 450 Rally. For my comparison I had do define criterias and to create kind of a metrics. What qualities does a ADV bike require? - reliability and robustness - all the bikes in the list are supposed to be reliable and robust - sufficient engine power - low weight - sufficient load capacity - sufficient suspension travel - low fuel consumption (values were taken from www.spritmonitor.de, if available) - high fuel mileage - a good price-performance-ratio
A2: How I did it: I gave 0 to 100 points, depending on performance in each quality. 100 points for the bike with - highest power, load capacity, suspension travel, fuel mileage - lowest weight and fuel consumption 0 points for - 0 horse powers, 0 load capacity, 0 suspension travel and fuel mileage - highest weight and fuel consumption Then I calculated a linear relation for each quality, excerpt the engine power. As twice the power does not mean twice the performance, I used a quadratic ratio, means four times the power would give twice the points. Finally, I had to come to a result: As a chain is a strong as its weakest link, I think the performance of a bike can't better than its poorest quality. So I did not simply add the points, as most of the know comparisons do. I multiplied the points of each quality of the respective bike and calculated the root from the products. As engine power is more important on road, but less important off-road, I calculated with and without taking account of the engine power. And then I divided the original price (in Germany) by the points to get the price-performance-ratio.

Sheet Data
A1: Model | B1: Datasheet | C1: Engine displacement [ccm] | D1: Engine power [bhp] | E1: Engine Power [kW] | F1: at rpm | G1: Max. Torque [Nm] | H1: at rpm | I1: Specif. Power [kW/litre] | J1: Specif. Torque [Nm/litre] | K1: Torque Elasticity | L1: RPM Elasticity | M1: Engine Elasticity | N1: Avg. working pressure [bar] | O1: Seat Height, unloaded [mm] | P1: Seat Height, loaded [mm] | Q1: Dry weight [kg] | R1: Curb weight [kg] | S1: Load capacity [kg] | T1: Suspension travel front [mm] | U1: Suspension travel rear [mm] | V1: Avg. suspension travel [mm] | W1: Ground Clearance [mm] | X1: Tank capacity [liters] | Y1: Economy - Fuel consumption [l/100 km] | Z1: Mileage [km/tank] | AA1: Price in Germany [Euros] | AC1: Model
A2: AJP PR7 Adventure 650 | B2: https://www.motorradonline.de/enduro/ajp-pr7-2018-exotische-allround-enduro-mit-swm-motor | C2: 600 | D2: 28 | E2: =D2/1.36 -> 20.588235 | F2: 7000 | G2: 29 | H2: 6000 | I2: =E2/C2*1000 -> 34.313725 | J2: =G2/C2*1000 -> 48.333333 | K2: =(G2/(E2/F2*9550)) -> 1.0324607 | L2: =F2/H2 -> 1.1666667 | M2: =K2*L2 -> 1.2045375 | N2: =125.7*G2/C2 -> 6.0755 | O2: 920 | P2: =O2-U2/3 -> 826.66667 | Q2: 148 | R2: 165 | S2: 165 | T2: 300 | U2: 280 | V2: =(T2+U2)/2 -> 290 | W2: 310 | X2: 17 | Y2: 4.5 | Z2: =X2/Y2*100 -> 377.77778 | AA2: 10790 | AC2: =A2 -> AJP PR7 Adventure 650
A3: AKT TT 250 Adventour / CSC RX3 Adventure / Zongshen RX3 | B3: https://www.zongshenmotos.cl/wp-content/uploads/2019/03/rx3-2.pdf | C3: 250 | D3: 24.8 | E3: =D3/1.36 -> 18.235294 | F3: 9000 | G3: 22.5 | H3: 7000 | I3: =E3/C3*1000 -> 72.941176 | J3: =G3/C3*1000 -> 90 | K3: =(G3/(E3/F3*9550)) -> 1.1628103 | L3: =F3/H3 -> 1.2857143 | M3: =K3*L3 -> 1.4950419 | N3: =125.7*G3/C3 -> 11.313 | O3: 800 | P3: =O3-U3/3 -> 752.66667 | Q3: 150 | R3: 175 | S3: 165 | T3: 130 | U3: 142 | V3: =(T3+U3)/2 -> 136 | W3: 205 | X3: 16 | Y3: 4 | Z3: =X3/Y3*100 -> 400 | AA3: 2880 | AB3: (10590000 COP in 2020) | AC3: =A3 -> AKT TT 250 Adventour / CSC RX3 Adventure / Zongshen RX3
A4: Beta Alp 4.0 | B4: https://www.betamotor.com/de/moto/alp-4-0 | C4: 349 | D4: 27 | E4: =D4/1.36 -> 19.852941 | F4: 7000 | G4: 28 | H4: 6250 | I4: =E4/C4*1000 -> 56.885218 | J4: =G4/C4*1000 -> 80.229226 | K4: =(G4/(E4/F4*9550)) -> 1.0337793 | L4: =F4/H4 -> 1.12 | M4: =K4*L4 -> 1.1578328 | N4: =125.7*G4/C4 -> 10.084814 | O4: 863 | P4: =O4-U4/3 -> 789.66667 | Q4: 133 | R4: 145 | S4: 165 | T4: 220 | U4: 220 | V4: =(T4+U4)/2 -> 220 | W4: 275 | X4: 10.5 | Y4: 4.7 | Z4: =X4/Y4*100 -> 223.40426 | AA4: 5900 | AC4: =A4 -> Beta Alp 4.0
A5: BMW G 310 GS | B5: =HYPERLINK("https://www.bmw-motorrad.de/de/models/adventure/g310gs.html","https://www.bmw-motorrad.de/de/models/adventure/g310gs.html") -> https://www.bmw-motorrad.de/de/models/adventure/g310gs.html | C5: 313 | D5: 34 | E5: =D5/1.36 -> 25 | F5: 9500 | G5: 28 | H5: 7500 | I5: =E5/C5*1000 -> 79.872204 | J5: =G5/C5*1000 -> 89.456869 | K5: =(G5/(E5/F5*9550)) -> 1.1141361 | L5: =F5/H5 -> 1.2666667 | M5: =K5*L5 -> 1.4112391 | N5: =125.7*G5/C5 -> 11.244728 | O5: 835 | P5: =O5-U5/3 -> 775 | Q5: =R5-0.9*0.75*X5 -> 162.075 | R5: 169.5 | S5: 175.5 | T5: 180 | U5: 180 | V5: =(T5+U5)/2 -> 180 | X5: 11 | Y5: 3.5 | Z5: =X5/Y5*100 -> 314.28571 | AA5: 6050 | AC5: =A5 -> BMW G 310 GS
A6: BMW G 650 GS | B6: https://de.wikipedia.org/wiki/BMW_G_650_GS | C6: 652 | D6: 48 | E6: =D6/1.36 -> 35.294118 | F6: 6500 | G6: 60 | H6: 5000 | I6: =E6/C6*1000 -> 54.132082 | J6: =G6/C6*1000 -> 92.02454 | K6: =(G6/(E6/F6*9550)) -> 1.1570681 | L6: =F6/H6 -> 1.3 | M6: =K6*L6 -> 1.5041885 | N6: =125.7*G6/C6 -> 11.567485 | O6: 780 | P6: =O6-U6/3 -> 725 | Q6: 176 | R6: 192 | S6: 188 | T6: 170 | U6: 165 | V6: =(T6+U6)/2 -> 167.5 | X6: 14 | Y6: 3.8 | Z6: =X6/Y6*100 -> 368.42105 | AA6: 7400 | AB6: (price in 2016) | AC6: =A6 -> BMW G 650 GS
A7: BMW G 650 GS Sertao | B7: https://www.motorradonline.de/enduro/vergleichstest-einzylinder-reiseenduros-bmw-g-650-gs-und-yamaha-xt-660-z-tenere | C7: 652 | D7: 48 | E7: =D7/1.36 -> 35.294118 | F7: 6500 | G7: 60 | H7: 5000 | I7: =E7/C7*1000 -> 54.132082 | J7: =G7/C7*1000 -> 92.02454 | K7: =(G7/(E7/F7*9550)) -> 1.1570681 | L7: =F7/H7 -> 1.3 | M7: =K7*L7 -> 1.5041885 | N7: =125.7*G7/C7 -> 11.567485 | O7: 860 | P7: =O7-U7/3 -> 790 | Q7: 182 | R7: 198 | S7: 182 | T7: 210 | U7: 210 | V7: =(T7+U7)/2 -> 210 | X7: 14 | Y7: 3.8 | Z7: =X7/Y7*100 -> 368.42105 | AA7: 8050 | AB7: (price in 2014) | AC7: =A7 -> BMW G 650 GS Sertao
A8: BMW G 650 XCountry (2006) | B8: https://de.wikipedia.org/wiki/BMW_G_650_X | C8: 652 | D8: 53 | E8: =D8/1.36 -> 38.970588 | F8: 7000 | G8: 60 | H8: 5250 | I8: =E8/C8*1000 -> 59.770841 | J8: =G8/C8*1000 -> 92.02454 | K8: =(G8/(E8/F8*9550)) -> 1.1285192 | L8: =F8/H8 -> 1.3333333 | M8: =K8*L8 -> 1.5046923 | N8: =125.7*G8/C8 -> 11.567485 | O8: 865 | P8: =O8-U8/3 -> 795 | Q8: 149.5 | R8: 160 | S8: 175 | T8: 240 | U8: 210 | V8: =(T8+U8)/2 -> 225 | X8: 9.5 | Y8: 4.1 | Z8: =X8/Y8*100 -> 231.70732 | AA8: 6900 | AB8: (price in 2006) | AC8: =A8 -> BMW G 650 XCountry (2006)
A9: BMW G 650 XCountry (2009) | B9: https://de.wikipedia.org/wiki/BMW_G_650_X | C9: 652 | D9: 53 | E9: =D9/1.36 -> 38.970588 | F9: 7000 | G9: 60 | H9: 5250 | I9: =E9/C9*1000 -> 59.770841 | J9: =G9/C9*1000 -> 92.02454 | K9: =(G9/(E9/F9*9550)) -> 1.1285192 | L9: =F9/H9 -> 1.3333333 | M9: =K9*L9 -> 1.5046923 | N9: =125.7*G9/C9 -> 11.567485 | O9: 810 | P9: =O9-U9/3 -> 755 | Q9: 149.5 | R9: 160 | S9: 175 | T9: 210 | U9: 165 | V9: =(T9+U9)/2 -> 187.5 | X9: 9.5 | Y9: 4.1 | Z9: =X9/Y9*100 -> 231.70732 | AA9: 6900 | AB9: (price in 2008) | AC9: =A9 -> BMW G 650 XCountry (2009)
A10: BMW G 650 XChallenge | B10: https://de.wikipedia.org/wiki/BMW_G_650_X | C10: 652 | D10: 53 | E10: =D10/1.36 -> 38.970588 | F10: 7000 | G10: 60 | H10: 5250 | I10: =E10/C10*1000 -> 59.770841 | J10: =G10/C10*1000 -> 92.02454 | K10: =(G10/(E10/F10*9550)) -> 1.1285192 | L10: =F10/H10 -> 1.3333333 | M10: =K10*L10 -> 1.5046923 | N10: =125.7*G10/C10 -> 11.567485 | O10: 930 | P10: =O10-U10/3 -> 840 | Q10: 144 | R10: 156 | S10: 179 | T10: 270 | U10: 270 | V10: =(T10+U10)/2 -> 270 | W10: 290 | X10: 9.5 | Y10: 4.2 | Z10: =X10/Y10*100 -> 226.19048 | AA10: 8200 | AB10: (price in 2008) | AC10: =A10 -> BMW G 650 XChallenge
A11: BMW R 1200 GS Rallye (2012) | B11: =HYPERLINK("http://www.unterwegens.de/2012-bmw-r-1200-gs-rallye-bayer-im-dakar-look_9221.html","http://www.unterwegens.de/2012-bmw-r-1200-gs-rallye-bayer-im-dakar-look_9221.html") -> http://www.unterwegens.de/2012-bmw-r-1200-gs-rallye-bayer-im-dakar-look_9221.html | C11: 1170 | D11: 110 | E11: =D11/1.36 -> 80.882353 | F11: 7750 | G11: 120 | H11: 6000 | I11: =E11/C11*1000 -> 69.130216 | J11: =G11/C11*1000 -> 102.5641 | K11: =(G11/(E11/F11*9550)) -> 1.2039981 | L11: =F11/H11 -> 1.2916667 | M11: =K11*L11 -> 1.5551642 | N11: =125.7*G11/C11 -> 12.892308 | O11: 850 | P11: =O11-U11/3 -> 783.33333 | Q11: 203 | R11: 229 | S11: 211 | T11: 190 | U11: 200 | V11: =(T11+U11)/2 -> 195 | X11: 20 | Y11: 5.3 | Z11: =X11/Y11*100 -> 377.35849 | AA11: 14950 | AB11: (price in 2012) | AC11: =A11 -> BMW R 1200 GS Rallye (2012)
A12: BMW R 1250 GS | B12: https://www.bmw-motorrad.de/de/models/adventure/r1250gs.html | C12: 1254 | D12: 136 | E12: =D12/1.36 -> 100 | F12: 7750 | G12: 143 | H12: 6250 | I12: =E12/C12*1000 -> 79.744817 | J12: =G12/C12*1000 -> 114.03509 | K12: =(G12/(E12/F12*9550)) -> 1.1604712 | L12: =F12/H12 -> 1.24 | M12: =K12*L12 -> 1.4389843 | N12: =125.7*G12/C12 -> 14.334211 | O12: 850 | P12: =O12-U12/3 -> 783.33333 | Q12: =R12-0.9*0.75*X12 -> 235.5 | R12: 249 | S12: 216 | T12: 190 | U12: 200 | V12: =(T12+U12)/2 -> 195 | X12: 20 | Y12: 5.5 | Z12: =X12/Y12*100 -> 363.63636 | AA12: 16450 | AC12: =A12 -> BMW R 1250 GS
A13: BMW R 1250 GS Adventure | B13: https://www.bmw-motorrad.de/de/models/adventure/r1250gsadventure.html | C13: 1254 | D13: 136 | E13: =D13/1.36 -> 100 | F13: 7750 | G13: 143 | H13: 6250 | I13: =E13/C13*1000 -> 79.744817 | J13: =G13/C13*1000 -> 114.03509 | K13: =(G13/(E13/F13*9550)) -> 1.1604712 | L13: =F13/H13 -> 1.24 | M13: =K13*L13 -> 1.4389843 | N13: =125.7*G13/C13 -> 14.334211 | O13: 890 | P13: =O13-U13/3 -> 816.66667 | Q13: =R13-0.9*0.75*X13 -> 247.75 | R13: 268 | S13: 217 | T13: 210 | U13: 220 | V13: =(T13+U13)/2 -> 215 | X13: 30 | Y13: 5.5 | Z13: =X13/Y13*100 -> 545.45455 | AA13: 18000 | AC13: =A13 -> BMW R 1250 GS Adventure
A14: CCM GP 450 Adventure | B14: https://www.ccm-motorcycles.com/bikes/gp450-adventure | C14: 450 | D14: 40.23 | E14: =D14/1.36 -> 29.580882 | F14: 7500 | G14: 42.8 | H14: 6500 | I14: =E14/C14*1000 -> 65.735294 | J14: =G14/C14*1000 -> 95.111111 | K14: =(G14/(E14/F14*9550)) -> 1.1362935 | L14: =F14/H14 -> 1.1538462 | M14: =K14*L14 -> 1.3111079 | N14: =125.7*G14/C14 -> 11.955467 | O14: 890 | P14: =O14-U14/3 -> 801.66667 | Q14: 125 | R14: 145 | S14: 155 | T14: 265 | U14: 265 | V14: =(T14+U14)/2 -> 265 | W14: 360 | X14: 20 | Y14: 4.5 | Z14: =X14/Y14*100 -> 444.44444 | AA14: 9900 | AB14: (price in 2016) | AC14: =A14 -> CCM GP 450 Adventure
A15: Ducati Desert Sled | B15: https://scramblerducati.com/de/bike/desertsled | C15: 803 | D15: 73 | E15: =D15/1.36 -> 53.676471 | F15: 8250 | G15: 67 | H15: 5750 | I15: =E15/C15*1000 -> 66.84492 | J15: =G15/C15*1000 -> 83.437111 | K15: =(G15/(E15/F15*9550)) -> 1.0783045 | L15: =F15/H15 -> 1.4347826 | M15: =K15*L15 -> 1.5471326 | N15: =125.7*G15/C15 -> 10.488045 | O15: 860 | P15: =O15-U15/3 -> 793.33333 | Q15: 193 | R15: 209 | S15: 160 | T15: 200 | U15: 200 | V15: =(T15+U15)/2 -> 200 | X15: 13.5 | Y15: 4.7 | Z15: =X15/Y15*100 -> 287.23404 | AA15: 12095 | AC15: =A15 -> Ducati Desert Sled
A16: Fantic Caballero Rally 500 | B16: http://www.caballerofantic.com/en/rally/rally-500 | C16: 449 | D16: 40 | E16: =D16/1.36 -> 29.411765 | F16: 7500 | G16: 43 | H16: 6000 | I16: =E16/C16*1000 -> 65.505044 | J16: =G16/C16*1000 -> 95.768374 | K16: =(G16/(E16/F16*9550)) -> 1.1481675 | L16: =F16/H16 -> 1.25 | M16: =K16*L16 -> 1.4352094 | N16: =125.7*G16/C16 -> 12.038085 | O16: 860 | P16: =O16-U16/3 -> 793.33333 | Q16: 150 | R16: 160 | S16: 160 | T16: 200 | U16: 200 | V16: =(T16+U16)/2 -> 200 | W16: 290 | X16: 12 | Y16: 3.5 | Z16: =X16/Y16*100 -> 342.85714 | AA16: 7190 | AC16: =A16 -> Fantic Caballero Rally 500
A17: Honda CRF 250 L | B17: https://www.honda.de/motorcycles/range/adventure/crf250l/specifications-and-price.html | C17: 250 | D17: 25 | E17: =D17/1.36 -> 18.382353 | F17: 8500 | G17: 22.6 | H17: 6750 | I17: =E17/C17*1000 -> 73.529412 | J17: =G17/C17*1000 -> 90.4 | K17: =(G17/(E17/F17*9550)) -> 1.094266 | L17: =F17/H17 -> 1.2592593 | M17: =K17*L17 -> 1.3779646 | N17: =125.7*G17/C17 -> 11.36328 | O17: 875 | P17: =O17-U17/3 -> 795 | Q17: =R17-0.9*0.75*X17 -> 140.8025 | R17: 146 | S17: 159 | T17: 250 | U17: 240 | V17: =(T17+U17)/2 -> 245 | X17: 7.7 | Y17: 3.25 | Z17: =X17/Y17*100 -> 236.92308 | AA17: 5600 | AC17: =A17 -> Honda CRF 250 L
A18: Honda CRF 250 Rally | B18: https://www.honda.de/motorcycles/range/coming-soon-2017/crf250l-and-crf250rally/rally-specifications.html | C18: 250 | D18: 25 | E18: =D18/1.36 -> 18.382353 | F18: 8500 | G18: 22.6 | H18: 6750 | I18: =E18/C18*1000 -> 73.529412 | J18: =G18/C18*1000 -> 90.4 | K18: =(G18/(E18/F18*9550)) -> 1.094266 | L18: =F18/H18 -> 1.2592593 | M18: =K18*L18 -> 1.3779646 | N18: =125.7*G18/C18 -> 11.36328 | O18: 895 | P18: =O18-U18/3 -> 806.66667 | Q18: =R18-0.9*0.75*X18 -> 150.1825 | R18: 157 | S18: 159 | T18: 250 | U18: 265 | V18: =(T18+U18)/2 -> 257.5 | W18: 270 | X18: 10.1 | Y18: 3.25 | Z18: =X18/Y18*100 -> 310.76923 | AA18: 6500 | AC18: =A18 -> Honda CRF 250 Rally
A19: Honda CRF 450 L | B19: https://www.honda.de/motorcycles/range/adventure/crf450l/specifications.html | C19: 449 | D19: 25 | E19: =D19/1.36 -> 18.382353 | F19: 7500 | G19: 32 | H19: 3500 | I19: =E19/C19*1000 -> 40.940652 | J19: =G19/C19*1000 -> 71.269488 | K19: =(G19/(E19/F19*9550)) -> 1.3671204 | L19: =F19/H19 -> 2.1428571 | M19: =K19*L19 -> 2.9295438 | N19: =125.7*G19/C19 -> 8.9585746 | O19: 940 | P19: =O19-U19/3 -> 840 | Q19: =R19-0.9*0.75*X19 -> 125.87 | R19: 131 | S19: 100 | T19: 268 | U19: 300 | V19: =(T19+U19)/2 -> 284 | W19: 315 | X19: 7.6 | Y19: 4.2 | Z19: =X19/Y19*100 -> 180.95238 | AA19: 10690 | AC19: =A19 -> Honda CRF 450 L
A20: Honda XRE 300 ABS | B20: https://www.honda.com.br/motos/xre-300 | C20: 291.6 | D20: 25.4 | E20: =D20/1.36 -> 18.676471 | F20: 7500 | G20: 28 | H20: 6000 | I20: =E20/C20*1000 -> 64.048253 | J20: =G20/C20*1000 -> 96.021948 | K20: =(G20/(E20/F20*9550)) -> 1.1773921 | L20: =F20/H20 -> 1.25 | M20: =K20*L20 -> 1.4717401 | N20: =125.7*G20/C20 -> 12.069959 | O20: 860 | P20: =O20-U20/3 -> 785 | Q20: 148 | R20: 159 | S20: 155 | T20: 245 | U20: 225 | V20: =(T20+U20)/2 -> 235 | W20: 259 | X20: 13.6 | Y20: 3.5 | Z20: =X20/Y20*100 -> 388.57143 | AA20: 4600 | AB20: (USD 5000) | AC20: =A20 -> Honda XRE 300 ABS
A21: Honda NX 250 Dominator (MD21) | B21: https://www.nx250.de/typenkunde.html | C21: 249 | D21: 26 | E21: =D21/1.36 -> 19.117647 | F21: 8500 | G21: 23 | H21: 7000 | I21: =E21/C21*1000 -> 76.777699 | J21: =G21/C21*1000 -> 92.369478 | K21: =(G21/(E21/F21*9550)) -> 1.0708015 | L21: =F21/H21 -> 1.2142857 | M21: =K21*L21 -> 1.3002589 | N21: =125.7*G21/C21 -> 11.610843 | O21: 820 | P21: =O21-U21/3 -> 753.33333 | Q21: 118 | R21: 133 | S21: 180 | T21: 220 | U21: 200 | V21: =(T21+U21)/2 -> 210 | W21: 250 | X21: 9 | Y21: 3.4 | Z21: =X21/Y21*100 -> 264.70588 | AC21: =A21 -> Honda NX 250 Dominator (MD21)
A22: Honda NX4 Falcon | B22: https://web.archive.org/web/20150504023123/http://www.honda.mx/motos/falcon/# | C22: 398 | D22: 30.6 | E22: =D22/1.36 -> 22.5 | F22: 6500 | G22: 34.4 | H22: 6000 | I22: =E22/C22*1000 -> 56.532663 | J22: =G22/C22*1000 -> 86.432161 | K22: =(G22/(E22/F22*9550)) -> 1.040605 | L22: =F22/H22 -> 1.0833333 | M22: =K22*L22 -> 1.1273221 | N22: =125.7*G22/C22 -> 10.864523 | O22: 850 | P22: =O22-U22/3 -> 785 | Q22: 151 | R22: 168 | S22: 155 | T22: 220 | U22: 195 | V22: =(T22+U22)/2 -> 207.5 | W22: 245 | X22: 15 | Y22: 3.5 | Z22: =X22/Y22*100 -> 428.57143 | AA22: 4600 | AB22: (around USD 5000) | AC22: =A22 -> Honda NX4 Falcon
A23: Honda NX 650 Dominator (RD02) | B23: https://de.wikipedia.org/wiki/Honda_NX_650_Dominator | C23: 644 | D23: 44 | E23: =D23/1.36 -> 32.352941 | F23: 6000 | G23: 53 | H23: 5500 | I23: =E23/C23*1000 -> 50.237486 | J23: =G23/C23*1000 -> 82.298137 | K23: =(G23/(E23/F23*9550)) -> 1.0292242 | L23: =F23/H23 -> 1.0909091 | M23: =K23*L23 -> 1.12279 | N23: =125.7*G23/C23 -> 10.344876 | O23: 865 | P23: =O23-U23/3 -> 800 | Q23: 152 | R23: 168 | S23: 177 | T23: 220 | U23: 195 | V23: =(T23+U23)/2 -> 207.5 | W23: 255 | X23: 13 | Y23: 5.3 | Z23: =X23/Y23*100 -> 245.28302 | AC23: =A23 -> Honda NX 650 Dominator (RD02)
A24: Honda CB 500 X | B24: https://www.honda.de/motorcycles/range/adventure/cb500x/specifications.html | C24: 471 | D24: 48 | E24: =D24/1.36 -> 35.294118 | F24: 8600 | G24: 43 | H24: 6500 | I24: =E24/C24*1000 -> 74.934432 | J24: =G24/C24*1000 -> 91.295117 | K24: =(G24/(E24/F24*9550)) -> 1.0971379 | L24: =F24/H24 -> 1.3230769 | M24: =K24*L24 -> 1.4515978 | N24: =125.7*G24/C24 -> 11.475796 | O24: 830 | P24: =O24-U24/3 -> 780 | Q24: 178 | R24: 197 | S24: 185 | T24: 135 | U24: 150 | V24: =(T24+U24)/2 -> 142.5 | W24: 180 | X24: 17.7 | Y24: 3.4 | Z24: =X24/Y24*100 -> 520.58824 | AA24: 6990 | AC24: =A24 -> Honda CB 500 X
A25: Honda XL 600 V Transalp PD06 | B25: https://de.wikipedia.org/wiki/Honda_Transalp | C25: 583 | D25: 50 | E25: =D25/1.36 -> 36.764706 | F25: 8000 | G25: 51 | H25: 6000 | I25: =E25/C25*1000 -> 63.061245 | J25: =G25/C25*1000 -> 87.478559 | K25: =(G25/(E25/F25*9550)) -> 1.1620524 | L25: =F25/H25 -> 1.3333333 | M25: =K25*L25 -> 1.5494031 | N25: =125.7*G25/C25 -> 10.996055 | O25: 850 | P25: =O25-U25/3 -> 786.66667 | Q25: 183 | R25: 202 | S25: 180 | T25: 200 | U25: 190 | V25: =(T25+U25)/2 -> 195 | W25: 195 | X25: 18 | Y25: 5.2 | Z25: =X25/Y25*100 -> 346.15385 | AC25: =A25 -> Honda XL 600 V Transalp PD06
A26: Honda CRF 1100 Africa Twin | B26: https://www.honda.de/motorcycles/range/adventure/crf1100l-africa-twin/specifications-and-price.html | C26: 1084 | D26: 102 | E26: =D26/1.36 -> 75 | F26: 7500 | G26: 105 | H26: 6250 | I26: =E26/C26*1000 -> 69.188192 | J26: =G26/C26*1000 -> 96.863469 | K26: =(G26/(E26/F26*9550)) -> 1.0994764 | L26: =F26/H26 -> 1.2 | M26: =K26*L26 -> 1.3193717 | N26: =125.7*G26/C26 -> 12.175738 | O26: 850 | P26: =O26-U26/3 -> 776.66667 | Q26: =R26-0.9*0.75*X26 -> 213.31 | R26: 226 | S26: 220 | T26: 230 | U26: 220 | V26: =(T26+U26)/2 -> 225 | X26: 18.8 | Y26: 4.9 | Z26: =X26/Y26*100 -> 383.67347 | AA26: 14450 | AC26: =A26 -> Honda CRF 1100 Africa Twin
A27: Husqvarna 701 LR (2020) | B27: https://www.husqvarna-motorcycles.com/at/enduro/701-enduro-lr | C27: 693 | D27: 75 | E27: =D27/1.36 -> 55.147059 | F27: 8000 | G27: 73.5 | H27: 6500 | I27: =E27/C27*1000 -> 79.577285 | J27: =G27/C27*1000 -> 106.06061 | K27: =(G27/(E27/F27*9550)) -> 1.1164817 | L27: =F27/H27 -> 1.2307692 | M27: =K27*L27 -> 1.3741313 | N27: =125.7*G27/C27 -> 13.331818 | O27: 925 | P27: =O27-U27/3 -> 841.66667 | Q27: 155 | R27: 170 | S27: 195 | T27: 250 | U27: 250 | V27: =(T27+U27)/2 -> 250 | W27: 270 | X27: 25 | Y27: 4.5 | Z27: =X27/Y27*100 -> 555.55556 | AA27: 11395 | AC27: =A27 -> Husqvarna 701 LR (2020)
A28: Kawasaki KLX 250 | B28: https://www.1000ps.de/testbericht-2342465-kawasaki-klx-250-test | C28: 249 | D28: 22 | E28: =D28/1.36 -> 16.176471 | F28: 7500 | G28: 20.5 | H28: 7000 | I28: =E28/C28*1000 -> 64.965745 | J28: =G28/C28*1000 -> 82.329317 | K28: =(G28/(E28/F28*9550)) -> 0.99524036 | L28: =F28/H28 -> 1.0714286 | M28: =K28*L28 -> 1.066329 | N28: =125.7*G28/C28 -> 10.348795 | O28: 890 | P28: =O28-U28/3 -> 813.33333 | Q28: =R28-0.9*0.75*X28 -> 132.8025 | R28: 138 | S28: 181 | T28: 255 | U28: 230 | V28: =(T28+U28)/2 -> 242.5 | X28: 7.7 | Y28: 3.4 | Z28: =X28/Y28*100 -> 226.47059 | AA28: 5000 | AB28: (Price in 2009) | AC28: =A28 -> Kawasaki KLX 250
A29: Kawasaki Versys X-300 | B29: https://www.kawasaki.de/de/products/Dual_Purpose/2018/Versys-X_300/specifications?Uid=08B4XApZUV9aWVAOXl0KXA1dCQlRWVlYCQsKDVFYXQoNW1k | C29: 296 | D29: 40 | E29: =D29/1.36 -> 29.411765 | F29: 11500 | G29: 25.7 | H29: 10000 | I29: =E29/C29*1000 -> 99.36407 | J29: =G29/C29*1000 -> 86.824324 | K29: =(G29/(E29/F29*9550)) -> 1.0522199 | L29: =F29/H29 -> 1.15 | M29: =K29*L29 -> 1.2100529 | N29: =125.7*G29/C29 -> 10.913818 | O29: 845 | P29: =O29-U29/3 -> 795.66667 | Q29: =R29-0.9*0.75*X29 -> 163.525 | R29: 175 | S29: 170 | T29: 130 | U29: 148 | V29: =(T29+U29)/2 -> 139 | W29: 180 | X29: 17 | Y29: 3.9 | Z29: =X29/Y29*100 -> 435.89744 | AA29: 5795 | AC29: =A29 -> Kawasaki Versys X-300
A30: KTM Freeride 250 F | B30: https://www.ktm.com/de/freeride/freeride-250-f | C30: 250 | D30: 20.5 | E30: =D30/1.36 -> 15.073529 | F30: 8500 | G30: 18 | H30: 6900 | I30: =E30/C30*1000 -> 60.294118 | J30: =G30/C30*1000 -> 72 | K30: =(G30/(E30/F30*9550)) -> 1.0628528 | L30: =F30/H30 -> 1.2318841 | M30: =K30*L30 -> 1.3093114 | N30: =125.7*G30/C30 -> 9.0504 | O30: 915 | P30: =O30-U30/3 -> 828.33333 | Q30: 98.5 | R30: 103 | S30: 100 | T30: 250 | U30: 260 | V30: =(T30+U30)/2 -> 255 | W30: 325 | X30: 5.5 | Y30: 3.5 | Z30: =X30/Y30*100 -> 157.14286 | AA30: 8098 | AC30: =A30 -> KTM Freeride 250 F
A31: KTM 390 Adventure | B31: https://www.ktm.com/de/travel/390-adventure | C31: 373 | D31: 44 | E31: =D31/1.36 -> 32.352941 | F31: 9000 | G31: 37 | H31: 7000 | I31: =E31/C31*1000 -> 86.737108 | J31: =G31/C31*1000 -> 99.19571 | K31: =(G31/(E31/F31*9550)) -> 1.0777725 | L31: =F31/H31 -> 1.2857143 | M31: =K31*L31 -> 1.3857075 | N31: =125.7*G31/C31 -> 12.468901 | O31: 855 | P31: =O31-U31/3 -> 796 | Q31: 158 | R31: 172 | S31: 203 | T31: 170 | U31: 177 | V31: =(T31+U31)/2 -> 173.5 | W31: 220 | X31: 14.5 | Y31: 3.5 | Z31: =X31/Y31*100 -> 414.28571 | AA31: 6195 | AC31: =A31 -> KTM 390 Adventure
A32: KTM 450 Rally | B32: https://www.ktm.com/at/travel/450-rally | C32: 449 | D32: 70 | E32: =D32/1.36 -> 51.470588 | I32: =E32/C32*1000 -> 114.63383 | J32: =G32/C32*1000 -> 0 | O32: 960 | P32: =O32-U32/3 -> 860 | Q32: 139 | R32: 175 | S32: 120 | T32: 305 | U32: 300 | V32: =(T32+U32)/2 -> 302.5 | W32: 355 | X32: 35 | Y32: 5 | Z32: =X32/Y32*100 -> 700 | AA32: 30940 | AC32: =A32 -> KTM 450 Rally
A33: KTM 690 Enduro R | B33: https://www.ktm.com/de/travel/690-enduro-r | C33: 693 | D33: 75 | E33: =D33/1.36 -> 55.147059 | F33: 8000 | G33: 73.5 | H33: 6500 | I33: =E33/C33*1000 -> 79.577285 | J33: =G33/C33*1000 -> 106.06061 | K33: =(G33/(E33/F33*9550)) -> 1.1164817 | L33: =F33/H33 -> 1.2307692 | M33: =K33*L33 -> 1.3741313 | N33: =125.7*G33/C33 -> 13.331818 | O33: 910 | P33: =O33-U33/3 -> 826.66667 | Q33: 146 | R33: 160 | S33: 195 | T33: 250 | U33: 250 | V33: =(T33+U33)/2 -> 250 | W33: 270 | X33: 13.5 | Y33: 4.2 | Z33: =X33/Y33*100 -> 321.42857 | AA33: 10800 | AC33: =A33 -> KTM 690 Enduro R
A34: KTM 790 Adventure S | B34: https://www.ktm.com/de/travel/790-adventure | C34: 799 | D34: 95 | E34: =D34/1.36 -> 69.852941 | F34: 8000 | G34: 88 | H34: 6600 | I34: =E34/C34*1000 -> 87.425458 | J34: =G34/C34*1000 -> 110.13767 | K34: =(G34/(E34/F34*9550)) -> 1.055321 | L34: =F34/H34 -> 1.2121212 | M34: =K34*L34 -> 1.279177 | N34: =125.7*G34/C34 -> 13.844305 | O34: 850 | P34: =O34-U34/3 -> 783.33333 | Q34: 189 | R34: 209 | S34: 240 | T34: 200 | U34: 200 | V34: =(T34+U34)/2 -> 200 | W34: 233 | X34: 20 | Y34: 4.6 | Z34: =X34/Y34*100 -> 434.78261 | AA34: 10500 | AC34: =A34 -> KTM 790 Adventure S
A35: KTM 790 Adventure R | B35: https://www.ktm.com/de/travel/790-adventure-r | C35: 799 | D35: 95 | E35: =D35/1.36 -> 69.852941 | F35: 8000 | G35: 88 | H35: 6600 | I35: =E35/C35*1000 -> 87.425458 | J35: =G35/C35*1000 -> 110.13767 | K35: =(G35/(E35/F35*9550)) -> 1.055321 | L35: =F35/H35 -> 1.2121212 | M35: =K35*L35 -> 1.279177 | N35: =125.7*G35/C35 -> 13.844305 | O35: 880 | P35: =O35-U35/3 -> 800 | Q35: 189 | R35: 209 | S35: 240 | T35: 240 | U35: 240 | V35: =(T35+U35)/2 -> 240 | X35: 20 | Y35: 4.6 | Z35: =X35/Y35*100 -> 434.78261 | AA35: 12500 | AC35: =A35 -> KTM 790 Adventure R
A36: KTM 790 Adventure R Rallye | B36: https://www.ktm.com/de/travel/790-adventure-r-rally | C36: 799 | D36: 95 | E36: =D36/1.36 -> 69.852941 | F36: 8000 | G36: 88 | H36: 6600 | I36: =E36/C36*1000 -> 87.425458 | J36: =G36/C36*1000 -> 110.13767 | K36: =(G36/(E36/F36*9550)) -> 1.055321 | L36: =F36/H36 -> 1.2121212 | M36: =K36*L36 -> 1.279177 | N36: =125.7*G36/C36 -> 13.844305 | O36: 910 | P36: =O36-U36/3 -> 820 | Q36: 189 | R36: 209 | S36: 240 | T36: 270 | U36: 270 | V36: =(T36+U36)/2 -> 270 | X36: 20 | Y36: 4.6 | Z36: =X36/Y36*100 -> 434.78261 | AA36: 18000 | AC36: =A36 -> KTM 790 Adventure R Rallye
A37: KTM 950 Adventure S | B37: http://minimaster.bplaced.net | C37: 942 | D37: 98 | E37: =D37/1.36 -> 72.058824 | F37: 8000 | G37: 95 | H37: 6000 | I37: =E37/C37*1000 -> 76.495566 | J37: =G37/C37*1000 -> 100.84926 | K37: =(G37/(E37/F37*9550)) -> 1.1043915 | L37: =F37/H37 -> 1.3333333 | M37: =K37*L37 -> 1.472522 | N37: =125.7*G37/C37 -> 12.676752 | O37: 880 | P37: =O37-U37/3 -> 793.33333 | Q37: 198 | R37: 222 | S37: 211 | T37: 265 | U37: 260 | V37: =(T37+U37)/2 -> 262.5 | W37: 315 | X37: 22 | Y37: 6.9 | Z37: =X37/Y37*100 -> 318.84058 | AA37: 12690 | AB37: (price in 2005) | AC37: =A37 -> KTM 950 Adventure S
A38: Royal Enfield Himalayan (BS VI) | B38: https://www.royalenfield.com/content/dam/royal-enfield/india/motorcycles/himalayan/specifications/himalayan-bs-VI.pdf | C38: 411 | D38: 24.5 | E38: =D38/1.36 -> 18.014706 | F38: 6500 | G38: 32 | H38: 4000 | I38: =E38/C38*1000 -> 43.831401 | J38: =G38/C38*1000 -> 77.858881 | K38: =(G38/(E38/F38*9550)) -> 1.2090181 | L38: =F38/H38 -> 1.625 | M38: =K38*L38 -> 1.9646543 | N38: =125.7*G38/C38 -> 9.7868613 | O38: 800 | P38: =O38-U38/3 -> 740 | Q38: 185 | R38: 199 | S38: 180 | T38: 200 | U38: 180 | V38: =(T38+U38)/2 -> 190 | X38: 15 | Y38: 3.3 | Z38: =X38/Y38*100 -> 454.54545 | AA38: 4700 | AC38: =A38 -> Royal Enfield Himalayan (BS VI)
A39: Suzuki DR 350 SE | B39: https://de.wikipedia.org/wiki/Suzuki_DR_350 | C39: 349 | D39: 30 | E39: =D39/1.36 -> 22.058824 | F39: 7600 | G39: 29.4 | H39: 6200 | I39: =E39/C39*1000 -> 63.205798 | J39: =G39/C39*1000 -> 84.240688 | K39: =(G39/(E39/F39*9550)) -> 1.0606576 | L39: =F39/H39 -> 1.2258065 | M39: =K39*L39 -> 1.3001609 | N39: =125.7*G39/C39 -> 10.589054 | O39: 920 | P39: =O39-U39/3 -> 826.66667 | Q39: 122 | R39: 130 | S39: 184 | T39: 280 | U39: 280 | V39: =(T39+U39)/2 -> 280 | W39: 220 | X39: 9 | Y39: 4.9 | Z39: =X39/Y39*100 -> 183.67347 | AC39: =A39 -> Suzuki DR 350 SE
A40: Suzuki DR-Z400S (USA 2020) | B40: http://www.drz400s.de/technik_s.htm | C40: 398 | D40: 40 | E40: =D40/1.36 -> 29.411765 | F40: 7600 | G40: 36 | H40: 5800 | I40: =E40/C40*1000 -> 73.898906 | J40: =G40/C40*1000 -> 90.452261 | K40: =(G40/(E40/F40*9550)) -> 0.9740733 | L40: =F40/H40 -> 1.3103448 | M40: =K40*L40 -> 1.2763719 | N40: =125.7*G40/C40 -> 11.369849 | O40: 935 | P40: =O40-U40/3 -> 836.33333 | Q40: 132 | R40: 144 | S40: 191 | T40: 288 | U40: 296 | V40: =(T40+U40)/2 -> 292 | W40: 300 | X40: 10 | Y40: 4.4 | Z40: =X40/Y40*100 -> 227.27273 | AA40: 6200 | AB40: (USD 6800 in 2020) | AC40: =A40 -> Suzuki DR-Z400S (USA 2020)
...

Sheet Charts
A1: =Data!A1 -> Model | B1: =Data!AA1 -> Price in Germany [Euros] | C1: =Data!AC63 -> Price-Performance-Ratio [Euros/Points] | D1: =Data!AA63 -> Points (considering engine power) | E1: =Data!AB63 -> Points (neglecting engine power)
A2: =Data!A2 -> AJP PR7 Adventure 650 | B2: =Data!AA2 -> 10790 | C2: =Data!AC64 -> 158.29857 | D2: =Data!AA64 -> 63.016135 | E2: =Data!AB64 -> 68.162333
A3: =Data!A3 -> AKT TT 250 Adventour / CSC RX3 Adventure / Zongshen RX3 | B3: =Data!AA3 -> 2880 | C3: =Data!AC65 -> 47.598202 | D3: =Data!AA65 -> 56.060037 | E3: =Data!AB65 -> 60.506487
A4: =Data!A4 -> Beta Alp 4.0 | B4: =Data!AA4 -> 5900 | C4: =Data!AC66 -> 100.32904 | D4: =Data!AA66 -> 55.759725 | E4: =Data!AB66 -> 58.806501
A5: =Data!A5 -> BMW G 310 GS | B5: =Data!AA5 -> 6050 | C5: =Data!AC67 -> 96.899539 | D5: =Data!AA67 -> 60.16551 | E5: =Data!AB67 -> 62.435797
A6: =Data!A6 -> BMW G 650 GS | B6: =Data!AA6 -> 7400 | C6: =Data!AC68 -> 118.73313 | D6: =Data!AA68 -> 61.394164 | E6: =Data!AB68 -> 62.324642
A7: =Data!A7 -> BMW G 650 GS Sertao | B7: =Data!AA7 -> 8050 | C7: =Data!AC69 -> 125.09047 | D7: =Data!AA69 -> 63.084031 | E7: =Data!AB69 -> 64.353423
A8: =Data!A8 -> BMW G 650 XCountry (2006) | B8: =Data!AA8 -> 6900 | C8: =Data!AC70 -> 114.15276 | D8: =Data!AA70 -> 60.536505 | E8: =Data!AB70 -> 60.445319
A9: =Data!A9 -> BMW G 650 XCountry (2009) | B9: =Data!AA9 -> 6900 | C9: =Data!AC71 -> 118.39208 | D9: =Data!AA71 -> 58.724654 | E9: =Data!AB71 -> 58.280924
A10: =Data!A10 -> BMW G 650 XChallenge | B10: =Data!AA10 -> 8200 | C10: =Data!AC72 -> 130.49154 | D10: =Data!AA72 -> 62.401372 | E10: =Data!AB72 -> 62.839322
A11: =Data!A11 -> BMW R 1200 GS Rallye (2012) | B11: =Data!AA11 -> 14950 | C11: =Data!AC73 -> 248.86608 | D11: =Data!AA73 -> 63.444548 | E11: =Data!AB73 -> 60.072469
A12: =Data!A12 -> BMW R 1250 GS | B12: =Data!AA12 -> 16450 | C12: =Data!AC74 -> 284.96391 | D12: =Data!AA74 -> 63.145944 | E12: =Data!AB74 -> 57.726608
... A60: =Data!A60 -> Zontes 310-T2 | B60: =Data!AA60 -> 4990 | C60: =Data!AC122 -> 76.093301 | D60: =Data!AA122 -> 62.618724 | E60: =Data!AB122 -> 65.577389

Sheet Ranking 1
A1: Rank | B1: =Charts!A1 -> Model | C1: =Charts!D1 -> Points (considering engine power) | D1: =Charts!E1 -> Points (neglecting engine power) | E1: =Charts!B1 -> Price in Germany [Euros] | F1: =Charts!C1 -> Price-Performance-Ratio [Euros/Points] | G1: =B1 -> Model | H1: =Data!D63 -> Engine power [bhp] | I1: =Data!Q63 -> Dry weight [kg] | J1: =Data!S63 -> Load capacity [kg] | K1: =Data!V63 -> Avg. suspension travel [mm] | L1: =Data!Y63 -> Economy - Fuel consumption [l/100 km] | M1: =Data!Z63 -> Mileage [km/tank] | N1: =Data!AD63 -> Model | O1: =Data!AE63
A2: 1 | B2: =Data!A65 -> AKT TT 250 Adventour / CSC RX3 Adventure / Zongshen RX3 | C2: =Data!AA65 -> 56.060037 | D2: =Data!AB65 -> 60.506487 | E2: =Data!AA3 -> 2880 | F2: =Data!AC65 -> 47.598202 | G2: =B2 -> AKT TT 250 Adventour / CSC RX3 Adventure / Zongshen RX3 | H2: =Data!D65 -> 42.702803 | I2: =Data!Q65 -> 65.666667 | J2: =Data!S65 -> 66.532258 | K2: =Data!V65 -> 43.312102 | L2: =Data!Y65 -> 75 | M2: =Data!Z65 -> 57.142857 | N2: =Data!AD65 -> AKT TT 250 Adventour / CSC RX3 Adventure / Zongshen RX3 | O2: =Data!AE65
A3: 2 | B3: =Data!A82 -> Honda XRE 300 ABS | C3: =Data!AA82 -> 62.963466 | D3: =Data!AB82 -> 68.253316 | E3: =Data!AA20 -> 4600 | F3: =Data!AC82 -> 67.395993 | G3: =B3 -> Honda XRE 300 ABS | H3: =Data!D82 -> 43.216282 | I3: =Data!Q82 -> 66.554054 | J3: =Data!S82 -> 62.5 | K3: =Data!V82 -> 74.840764 | L3: =Data!Y82 -> 85.714286 | M3: =Data!Z82 -> 55.510204 | N3: =Data!AD82 -> Honda XRE 300 ABS | O3: =Data!AE82
A4: 3 | B4: =Data!A84 -> Honda NX4 Falcon | C4: =Data!AA84 -> 63.085228 | D4: =Data!AB84 -> 67.620944 | E4: =Data!AA22 -> 4600 | F4: =Data!AC84 -> 68.026261 | G4: =B4 -> Honda NX4 Falcon | H4: =Data!D84 -> 47.434165 | I4: =Data!Q84 -> 65.231788 | J4: =Data!S84 -> 62.5 | K4: =Data!V84 -> 66.082803 | L4: =Data!Y84 -> 85.714286 | M4: =Data!Z84 -> 61.22449 | N4: =Data!AD84 -> Honda NX4 Falcon | O4: =Data!AE84
A5: 4 | B5: =Data!A114 -> Yamaha XT 250 (USA 2020) | C5: =Data!AA114 -> 60.511138 | D5: =Data!AB114 -> 67.793842 | E5: =Data!AA52 -> 4700 | F5: =Data!AC114 -> 69.32783 | G5: =B5 -> Yamaha XT 250 (USA 2020) | H5: =Data!D114 -> 34.513424 | I5: =Data!Q114 -> 78.558041 | J5: =Data!S114 -> 64.516129 | K5: =Data!V114 -> 64.649682 | L5: =Data!Y114 -> 96.774194 | M5: =Data!Z114 -> 45.16129 | N5: =Data!AD114 -> Yamaha XT 250 (USA 2020) | O5: =Data!AE114
A6: 5 | B6: =Data!A100 -> Royal Enfield Himalayan (BS VI) | C6: =Data!AA100 -> 62.028058 | D6: =Data!AB100 -> 67.297538 | E6: =Data!AA38 -> 4700 | F6: =Data!AC100 -> 69.839108 | G6: =B6 -> Royal Enfield Himalayan (BS VI) | H6: =Data!D100 -> 42.443734 | I6: =Data!Q100 -> 53.243243 | J6: =Data!S100 -> 72.580645 | K6: =Data!V100 -> 60.509554 | L6: =Data!Y100 -> 90.909091 | M6: =Data!Z100 -> 64.935065 | N6: =Data!AD100 -> Royal Enfield Himalayan (BS VI) | O6: =Data!AE100
A7: 6 | B7: =Data!A122 -> Zontes 310-T2 | C7: =Data!AA122 -> 62.618724 | D7: =Data!AB122 -> 65.577389 | E7: =Data!AA60 -> 4990 | F7: =Data!AC122 -> 76.093301 | G7: =B7 -> Zontes 310-T2 | H7: =Data!D122 -> 50.729966 | I7: =Data!Q122 -> 66.107383 | J7: =Data!S122 -> 64.516129 | K7: =Data!V122 -> 57.324841 | L7: =Data!Y122 -> 83.333333 | M7: =Data!Z122 -> 59.52381 | N7: =Data!AD122 -> Zontes 310-T2 | O7: =Data!AE122
A8: 7 | B8: =Data!A90 -> Kawasaki KLX 250 | C8: =Data!AA90 -> 60.347718 | D8: =Data!AB90 -> 65.367069 | E8: =Data!AA28 -> 5000 | F8: =Data!AC90 -> 76.491115 | G8: =B8 -> Kawasaki KLX 250 | H8: =Data!D90 -> 40.219983 | I8: =Data!Q90 -> 74.17029 | J8: =Data!S90 -> 72.983871 | K8: =Data!V90 -> 77.229299 | L8: =Data!Y90 -> 88.235294 | M8: =Data!Z90 -> 32.352941 | N8: =Data!AD90 -> Kawasaki KLX 250 | O8: =Data!AE90
A9: 8 | B9: =Data!A79 -> Honda CRF 250 L | C9: =Data!AA79 -> 60.131541 | D9: =Data!AB79 -> 64.231933 | E9: =Data!AA17 -> 5600 | F9: =Data!AC79 -> 87.184049 | G9: =B9 -> Honda CRF 250 L | H9: =Data!D79 -> 42.874646 | I9: =Data!Q79 -> 69.956144 | J9: =Data!S79 -> 64.112903 | K9: =Data!V79 -> 78.025478 | L9: =Data!Y79 -> 92.307692 | M9: =Data!Z79 -> 33.846154 | N9: =Data!AD79 -> Honda CRF 250 L | O9: =Data!AE79
A10: 9 | B10: =Data!A93 -> KTM 390 Adventure | C10: =Data!AA93 -> 65.386661 | D10: =Data!AB93 -> 67.778147 | E10: =Data!AA31 -> 6195 | F10: =Data!AC93 -> 91.401141 | G10: =B10 -> KTM 390 Adventure | H10: =Data!D93 -> 56.879646 | I10: =Data!Q93 -> 62.341772 | J10: =Data!S93 -> 81.854839 | K10: =Data!V93 -> 55.254777 | L10: =Data!Y93 -> 85.714286 | M10: =Data!Z93 -> 59.183673 | N10: =Data!AD93 -> KTM 390 Adventure | O10: =Data!AE93
A11: 10 | B11: =Data!A91 -> Kawasaki Versys X-300 | C11: =Data!AA91 -> 59.944246 | D11: =Data!AB91 -> 61.440604 | E11: =Data!AA29 -> 5795 | F11: =Data!AC91 -> 94.318734 | G11: =B11 -> Kawasaki Versys X-300 | H11: =Data!D91 -> 54.232614 | I11: =Data!Q91 -> 60.235438 | J11: =Data!S91 -> 68.548387 | K11: =Data!V91 -> 44.267516 | L11: =Data!Y91 -> 76.923077 | M11: =Data!Z91 -> 62.271062 | N11: =Data!AD91 -> Kawasaki Versys X-300 | O11: =Data!AE91
A12: 11 | B12: =Data!A102 -> Suzuki DR-Z400S (USA 2020) | C12: =Data!AA102 -> 62.827243 | D12: =Data!AB102 -> 65.25338 | E12: =Data!AA40 -> 6200 | F12: =Data!AC102 -> 95.014236 | G12: =B12 -> Suzuki DR-Z400S (USA 2020) | H12: =Data!D102 -> 54.232614 | I12: =Data!Q102 -> 74.621212 | J12: =Data!S102 -> 77.016129 | K12: =Data!V102 -> 92.993631 | L12: =Data!Y102 -> 68.181818 | M12: =Data!Z102 -> 32.467532 | N12: =Data!AD102 -> Suzuki DR-Z400S (USA 2020) | O12: =Data!AE102
A13: 12 | B13: =Data!A80 -> Honda CRF 250 Rally | C13: =Data!AA80 -> 62.673628 | D13: =Data!AB80 -> 67.614145 | E13: =Data!AA18 -> 6500 | F13: =Data!AC80 -> 96.133731 | G13: =B13 -> Honda CRF 250 Rally | H13: =Data!D80 -> 42.874646 | I13: =Data!Q80 -> 65.586869 | J13: =Data!S80 -> 64.112903 | K13: =Data!V80 -> 82.006369 | L13: =Data!Y80 -> 92.307692 | M13: =Data!Z80 -> 44.395604 | N13: =Data!AD80 -> Honda CRF 250 Rally | O13: =Data!AE80
A14: 13 | B14: =Data!A103 -> Suzuki DR 650 S (USA 2019) | C14: =Data!AA103 -> 60.621647 | D14: =Data!AB103 -> 62.350488 | E14: =Data!AA41 -> 6000 | F14: =Data!AC103 -> 96.230201 | G14: =B14 -> Suzuki DR 650 S (USA 2019) | H14: =Data!D103 -> 56.879646 | I14: =Data!Q103 -> 67.006803 | J14: =Data!S103 -> 76.209677 | K14: =Data!V103 -> 82.802548 | L14: =Data!Y103 -> 60 | M14: =Data!Z103 -> 37.142857 | N14: =Data!AD103 -> Suzuki DR 650 S (USA 2019) | O14: =Data!AE103
A15: 14 | B15: =Data!A67 -> BMW G 310 GS | C15: =Data!AA67 -> 60.16551 | D15: =Data!AB67 -> 62.435797 | E15: =Data!AA5 -> 6050 | F15: =Data!AC67 -> 96.899539 | G15: =B15 -> BMW G 310 GS | H15: =Data!D67 -> 50 | I15: =Data!Q67 -> 60.774333 | J15: =Data!S67 -> 70.766129 | K15: =Data!V67 -> 57.324841 | L15: =Data!Y67 -> 85.714286 | M15: =Data!Z67 -> 44.897959 | N15: =Data!AD67 -> BMW G 310 GS | O15: =Data!AE67
A16: 15 | B16: =Data!A66 -> Beta Alp 4.0 | C16: =Data!AA66 -> 55.759725 | D16: =Data!AB66 -> 58.806501 | E16: =Data!AA4 -> 5900 | F16: =Data!AC66 -> 100.32904 | G16: =B16 -> Beta Alp 4.0 | H16: =Data!D66 -> 44.556639 | I16: =Data!Q66 -> 74.06015 | J16: =Data!S66 -> 66.532258 | K16: =Data!V66 -> 70.063694 | L16: =Data!Y66 -> 63.829787 | M16: =Data!Z66 -> 31.914894 | N16: =Data!AD66 -> Beta Alp 4.0 | O16: =Data!AE66
A17: 16 | B17: =Data!A112 -> Yamaha WR 250 R | C17: =Data!AA112 -> 63.95014 | D17: =Data!AB112 -> 68.095201 | E17: =Data!AA50 -> 7000 | F17: =Data!AC112 -> 102.79726 | G17: =B17 -> Yamaha WR 250 R | H17: =Data!D112 -> 47.511608 | I17: =Data!Q112 -> 78.174603 | J17: =Data!S112 -> 77.822581 | K17: =Data!V112 -> 85.987261 | L17: =Data!Y112 -> 85.714286 | M17: =Data!Z112 -> 32.653061 | N17: =Data!AD112 -> Yamaha WR 250 R | O17: =Data!AE112
A18: 17 | B18: =Data!A86 -> Honda CB 500 X | C18: =Data!AA86 -> 64.043886 | D18: =Data!AB86 -> 65.755491 | E18: =Data!AA24 -> 6990 | F18: =Data!AC86 -> 106.30291 | G18: =B18 -> Honda CB 500 X | H18: =Data!D86 -> 59.408853 | I18: =Data!Q86 -> 55.337079 | J18: =Data!S86 -> 74.596774 | K18: =Data!V86 -> 45.382166 | L18: =Data!Y86 -> 88.235294 | M18: =Data!Z86 -> 74.369748 | N18: =Data!AD86 -> Honda CB 500 X | O18: =Data!AE86
A19: 18 | B19: =Data!A107 -> SWM Superdual X | C19: =Data!AA107 -> 67.009096 | D19: =Data!AB107 -> 68.609745 | E19: =Data!AA45 -> 7580 | F19: =Data!AC107 -> 110.47993 | G19: =B19 -> SWM Superdual X | H19: =Data!D107 -> 63.012604 | I19: =Data!Q107 -> 58.284024 | J19: =Data!S107 -> 100 | K19: =Data!V107 -> 68.471338 | L19: =Data!Y107 -> 66.666667 | M19: =Data!Z107 -> 57.142857 | N19: =Data!AD107 -> SWM Superdual X | O19: =Data!AE107
A20: 19 | B20: =Data!A78 -> Fantic Caballero Rally 500 | C20: =Data!AA78 -> 62.608861 | D20: =Data!AB78 -> 64.689888 | E20: =Data!AA16 -> 7190 | F20: =Data!AC78 -> 111.14566 | G20: =B20 -> Fantic Caballero Rally 500 | H20: =Data!D78 -> 54.232614 | I20: =Data!Q78 -> 65.666667 | J20: =Data!S78 -> 64.516129 | K20: =Data!V78 -> 63.694268 | L20: =Data!Y78 -> 85.714286 | M20: =Data!Z78 -> 48.979592 | N20: =Data!AD78 -> Fantic Caballero Rally 500 | O20: =Data!AE78
A21: 20 | B21: =Data!A70 -> BMW G 650 XCountry (2006) | C21: =Data!AA70 -> 60.536505 | D21: =Data!AB70 -> 60.445319 | E21: =Data!AA8 -> 6900 | F21: =Data!AC70 -> 114.15276 | G21: =B21 -> BMW G 650 XCountry (2006) | H21: =Data!D70 -> 62.426427 | I21: =Data!Q70 -> 65.886288 | J21: =Data!S70 -> 70.564516 | K21: =Data!V70 -> 71.656051 | L21: =Data!Y70 -> 73.170732 | M21: =Data!Z70 -> 33.101045 | N21: =Data!AD70 -> BMW G 650 XCountry (2006) | O21: =Data!AE70
A22: 21 | B22: =Data!A120 -> Yamaha XT 660 Z Ténénré | C22: =Data!AA120 -> 65.916401 | D22: =Data!AB120 -> 68.465652 | E22: =Data!AA58 -> 7995 | F22: =Data!AC120 -> 116.77388 | G22: =B22 -> Yamaha XT 660 Z Ténénré | H22: =Data!D120 -> 59.408853 | I22: =Data!Q120 -> 53.825137 | J22: =Data!S120 -> 76.612903 | K22: =Data!V120 -> 65.286624 | L22: =Data!Y120 -> 71.428571 | M22: =Data!Z120 -> 78.231293 | N22: =Data!AD120 -> Yamaha XT 660 Z Ténénré | O22: =Data!AE120
A23: 22 | B23: =Data!A71 -> BMW G 650 XCountry (2009) | C23: =Data!AA71 -> 58.724654 | D23: =Data!AB71 -> 58.280924 | E23: =Data!AA9 -> 6900 | F23: =Data!AC71 -> 118.39208 | G23: =B23 -> BMW G 650 XCountry (2009) | H23: =Data!D71 -> 62.426427 | I23: =Data!Q71 -> 65.886288 | J23: =Data!S71 -> 70.564516 | K23: =Data!V71 -> 59.713376 | L23: =Data!Y71 -> 73.170732 | M23: =Data!Z71 -> 33.101045 | N23: =Data!AD71 -> BMW G 650 XCountry (2009) | O23: =Data!AE71
A24: 23 | B24: =Data!A68 -> BMW G 650 GS | C24: =Data!AA68 -> 61.394164 | D24: =Data!AB68 -> 62.324642 | E24: =Data!AA6 -> 7400 | F24: =Data!AC68 -> 118.73313 | G24: =B24 -> BMW G 650 GS | H24: =Data!D68 -> 59.408853 | I24: =Data!Q68 -> 55.965909 | J24: =Data!S68 -> 75.806452 | K24: =Data!V68 -> 53.343949 | L24: =Data!Y68 -> 78.947368 | M24: =Data!Z68 -> 52.631579 | N24: =Data!AD68 -> BMW G 650 GS | O24: =Data!AE68
A25: 24 | B25: =Data!A69 -> BMW G 650 GS Sertao | C25: =Data!AA69 -> 63.084031 | D25: =Data!AB69 -> 64.353423 | E25: =Data!AA7 -> 8050 | F25: =Data!AC69 -> 125.09047 | G25: =B25 -> BMW G 650 GS Sertao | H25: =Data!D69 -> 59.408853 | I25: =Data!Q69 -> 54.120879 | J25: =Data!S69 -> 73.387097 | K25: =Data!V69 -> 66.878981 | L25: =Data!Y69 -> 78.947368 | M25: =Data!Z69 -> 52.631579 | N25: =Data!AD69 -> BMW G 650 GS Sertao | O25: =Data!AE69
A26: 25 | B26: =Data!A121 -> Yamaha XT 660 Z Ténéré ABS | C26: =Data!AA121 -> 62.424837 | D26: =Data!AB121 -> 63.91546 | E26: =Data!AA59 -> 8195 | F26: =Data!AC121 -> 128.21624 | G26: =B26 -> Yamaha XT 660 Z Ténéré ABS | H26: =Data!D121 -> 59.408853 | I26: =Data!Q121 -> 51.302083 | J26: =Data!S121 -> 76.612903 | K26: =Data!V121 -> 48.566879 | L26: =Data!Y121 -> 71.428571 | M26: =Data!Z121 -> 78.231293 | N26: =Data!AD121 -> Yamaha XT 660 Z Ténéré ABS | O26: =Data!AE121
A27: 26 | B27: =Data!A72 -> BMW G 650 XChallenge | C27: =Data!AA72 -> 62.401372 | D27: =Data!AB72 -> 62.839322 | E27: =Data!AA10 -> 8200 | F27: =Data!AC72 -> 130.49154 | G27: =B27 -> BMW G 650 XChallenge | H27: =Data!D72 -> 62.426427 | I27: =Data!Q72 -> 68.402778 | J27: =Data!S72 -> 72.177419 | K27: =Data!V72 -> 85.987261 | L27: =Data!Y72 -> 71.428571 | M27: =Data!Z72 -> 32.312925 | N27: =Data!AD72 -> BMW G 650 XChallenge | O27: =Data!AE72
A28: 27 | B28: =Data!A76 -> CCM GP 450 Adventure | C28: =Data!AA76 -> 66.471151 | D28: =Data!AB76 -> 70.643162 | E28: =Data!AA14 -> 9900 | F28: =Data!AC76 -> 140.14095 | G28: =B28 -> CCM GP 450 Adventure | H28: =Data!D76 -> 54.38831 | I28: =Data!Q76 -> 78.8 | J28: =Data!S76 -> 62.5 | K28: =Data!V76 -> 84.394904 | L28: =Data!Y76 -> 66.666667 | M28: =Data!Z76 -> 63.492063 | N28: =Data!AD76 -> CCM GP 450 Adventure | O28: =Data!AE76
A29: 28 | B29: =Data!A92 -> KTM Freeride 250 F | C29: =Data!AA92 -> 53.878979 | D29: =Data!AB92 -> 57.528326 | E29: =Data!AA30 -> 8098 | F29: =Data!AC92 -> 140.76544 | G29: =B29 -> KTM Freeride 250 F | H29: =Data!D92 -> 38.824643 | I29: =Data!Q92 -> 100 | J29: =Data!S92 -> 40.322581 | K29: =Data!V92 -> 81.210191 | L29: =Data!Y92 -> 85.714286 | M29: =Data!Z92 -> 22.44898 | N29: =Data!AD92 -> KTM Freeride 250 F | O29: =Data!AE92
A30: 29 | B30: =Data!A113 -> Yamaha WR 450 F | C30: =Data!AA113 -> 59.469734 | D30: =Data!AB113 -> 58.627352 | E30: =Data!AA51 -> 8900 | F30: =Data!AC113 -> 151.80628 | G30: =B30 -> Yamaha WR 450 F | H30: =Data!D113 -> 63.766578 | I30: =Data!Q113 -> 85.698749 | J30: =Data!S113 -> 44.354839 | K30: =Data!V113 -> 100 | L30: =Data!Y113 -> 71.428571 | M30: =Data!Z113 -> 25.510204 | N30: =Data!AD113 -> Yamaha WR 450 F | O30: =Data!AE113
A31: 30 | B31: =Data!A89 -> Husqvarna 701 LR (2020) | C31: =Data!AA89 -> 72.813766 | D31: =Data!AB89 -> 73.222947 | E31: =Data!AA27 -> 11395 | F31: =Data!AC89 -> 155.62061 | G31: =B31 -> Husqvarna 701 LR (2020) | H31: =Data!D89 -> 74.261066 | I31: =Data!Q89 -> 63.548387 | J31: =Data!S89 -> 78.629032 | K31: =Data!V89 -> 79.617834 | L31: =Data!Y89 -> 66.666667 | M31: =Data!Z89 -> 79.365079 | N31: =Data!AD89 -> Husqvarna 701 LR (2020) | O31: =Data!AE89
A32: 31 | B32: =Data!A96 -> KTM 790 Adventure S | C32: =Data!AA96 -> 68.448425 | D32: =Data!AB96 -> 66.508075 | E32: =Data!AA34 -> 10500 | F32: =Data!AC96 -> 157.87557 | G32: =B32 -> KTM 790 Adventure S | H32: =Data!D96 -> 83.578072 | I32: =Data!Q96 -> 52.116402 | J32: =Data!S96 -> 96.774194 | K32: =Data!V96 -> 63.694268 | L32: =Data!Y96 -> 65.217391 | M32: =Data!Z96 -> 62.111801 | N32: =Data!AD96 -> KTM 790 Adventure S | O32: =Data!AE96
A33: 32 | B33: =Data!A111 -> Yamaha Ténéré 700 | C33: =Data!AA111 -> 62.561735 | D33: =Data!AB111 -> 60.734653 | E33: =Data!AA49 -> 9600 | F33: =Data!AC111 -> 158.06462 | G33: =B33 -> Yamaha Ténéré 700 | H33: =Data!D111 -> 73.264228 | I33: =Data!Q111 -> 50.983437 | J33: =Data!S111 -> 76.612903 | K33: =Data!V111 -> 65.286624 | L33: =Data!Y111 -> 65.217391 | M33: =Data!Z111 -> 49.689441 | N33: =Data!AD111 -> Yamaha Ténéré 700 | O33: =Data!AE111
A34: 33 | B34: =Data!A64 -> AJP PR7 Adventure 650 | C34: =Data!AA64 -> 63.016135 | D34: =Data!AB64 -> 68.162333 | E34: =Data!AA2 -> 10790 | F34: =Data!AC64 -> 158.29857 | G34: =B34 -> AJP PR7 Adventure 650 | H34: =Data!D64 -> 45.374261 | I34: =Data!Q64 -> 66.554054 | J34: =Data!S64 -> 66.532258 | K34: =Data!V64 -> 92.356688 | L34: =Data!Y64 -> 66.666667 | M34: =Data!Z64 -> 53.968254 | N34: =Data!AD64 -> AJP PR7 Adventure 650 | O34: =Data!AE64
A35: 34 | B35: =Data!A95 -> KTM 690 Enduro R | C35: =Data!AA95 -> 67.918542 | D35: =Data!AB95 -> 67.345257 | E35: =Data!AA33 -> 10800 | F35: =Data!AC95 -> 160.36764 | G35: =B35 -> KTM 690 Enduro R | H35: =Data!D95 -> 74.261066 | I35: =Data!Q95 -> 67.465753 | J35: =Data!S95 -> 78.629032 | K35: =Data!V95 -> 79.617834 | L35: =Data!Y95 -> 71.428571 | M35: =Data!Z95 -> 45.918367 | N35: =Data!AD95 -> KTM 690 Enduro R | O35: =Data!AE95
A36: 35 | B36: =Data!A97 -> KTM 790 Adventure R | C36: =Data!AA97 -> 70.560286 | D36: =Data!AB97 -> 68.978004 | E36: =Data!AA35 -> 12500 | F36: =Data!AC97 -> 181.21719 | G36: =B36 -> KTM 790 Adventure R | H36: =Data!D97 -> 83.578072 | I36: =Data!Q97 -> 52.116402 | J36: =Data!S97 -> 96.774194 | K36: =Data!V97 -> 76.433121 | L36: =Data!Y97 -> 65.217391 | M36: =Data!Z97 -> 62.111801 | N36: =Data!AD97 -> KTM 790 Adventure R | O36: =Data!AE97
A37: 36 | B37: =Data!A108 -> Triumph Tiger 900 Rally | C37: =Data!AA108 -> 66.568188 | D37: =Data!AB108 -> 64.264275 | E37: =Data!AA46 -> 12000 | F37: =Data!AC108 -> 186.72894 | G37: =B37 -> Triumph Tiger 900 Rally | H37: =Data!D108 -> 83.666003 | I37: =Data!Q108 -> 50.255102 | J37: =Data!S108 -> 91.935484 | K37: =Data!V108 -> 74.840764 | L37: =Data!Y108 -> 57.692308 | M37: =Data!Z108 -> 54.945055 | N37: =Data!AD108 -> Triumph Tiger 900 Rally | O37: =Data!AE108
A38: 37 | B38: =Data!A81 -> Honda CRF 450 L | C38: =Data!AA81 -> 53.211678 | D38: =Data!AB81 -> 55.50829 | E38: =Data!AA19 -> 10690 | F38: =Data!AC81 -> 192.58385 | G38: =B38 -> Honda CRF 450 L | H38: =Data!D81 -> 42.874646 | I38: =Data!Q81 -> 78.255343 | J38: =Data!S81 -> 40.322581 | K38: =Data!V81 -> 90.44586 | L38: =Data!Y81 -> 71.428571 | M38: =Data!Z81 -> 25.85034 | N38: =Data!AD81 -> Honda CRF 450 L | O38: =Data!AE81
A39: 38 | B39: =Data!A99 -> KTM 950 Adventure S | C39: =Data!AA99 -> 61.756735 | D39: =Data!AB99 -> 58.763795 | E39: =Data!AA37 -> 12690 | F39: =Data!AC99 -> 215.94929 | G39: =B39 -> KTM 950 Adventure S | H39: =Data!D99 -> 84.887469 | I39: =Data!Q99 -> 49.747475 | J39: =Data!S99 -> 85.080645 | K39: =Data!V99 -> 83.598726 | L39: =Data!Y99 -> 43.478261 | M39: =Data!Z99 -> 45.548654 | N39: =Data!AD99 -> KTM 950 Adventure S | O39: =Data!AE99
A40: 19 | B40: =Data!A77 -> Ducati Desert Sled | C40: =Data!AA77 -> 58.19944 | D40: =Data!AB77 -> 55.970833 | E40: =Data!AA15 -> 12095 | F40: =Data!AC77 -> 216.09469 | G40: =B40 -> Ducati Desert Sled | H40: =Data!D77 -> 73.264228 | I40: =Data!Q77 -> 51.036269 | J40: =Data!S77 -> 64.516129 | K40: =Data!V77 -> 63.694268 | L40: =Data!Y77 -> 63.829787 | M40: =Data!Z77 -> 41.033435 | N40: =Data!AD77 -> Ducati Desert Sled | O40: =Data!AE77
...

Sheet Spider chart 1

Sheet Ranking 2
A1: Rank | B1: =Charts!A1 -> Model | C1: =Charts!D1 -> Points (considering engine power) | D1: =Charts!E1 -> Points (neglecting engine power) | E1: =Charts!B1 -> Price in Germany [Euros] | F1: =Charts!C1 -> Price-Performance-Ratio [Euros/Points] | G1: =B1 -> Model | H1: =Data!D63 -> Engine power [bhp] | I1: =Data!Q63 -> Dry weight [kg] | J1: =Data!S63 -> Load capacity [kg] | K1: =Data!V63 -> Avg. suspension travel [mm] | L1: =Data!Y63 -> Economy - Fuel consumption [l/100 km] | M1: =Data!Z63 -> Mileage [km/tank] | N1: =Data!AD63 -> Model | O1: =Data!AE63
A2: 1 | B2: =Data!A89 -> Husqvarna 701 LR (2020) | C2: =Data!AA89 -> 72.813766 | D2: =Data!AB89 -> 73.222947 | E2: =Data!AA27 -> 11395 | F2: =Data!AC89 -> 155.62061 | G2: =B2 -> Husqvarna 701 LR (2020) | H2: =Data!D89 -> 74.261066 | I2: =Data!Q89 -> 63.548387 | J2: =Data!S89 -> 78.629032 | K2: =Data!V89 -> 79.617834 | L2: =Data!Y89 -> 66.666667 | M2: =Data!Z89 -> 79.365079 | N2: =Data!AD89 -> Husqvarna 701 LR (2020) | O2: =Data!AE89
A3: 2 | B3: =Data!A94 -> KTM 450 Rally | C3: =Data!AA94 -> 70.044797 | D3: =Data!AB94 -> 72.346845 | E3: =Data!AA32 -> 30940 | F3: =Data!AC94 -> 427.66205 | G3: =B3 -> KTM 450 Rally | H3: =Data!D94 -> 71.743005 | I3: =Data!Q94 -> 70.863309 | J3: =Data!S94 -> 48.387097 | K3: =Data!V94 -> 96.33758 | L3: =Data!Y94 -> 60 | M3: =Data!Z94 -> 100 | N3: =Data!AD94 -> KTM 450 Rally | O3: =Data!AE94
A4: 3 | B4: =Data!A76 -> CCM GP 450 Adventure | C4: =Data!AA76 -> 66.471151 | D4: =Data!AB76 -> 70.643162 | E4: =Data!AA14 -> 9900 | F4: =Data!AC76 -> 140.14095 | G4: =B4 -> CCM GP 450 Adventure | H4: =Data!D76 -> 54.38831 | I4: =Data!Q76 -> 78.8 | J4: =Data!S76 -> 62.5 | K4: =Data!V76 -> 84.394904 | L4: =Data!Y76 -> 66.666667 | M4: =Data!Z76 -> 63.492063 | N4: =Data!AD76 -> CCM GP 450 Adventure | O4: =Data!AE76
A5: 4 | B5: =Data!A98 -> KTM 790 Adventure R Rallye | C5: =Data!AA98 -> 71.959105 | D5: =Data!AB98 -> 70.622182 | E5: =Data!AA36 -> 18000 | F5: =Data!AC98 -> 254.87743 | G5: =B5 -> KTM 790 Adventure R Rallye | H5: =Data!D98 -> 83.578072 | I5: =Data!Q98 -> 52.116402 | J5: =Data!S98 -> 96.774194 | K5: =Data!V98 -> 85.987261 | L5: =Data!Y98 -> 65.217391 | M5: =Data!Z98 -> 62.111801 | N5: =Data!AD98 -> KTM 790 Adventure R Rallye | O5: =Data!AE98
A6: 5 | B6: =Data!A97 -> KTM 790 Adventure R | C6: =Data!AA97 -> 70.560286 | D6: =Data!AB97 -> 68.978004 | E6: =Data!AA35 -> 12500 | F6: =Data!AC97 -> 181.21719 | G6: =B6 -> KTM 790 Adventure R | H6: =Data!D97 -> 83.578072 | I6: =Data!Q97 -> 52.116402 | J6: =Data!S97 -> 96.774194 | K6: =Data!V97 -> 76.433121 | L6: =Data!Y97 -> 65.217391 | M6: =Data!Z97 -> 62.111801 | N6: =Data!AD97 -> KTM 790 Adventure R | O6: =Data!AE97
A7: 6 | B7: =Data!A107 -> SWM Superdual X | C7: =Data!AA107 -> 67.009096 | D7: =Data!AB107 -> 68.609745 | E7: =Data!AA45 -> 7580 | F7: =Data!AC107 -> 110.47993 | G7: =B7 -> SWM Superdual X | H7: =Data!D107 -> 63.012604 | I7: =Data!Q107 -> 58.284024 | J7: =Data!S107 -> 100 | K7: =Data!V107 -> 68.471338 | L7: =Data!Y107 -> 66.666667 | M7: =Data!Z107 -> 57.142857 | N7: =Data!AD107 -> SWM Superdual X | O7: =Data!AE107
A8: 13 | B8: =Data!A120 -> Yamaha XT 660 Z Ténénré | C8: =Data!AA120 -> 65.916401 | D8: =Data!AB120 -> 68.465652 | E8: =Data!AA58 -> 7995 | F8: =Data!AC120 -> 116.77388 | G8: =B8 -> Yamaha XT 660 Z Ténénré | H8: =Data!D120 -> 59.408853 | I8: =Data!Q120 -> 53.825137 | J8: =Data!S120 -> 76.612903 | K8: =Data!V120 -> 65.286624 | L8: =Data!Y120 -> 71.428571 | M8: =Data!Z120 -> 78.231293 | N8: =Data!AD120 -> Yamaha XT 660 Z Ténénré | O8: =Data!AE120
A9: 7 | B9: =Data!A82 -> Honda XRE 300 ABS | C9: =Data!AA82 -> 62.963466 | D9: =Data!AB82 -> 68.253316 | E9: =Data!AA20 -> 4600 | F9: =Data!AC82 -> 67.395993 | G9: =B9 -> Honda XRE 300 ABS | H9: =Data!D82 -> 43.216282 | I9: =Data!Q82 -> 66.554054 | J9: =Data!S82 -> 62.5 | K9: =Data!V82 -> 74.840764 | L9: =Data!Y82 -> 85.714286 | M9: =Data!Z82 -> 55.510204 | N9: =Data!AD82 -> Honda XRE 300 ABS | O9: =Data!AE82
A10: 8 | B10: =Data!A64 -> AJP PR7 Adventure 650 | C10: =Data!AA64 -> 63.016135 | D10: =Data!AB64 -> 68.162333 | E10: =Data!AA2 -> 10790 | F10: =Data!AC64 -> 158.29857 | G10: =B10 -> AJP PR7 Adventure 650 | H10: =Data!D64 -> 45.374261 | I10: =Data!Q64 -> 66.554054 | J10: =Data!S64 -> 66.532258 | K10: =Data!V64 -> 92.356688 | L10: =Data!Y64 -> 66.666667 | M10: =Data!Z64 -> 53.968254 | N10: =Data!AD64 -> AJP PR7 Adventure 650 | O10: =Data!AE64
A11: 9 | B11: =Data!A112 -> Yamaha WR 250 R | C11: =Data!AA112 -> 63.95014 | D11: =Data!AB112 -> 68.095201 | E11: =Data!AA50 -> 7000 | F11: =Data!AC112 -> 102.79726 | G11: =B11 -> Yamaha WR 250 R | H11: =Data!D112 -> 47.511608 | I11: =Data!Q112 -> 78.174603 | J11: =Data!S112 -> 77.822581 | K11: =Data!V112 -> 85.987261 | L11: =Data!Y112 -> 85.714286 | M11: =Data!Z112 -> 32.653061 | N11: =Data!AD112 -> Yamaha WR 250 R | O11: =Data!AE112
A12: 10 | B12: =Data!A114 -> Yamaha XT 250 (USA 2020) | C12: =Data!AA114 -> 60.511138 | D12: =Data!AB114 -> 67.793842 | E12: =Data!AA52 -> 4700 | F12: =Data!AC114 -> 69.32783 | G12: =B12 -> Yamaha XT 250 (USA 2020) | H12: =Data!D114 -> 34.513424 | I12: =Data!Q114 -> 78.558041 | J12: =Data!S114 -> 64.516129 | K12: =Data!V114 -> 64.649682 | L12: =Data!Y114 -> 96.774194 | M12: =Data!Z114 -> 45.16129 | N12: =Data!AD114 -> Yamaha XT 250 (USA 2020) | O12: =Data!AE114
A13: 20 | B13: =Data!A93 -> KTM 390 Adventure | C13: =Data!AA93 -> 65.386661 | D13: =Data!AB93 -> 67.778147 | E13: =Data!AA31 -> 6195 | F13: =Data!AC93 -> 91.401141 | G13: =B13 -> KTM 390 Adventure | H13: =Data!D93 -> 56.879646 | I13: =Data!Q93 -> 62.341772 | J13: =Data!S93 -> 81.854839 | K13: =Data!V93 -> 55.254777 | L13: =Data!Y93 -> 85.714286 | M13: =Data!Z93 -> 59.183673 | N13: =Data!AD93 -> KTM 390 Adventure | O13: =Data!AE93
A14: 11 | B14: =Data!A84 -> Honda NX4 Falcon | C14: =Data!AA84 -> 63.085228 | D14: =Data!AB84 -> 67.620944 | E14: =Data!AA22 -> 4600 | F14: =Data!AC84 -> 68.026261 | G14: =B14 -> Honda NX4 Falcon | H14: =Data!D84 -> 47.434165 | I14: =Data!Q84 -> 65.231788 | J14: =Data!S84 -> 62.5 | K14: =Data!V84 -> 66.082803 | L14: =Data!Y84 -> 85.714286 | M14: =Data!Z84 -> 61.22449 | N14: =Data!AD84 -> Honda NX4 Falcon | O14: =Data!AE84
A15: 12 | B15: =Data!A80 -> Honda CRF 250 Rally | C15: =Data!AA80 -> 62.673628 | D15: =Data!AB80 -> 67.614145 | E15: =Data!AA18 -> 6500 | F15: =Data!AC80 -> 96.133731 | G15: =B15 -> Honda CRF 250 Rally | H15: =Data!D80 -> 42.874646 | I15: =Data!Q80 -> 65.586869 | J15: =Data!S80 -> 64.112903 | K15: =Data!V80 -> 82.006369 | L15: =Data!Y80 -> 92.307692 | M15: =Data!Z80 -> 44.395604 | N15: =Data!AD80 -> Honda CRF 250 Rally | O15: =Data!AE80
A16: 14 | B16: =Data!A95 -> KTM 690 Enduro R | C16: =Data!AA95 -> 67.918542 | D16: =Data!AB95 -> 67.345257 | E16: =Data!AA33 -> 10800 | F16: =Data!AC95 -> 160.36764 | G16: =B16 -> KTM 690 Enduro R | H16: =Data!D95 -> 74.261066 | I16: =Data!Q95 -> 67.465753 | J16: =Data!S95 -> 78.629032 | K16: =Data!V95 -> 79.617834 | L16: =Data!Y95 -> 71.428571 | M16: =Data!Z95 -> 45.918367 | N16: =Data!AD95 -> KTM 690 Enduro R | O16: =Data!AE95
A17: 15 | B17: =Data!A100 -> Royal Enfield Himalayan (BS VI) | C17: =Data!AA100 -> 62.028058 | D17: =Data!AB100 -> 67.297538 | E17: =Data!AA38 -> 4700 | F17: =Data!AC100 -> 69.839108 | G17: =B17 -> Royal Enfield Himalayan (BS VI) | H17: =Data!D100 -> 42.443734 | I17: =Data!Q100 -> 53.243243 | J17: =Data!S100 -> 72.580645 | K17: =Data!V100 -> 60.509554 | L17: =Data!Y100 -> 90.909091 | M17: =Data!Z100 -> 64.935065 | N17: =Data!AD100 -> Royal Enfield Himalayan (BS VI) | O17: =Data!AE100
A18: 16 | B18: =Data!A83 -> Honda NX 250 Dominator (MD21) | C18: =Data!AA83 -> 61.638708 | D18: =Data!AB83 -> 67.018471 | E18: =Data!AA21 | F18: =Data!AC83 | G18: =B18 -> Honda NX 250 Dominator (MD21) | H18: =Data!D83 -> 43.723732 | I18: =Data!Q83 -> 83.474576 | J18: =Data!S83 -> 72.580645 | K18: =Data!V83 -> 66.878981 | L18: =Data!Y83 -> 88.235294 | M18: =Data!Z83 -> 37.815126 | N18: =Data!AD83 -> Honda NX 250 Dominator (MD21) | O18: =Data!AE83
A19: 17 | B19: =Data!A96 -> KTM 790 Adventure S | C19: =Data!AA96 -> 68.448425 | D19: =Data!AB96 -> 66.508075 | E19: =Data!AA34 -> 10500 | F19: =Data!AC96 -> 157.87557 | G19: =B19 -> KTM 790 Adventure S | H19: =Data!D96 -> 83.578072 | I19: =Data!Q96 -> 52.116402 | J19: =Data!S96 -> 96.774194 | K19: =Data!V96 -> 63.694268 | L19: =Data!Y96 -> 65.217391 | M19: =Data!Z96 -> 62.111801 | N19: =Data!AD96 -> KTM 790 Adventure S | O19: =Data!AE96
A20: 18 | B20: =Data!A86 -> Honda CB 500 X | C20: =Data!AA86 -> 64.043886 | D20: =Data!AB86 -> 65.755491 | E20: =Data!AA24 -> 6990 | F20: =Data!AC86 -> 106.30291 | G20: =B20 -> Honda CB 500 X | H20: =Data!D86 -> 59.408853 | I20: =Data!Q86 -> 55.337079 | J20: =Data!S86 -> 74.596774 | K20: =Data!V86 -> 45.382166 | L20: =Data!Y86 -> 88.235294 | M20: =Data!Z86 -> 74.369748 | N20: =Data!AD86 -> Honda CB 500 X | O20: =Data!AE86
A21: 19 | B21: =Data!A122 -> Zontes 310-T2 | C21: =Data!AA122 -> 62.618724 | D21: =Data!AB122 -> 65.577389 | E21: =Data!AA60 -> 4990 | F21: =Data!AC122 -> 76.093301 | G21: =B21 -> Zontes 310-T2 | H21: =Data!D122 -> 50.729966 | I21: =Data!Q122 -> 66.107383 | J21: =Data!S122 -> 64.516129 | K21: =Data!V122 -> 57.324841 | L21: =Data!Y122 -> 83.333333 | M21: =Data!Z122 -> 59.52381 | N21: =Data!AD122 -> Zontes 310-T2 | O21: =Data!AE122
A22: 21 | B22: =Data!A90 -> Kawasaki KLX 250 | C22: =Data!AA90 -> 60.347718 | D22: =Data!AB90 -> 65.367069 | E22: =Data!AA28 -> 5000 | F22: =Data!AC90 -> 76.491115 | G22: =B22 -> Kawasaki KLX 250 | H22: =Data!D90 -> 40.219983 | I22: =Data!Q90 -> 74.17029 | J22: =Data!S90 -> 72.983871 | K22: =Data!V90 -> 77.229299 | L22: =Data!Y90 -> 88.235294 | M22: =Data!Z90 -> 32.352941 | N22: =Data!AD90 -> Kawasaki KLX 250 | O22: =Data!AE90
A23: 22 | B23: =Data!A102 -> Suzuki DR-Z400S (USA 2020) | C23: =Data!AA102 -> 62.827243 | D23: =Data!AB102 -> 65.25338 | E23: =Data!AA40 -> 6200 | F23: =Data!AC102 -> 95.014236 | G23: =B23 -> Suzuki DR-Z400S (USA 2020) | H23: =Data!D102 -> 54.232614 | I23: =Data!Q102 -> 74.621212 | J23: =Data!S102 -> 77.016129 | K23: =Data!V102 -> 92.993631 | L23: =Data!Y102 -> 68.181818 | M23: =Data!Z102 -> 32.467532 | N23: =Data!AD102 -> Suzuki DR-Z400S (USA 2020) | O23: =Data!AE102
A24: 23 | B24: =Data!A78 -> Fantic Caballero Rally 500 | C24: =Data!AA78 -> 62.608861 | D24: =Data!AB78 -> 64.689888 | E24: =Data!AA16 -> 7190 | F24: =Data!AC78 -> 111.14566 | G24: =B24 -> Fantic Caballero Rally 500 | H24: =Data!D78 -> 54.232614 | I24: =Data!Q78 -> 65.666667 | J24: =Data!S78 -> 64.516129 | K24: =Data!V78 -> 63.694268 | L24: =Data!Y78 -> 85.714286 | M24: =Data!Z78 -> 48.979592 | N24: =Data!AD78 -> Fantic Caballero Rally 500 | O24: =Data!AE78
A25: 24 | B25: =Data!A119 -> Yamaha XT 660 R | C25: =Data!AA119 -> 63.001764 | D25: =Data!AB119 -> 64.359364 | E25: =Data!AA57 | F25: =Data!AC119 | G25: =B25 -> Yamaha XT 660 R | H25: =Data!D119 -> 59.408853 | I25: =Data!Q119 -> 59.69697 | J25: =Data!S119 -> 75 | K25: =Data!V119 -> 67.675159 | L25: =Data!Y119 -> 71.428571 | M25: =Data!Z119 -> 51.020408 | N25: =Data!AD119 -> Yamaha XT 660 R
A26: 25 | B26: =Data!A69 -> BMW G 650 GS Sertao | C26: =Data!AA69 -> 63.084031 | D26: =Data!AB69 -> 64.353423 | E26: =Data!AA7 -> 8050 | F26: =Data!AC69 -> 125.09047 | G26: =B26 -> BMW G 650 GS Sertao | H26: =Data!D69 -> 59.408853 | I26: =Data!Q69 -> 54.120879 | J26: =Data!S69 -> 73.387097 | K26: =Data!V69 -> 66.878981 | L26: =Data!Y69 -> 78.947368 | M26: =Data!Z69 -> 52.631579 | N26: =Data!AD69 -> BMW G 650 GS Sertao | O26: =Data!AE69
A27: 26 | B27: =Data!A108 -> Triumph Tiger 900 Rally | C27: =Data!AA108 -> 66.568188 | D27: =Data!AB108 -> 64.264275 | E27: =Data!AA46 -> 12000 | F27: =Data!AC108 -> 186.72894 | G27: =B27 -> Triumph Tiger 900 Rally | H27: =Data!D108 -> 83.666003 | I27: =Data!Q108 -> 50.255102 | J27: =Data!S108 -> 91.935484 | K27: =Data!V108 -> 74.840764 | L27: =Data!Y108 -> 57.692308 | M27: =Data!Z108 -> 54.945055 | N27: =Data!AD108 -> Triumph Tiger 900 Rally | O27: =Data!AE108
A28: 27 | B28: =Data!A79 -> Honda CRF 250 L | C28: =Data!AA79 -> 60.131541 | D28: =Data!AB79 -> 64.231933 | E28: =Data!AA17 -> 5600 | F28: =Data!AC79 -> 87.184049 | G28: =B28 -> Honda CRF 250 L | H28: =Data!D79 -> 42.874646 | I28: =Data!Q79 -> 69.956144 | J28: =Data!S79 -> 64.112903 | K28: =Data!V79 -> 78.025478 | L28: =Data!Y79 -> 92.307692 | M28: =Data!Z79 -> 33.846154 | N28: =Data!AD79 -> Honda CRF 250 L | O28: =Data!AE79
A29: 28 | B29: =Data!A121 -> Yamaha XT 660 Z Ténéré ABS | C29: =Data!AA121 -> 62.424837 | D29: =Data!AB121 -> 63.91546 | E29: =Data!AA59 -> 8195 | F29: =Data!AC121 -> 128.21624 | G29: =B29 -> Yamaha XT 660 Z Ténéré ABS | H29: =Data!D121 -> 59.408853 | I29: =Data!Q121 -> 51.302083 | J29: =Data!S121 -> 76.612903 | K29: =Data!V121 -> 48.566879 | L29: =Data!Y121 -> 71.428571 | M29: =Data!Z121 -> 78.231293 | N29: =Data!AD121 -> Yamaha XT 660 Z Ténéré ABS | O29: =Data!AE121
